BEGIN:VCALENDAR
VERSION:2.0
PRODID:IEEE vTools.Events//EN
CALSCALE:GREGORIAN
BEGIN:VTIMEZONE
TZID:America/New_York
BEGIN:DAYLIGHT
DTSTART:20250309T030000
TZOFFSETFROM:-0500
TZOFFSETTO:-0400
RRULE:FREQ=YEARLY;BYDAY=2SU;BYMONTH=3
TZNAME:EDT
END:DAYLIGHT
BEGIN:STANDARD
DTSTART:20241103T010000
TZOFFSETFROM:-0400
TZOFFSETTO:-0500
RRULE:FREQ=YEARLY;BYDAY=1SU;BYMONTH=11
TZNAME:EST
END:STANDARD
END:VTIMEZONE
BEGIN:VEVENT
DTSTAMP:20250115T173819Z
UID:573C8FF5-81F8-4FBD-8D9C-5C1E7660D118
DTSTART;TZID=America/New_York:20250114T183000
DTEND;TZID=America/New_York:20250114T203000
DESCRIPTION:2025 MELBOURNE SECTION MEETING 2025\n\n&quot;THE MARKETS TODAY FOR 2
 025 OUTLOOK&quot;\n\nALSO: &quot;HOW TO SAVE &amp; FINANCIALLY PLAN IN A TAX ADVANTAGED 
 WAY&quot;\n\n[]\n\nCo-sponsored by: Earl MacDonald  earlmac11@gmail.com\n\nSpea
 ker(s): Liz\, \n\nAgenda: \n630 - 645pm Arrival/Light Dinner (SURPRISE MEN
 U!!)\n\n645 - 715pm Excom Meeting - Catch up on the Melbourne Section for 
 2024 &amp; Start planning 2025\n\n715 - 830pm Financial Presentation and Q&amp;A\n
 \nBldg: Moose Lodge #1406\, 157 Dayton Blvd.\, Off of 192\, West side of T
 arget\, Just south of Wickham\, Melbourne\, Florida\, United States\, 3290
 1
LOCATION:Bldg: Moose Lodge #1406\, 157 Dayton Blvd.\, Off of 192\, West sid
 e of Target\, Just south of Wickham\, Melbourne\, Florida\, United States\
 , 32901
ORGANIZER:
SEQUENCE:63
SUMMARY:MELBOURNE SECTION 2025 EXCOM MEETING -- PLUS: &#39;2025 FINANCIAL MARKE
 T AND BEYOND&#39;
URL;VALUE=URI:https://events.vtools.ieee.org/m/453935
X-ALT-DESC:Description: &lt;br /&gt;&lt;p style=&quot;text-align: center\;&quot;&gt;&lt;span style=&quot;
 color: #3598db\; font-size: 14pt\;&quot;&gt;&lt;strong&gt;&lt;span style=&quot;color: #e03e2d\; 
 font-size: 18pt\;&quot;&gt;2025&amp;nbsp\; MELBOURNE SECTION MEETING&amp;nbsp\; 2025&lt;/span
 &gt;&lt;/strong&gt;&lt;/span&gt;&lt;/p&gt;\n&lt;p style=&quot;text-align: center\;&quot;&gt;&lt;span style=&quot;color:
  rgb(53\, 152\, 219)\; font-size: 14pt\; background-color: rgb(236\, 240\,
  241)\;&quot;&gt;&lt;strong&gt;&lt;span style=&quot;font-size: 18pt\; background-color: rgb(236\
 , 240\, 241)\;&quot;&gt;&quot;THE MARKETS TODAY FOR 2025 OUTLOOK&quot;&lt;/span&gt;&lt;/strong&gt;&lt;/span
 &gt;&lt;/p&gt;\n&lt;p style=&quot;text-align: center\;&quot;&gt;&lt;span style=&quot;color: #3598db\; font-
 size: 14pt\;&quot;&gt;&lt;strong&gt;&lt;span style=&quot;color: #e03e2d\; font-size: 18pt\;&quot;&gt;ALS
 O: &quot;HOW TO SAVE &amp;amp\; FINANCIALLY PLAN IN A TAX ADVANTAGED WAY&quot;&lt;/span&gt;&lt;/s
 trong&gt;&lt;/span&gt;&lt;/p&gt;\n&lt;p style=&quot;text-align: center\;&quot;&gt;&lt;img src=&quot;https://event
 s.vtools.ieee.org/vtools_ui/media/display/63f59d17-d6fb-47bd-b813-1f33af40
 0869&quot; alt=&quot;&quot; width=&quot;392&quot; height=&quot;137&quot;&gt;&lt;/p&gt;&lt;br /&gt;&lt;br /&gt;Agenda: &lt;br /&gt;&lt;p&gt;&lt;st
 rong&gt;&lt;span style=&quot;font-size: 14pt\; color: #3598db\;&quot;&gt;630 - 645pm&amp;nbsp\; &amp;
 nbsp\; &amp;nbsp\; Arrival/Light Dinner (SURPRISE MENU!!)&lt;/span&gt;&lt;/strong&gt;&lt;/p&gt;\
 n&lt;p&gt;&lt;span style=&quot;color: rgb(224\, 62\, 45)\;&quot;&gt;&lt;strong&gt;&lt;span style=&quot;font-si
 ze: 14pt\;&quot;&gt;645 - 715pm&amp;nbsp\; &amp;nbsp\; &amp;nbsp\; Excom Meeting - Catch up on
  the Melbourne Section for 2024 &amp;amp\; Start planning 2025&amp;nbsp\;&lt;/span&gt;&lt;/
 strong&gt;&lt;/span&gt;&lt;/p&gt;\n&lt;p&gt;&lt;strong&gt;&lt;span style=&quot;font-size: 14pt\; color: #3598
 db\;&quot;&gt;715 - 830pm&amp;nbsp\; &amp;nbsp\; &amp;nbsp\; Financial Presentation and Q&amp;amp\
 ;A&lt;/span&gt;&lt;/strong&gt;&lt;/p&gt;\n&lt;p&gt;&amp;nbsp\;&lt;/p&gt;
END:VEVENT
END:VCALENDAR

