BEGIN:VCALENDAR
VERSION:2.0
PRODID:IEEE vTools.Events//EN
CALSCALE:GREGORIAN
BEGIN:VTIMEZONE
TZID:America/Los_Angeles
BEGIN:DAYLIGHT
DTSTART:20250309T030000
TZOFFSETFROM:-0800
TZOFFSETTO:-0700
RRULE:FREQ=YEARLY;BYDAY=2SU;BYMONTH=3
TZNAME:PDT
END:DAYLIGHT
BEGIN:STANDARD
DTSTART:20241103T010000
TZOFFSETFROM:-0700
TZOFFSETTO:-0800
RRULE:FREQ=YEARLY;BYDAY=1SU;BYMONTH=11
TZNAME:PST
END:STANDARD
END:VTIMEZONE
BEGIN:VEVENT
DTSTAMP:20250212T000435Z
UID:9749D5EB-8EA6-4D2F-B3CB-2F1B9BF3593D
DTSTART;TZID=America/Los_Angeles:20250124T160000
DTEND;TZID=America/Los_Angeles:20250126T180000
DESCRIPTION:The IEEE Seattle Section is teaming up with Bellevue College to
  host a Global Game Jam site.\n\nThe Global Game Jam® (GGJ®) is the worl
 d&#39;s largest game creation event taking place in physical locations across 
 the globe. Think of it as a 48 hour hackathon focused on game development 
 around a theme.\n\nTotal Count To Date\n439\,047+ Jammers\n89\,146+ Games 
 created\n132 Countries participated\n\nGGJ’s mission is to stimulate inn
 ovation\, experimentation\, and collaboration in games. This annual event 
 begins on Friday afternoon January 24th and ends Sunday afternoon January 
 26th.\n\nThe GGJ encourages collaboration and its events are not a competi
 tion. This event is open to the public.\n\nMore information is available a
 t the [Global Game Jam website](https://globalgamejam.org/)\, including ga
 mes from previous years\, and the [Bellevue College GGJ 25 Site](https://g
 lobalgamejam.org/jam-sites/2025/bellevue-college).\n\nPlease register toda
 y to get a seat\, Space is limited.\n\nParking is available across the str
 eet in Lot 14 using parking code ABBRPL.\n\n[Join IEEE](https://www.ieee.o
 rg/membership/join/index.html?WT.mc_id=hc_join)\n\nPLEASE ENSURE YOU ARE S
 IGNED UP BOTH HERE AND ON OUR GGJ SITE (Linked Above)\n\n[Bellevue College
  Flyer]\n\nCo-sponsored by: Bellevue College\, Global Game Jam\n\nAgenda: 
 \nFRIDAY\, January 24th\,\n\n4:00 PM\nRegistration\n\nWorkshops\n\n- Pixel
  Art\n- Photogrammetry (Jack Trotter)\n- Navigating a GGJ (Megan Davies)\n
 - Programming (James Riggal)\n- Audio (James Brooks)\n\n6:00 PM	Dinner and
  Welcome\n6:30 PM	Team Building and Idea Pitches\n8:00 PM	Adjourn\n\nSATUR
 DAY\, January 25\,\n\n9:00 AM\nTeam Jams (all day)\n\n- Mentors available\
 n- &quot;Stretch with Meg&quot;\n\n12:00 PM	Lunch\n5:00 PM	Dinner\n7:00 PM	Adjourn\n
 \nSUNDAY\, January 26\,\n\n8:00 AM\nTeam Jams (all day)\n\n12:00 PM	Lunch\
 n3:00 PM	Teams Upload Games to GGJ Site\n3:30 PM	Team Presentations\n5:45 
 PM	Wrap-Up\n6:00 PM	Adjourn\n\nBldg: Building N\, Bellevue College\, Coal 
 Creek Road\, Bellevue\, Washington\, United States\, 98007
LOCATION:Bldg: Building N\, Bellevue College\, Coal Creek Road\, Bellevue\,
  Washington\, United States\, 98007
ORGANIZER:swen@ieee.org 
SEQUENCE:55
SUMMARY:Join 439k Gamers worldwide to Create Exhilarating Games at the Glob
 al Game Jam 2025\, January 24-26
URL;VALUE=URI:https://events.vtools.ieee.org/m/453943
X-ALT-DESC:Description: &lt;br /&gt;&lt;p&gt;&amp;nbsp\;&lt;/p&gt;\n&lt;p&gt;&amp;nbsp\;&lt;/p&gt;\n&lt;p&gt;&lt;iframe sr
 c=&quot;https://www.youtube.com/embed/PPJGLTXfH6o&quot; width=&quot;560&quot; height=&quot;314&quot; all
 owfullscreen=&quot;allowfullscreen&quot;&gt;&lt;/iframe&gt;&lt;/p&gt;\n&lt;p&gt;&lt;span style=&quot;color: rgb(2
 24\, 62\, 45)\; font-size: 24pt\;&quot;&gt;&lt;strong&gt;The IEEE Seattle Section is tea
 ming up with Bellevue College to host a Global Game Jam site.&lt;/strong&gt;&lt;/sp
 an&gt;&lt;/p&gt;\n&lt;p&gt;&lt;span style=&quot;font-family: &#39;comic sans ms&#39;\, sans-serif\; font-
 size: 14pt\;&quot;&gt;The Global Game Jam&amp;reg\; (GGJ&amp;reg\;) is the world&#39;s largest
  game creation event taking place in physical locations across the globe. 
 Think of it as a 48 hour hackathon focused on game development around a th
 eme.&lt;/span&gt;&lt;/p&gt;\n&lt;p&gt;&lt;span style=&quot;font-family: &#39;comic sans ms&#39;\, sans-serif
 \; color: rgb(224\, 62\, 45)\; font-size: 14pt\;&quot;&gt;&lt;em&gt;&lt;strong style=&quot;box-s
 izing: inherit\; font-weight: bolder\; margin-bottom: 4px\; display: inlin
 e-block\; font-style: normal\; font-variant-ligatures: normal\; font-varia
 nt-caps: normal\; letter-spacing: normal\; text-align: left\; text-indent:
  0px\; text-transform: none\; word-spacing: 0px\; -webkit-text-stroke-widt
 h: 0px\; white-space: normal\; background-color: rgb(242\, 244\, 245)\;&quot;&gt;T
 otal Count To Date&lt;/strong&gt;&lt;/em&gt;&lt;/span&gt;&lt;br style=&quot;box-sizing: inherit\; co
 lor: rgb(73\, 89\, 111)\; font-family: &#39;Futura Book&#39;\, sans-serif\; font-s
 ize: 14px\; font-style: normal\; font-variant-ligatures: normal\; font-var
 iant-caps: normal\; font-weight: 400\; letter-spacing: normal\; orphans: 2
 \; text-align: left\; text-indent: 0px\; text-transform: none\; widows: 2\
 ; word-spacing: 0px\; -webkit-text-stroke-width: 0px\; white-space: normal
 \; background-color: rgb(242\, 244\, 245)\; text-decoration-thickness: ini
 tial\; text-decoration-style: initial\; text-decoration-color: initial\;&quot;&gt;
 &lt;span style=&quot;font-family: &#39;comic sans ms&#39;\, sans-serif\; color: rgb(224\, 
 62\, 45)\; font-size: 14pt\;&quot;&gt;&lt;em&gt;&lt;span style=&quot;font-variant-ligatures: nor
 mal\; font-variant-caps: normal\; font-weight: 400\; letter-spacing: norma
 l\; text-align: left\; text-indent: 0px\; text-transform: none\; word-spac
 ing: 0px\; -webkit-text-stroke-width: 0px\; white-space: normal\; backgrou
 nd-color: rgb(242\, 244\, 245)\; display: inline !important\; float: none\
 ;&quot;&gt;439\,047+ Jammers&lt;/span&gt;&lt;/em&gt;&lt;/span&gt;&lt;br style=&quot;box-sizing: inherit\; co
 lor: rgb(73\, 89\, 111)\; font-family: &#39;Futura Book&#39;\, sans-serif\; font-s
 ize: 14px\; font-style: normal\; font-variant-ligatures: normal\; font-var
 iant-caps: normal\; font-weight: 400\; letter-spacing: normal\; orphans: 2
 \; text-align: left\; text-indent: 0px\; text-transform: none\; widows: 2\
 ; word-spacing: 0px\; -webkit-text-stroke-width: 0px\; white-space: normal
 \; background-color: rgb(242\, 244\, 245)\; text-decoration-thickness: ini
 tial\; text-decoration-style: initial\; text-decoration-color: initial\;&quot;&gt;
 &lt;span style=&quot;font-family: &#39;comic sans ms&#39;\, sans-serif\; color: rgb(224\, 
 62\, 45)\; font-size: 14pt\;&quot;&gt;&lt;em&gt;&lt;span style=&quot;font-variant-ligatures: nor
 mal\; font-variant-caps: normal\; font-weight: 400\; letter-spacing: norma
 l\; text-align: left\; text-indent: 0px\; text-transform: none\; word-spac
 ing: 0px\; -webkit-text-stroke-width: 0px\; white-space: normal\; backgrou
 nd-color: rgb(242\, 244\, 245)\; display: inline !important\; float: none\
 ;&quot;&gt;89\,146+ Games created&amp;nbsp\;&lt;/span&gt;&lt;/em&gt;&lt;/span&gt;&lt;br style=&quot;box-sizing: 
 inherit\; color: rgb(73\, 89\, 111)\; font-family: &#39;Futura Book&#39;\, sans-se
 rif\; font-size: 14px\; font-style: normal\; font-variant-ligatures: norma
 l\; font-variant-caps: normal\; font-weight: 400\; letter-spacing: normal\
 ; orphans: 2\; text-align: left\; text-indent: 0px\; text-transform: none\
 ; widows: 2\; word-spacing: 0px\; -webkit-text-stroke-width: 0px\; white-s
 pace: normal\; background-color: rgb(242\, 244\, 245)\; text-decoration-th
 ickness: initial\; text-decoration-style: initial\; text-decoration-color:
  initial\;&quot;&gt;&lt;span style=&quot;font-family: &#39;comic sans ms&#39;\, sans-serif\; color
 : rgb(224\, 62\, 45)\; font-size: 14pt\;&quot;&gt;&lt;em&gt;&lt;span style=&quot;font-variant-li
 gatures: normal\; font-variant-caps: normal\; font-weight: 400\; letter-sp
 acing: normal\; text-align: left\; text-indent: 0px\; text-transform: none
 \; word-spacing: 0px\; -webkit-text-stroke-width: 0px\; white-space: norma
 l\; background-color: rgb(242\, 244\, 245)\; display: inline !important\; 
 float: none\;&quot;&gt;132 Countries participated&lt;/span&gt;&lt;/em&gt;&lt;/span&gt;&lt;/p&gt;\n&lt;p&gt;&lt;span
  style=&quot;font-family: &#39;comic sans ms&#39;\, sans-serif\; font-size: 14pt\;&quot;&gt;GGJ
 &amp;rsquo\;s mission is to stimulate innovation\, experimentation\, and colla
 boration in games. This annual event begins on Friday afternoon January 24
 th and ends Sunday afternoon January 26th.&lt;/span&gt;&lt;/p&gt;\n&lt;p&gt;&lt;span style=&quot;fon
 t-family: &#39;comic sans ms&#39;\, sans-serif\; font-size: 14pt\;&quot;&gt;The GGJ encour
 ages collaboration and its events are&amp;nbsp\;&lt;strong&gt;not a competition&lt;/str
 ong&gt;. This event is open to the public.&lt;/span&gt;&lt;/p&gt;\n&lt;p&gt;&lt;span style=&quot;font-f
 amily: &#39;comic sans ms&#39;\, sans-serif\; font-size: 14pt\;&quot;&gt;More information 
 is available at the &lt;a href=&quot;https://globalgamejam.org/&quot;&gt;Global Game Jam w
 ebsite&lt;/a&gt;\, including games from previous years\, and the &lt;a href=&quot;https:
 //globalgamejam.org/jam-sites/2025/bellevue-college&quot;&gt;Bellevue College GGJ 
 25 Site&lt;/a&gt;.&lt;/span&gt;&lt;/p&gt;\n&lt;p&gt;&amp;nbsp\;&lt;/p&gt;\n&lt;p&gt;&lt;span style=&quot;font-family: &#39;com
 ic sans ms&#39;\, sans-serif\; font-size: 14pt\;&quot;&gt;Please register today to get
  a seat\,&amp;nbsp\;&amp;nbsp\; Space is limited.&lt;/span&gt;&lt;/p&gt;\n&lt;p&gt;&lt;span style=&quot;font
 -family: &#39;comic sans ms&#39;\, sans-serif\; font-size: 14pt\;&quot;&gt;Parking is avai
 lable across the street in Lot 14 using parking code ABBRPL.&lt;/span&gt;&lt;/p&gt;\n&lt;
 p&gt;&amp;nbsp\;&lt;/p&gt;\n&lt;p&gt;&lt;span style=&quot;font-family: &#39;comic sans ms&#39;\, sans-serif\;
  font-size: 14pt\;&quot;&gt;&lt;span style=&quot;color: rgb(53\, 152\, 219)\;&quot;&gt;&lt;a style=&quot;c
 olor: rgb(53\, 152\, 219)\;&quot; href=&quot;https://www.ieee.org/membership/join/in
 dex.html?WT.mc_id=hc_join&quot;&gt;&amp;nbsp\;&lt;span style=&quot;color: rgb(35\, 111\, 161)\
 ;&quot;&gt;&lt;strong&gt;Join IEEE&amp;nbsp\;&lt;/strong&gt;&lt;/span&gt;&lt;/a&gt;&lt;br&gt;&lt;br&gt;&lt;br&gt;&lt;strong&gt;PLEASE 
 ENSURE YOU ARE SIGNED UP BOTH HERE AND ON OUR GGJ SITE (Linked Above)&lt;/str
 ong&gt;&lt;/span&gt;&lt;/span&gt;&lt;/p&gt;\n&lt;p&gt;&lt;img src=&quot;https://events.vtools.ieee.org/vtools
 _ui/media/display/e3654616-58b6-4082-9ee1-ade335d30a17&quot; alt=&quot;Bellevue Coll
 ege Flyer&quot; width=&quot;813&quot; height=&quot;1063&quot;&gt;&lt;/p&gt;&lt;br /&gt;&lt;br /&gt;Agenda: &lt;br /&gt;&lt;h2&gt;&lt;st
 rong&gt;FRIDAY\, January 24th\,&amp;nbsp\;&lt;br&gt;&lt;/strong&gt;&lt;/h2&gt;\n&lt;table style=&quot;borde
 r-collapse: collapse\; width: 42.0345%\; height: 287.984px\;&quot; border=&quot;1&quot;&gt;&lt;
 colgroup&gt;&lt;col style=&quot;width: 22.8561%\;&quot;&gt;&lt;col style=&quot;width: 77.1439%\;&quot;&gt;&lt;/c
 olgroup&gt;\n&lt;tbody&gt;\n&lt;tr style=&quot;height: 220.789px\;&quot;&gt;\n&lt;td style=&quot;height: 22
 0.789px\;&quot;&gt;4:00 PM&lt;/td&gt;\n&lt;td style=&quot;height: 220.789px\;&quot;&gt;\n&lt;p&gt;Registration
 &lt;/p&gt;\n&lt;p&gt;Workshops&lt;/p&gt;\n&lt;ul&gt;\n&lt;li&gt;Pixel Art&lt;/li&gt;\n&lt;li&gt;Photogrammetry (Jack
  Trotter)&lt;/li&gt;\n&lt;li&gt;Navigating a GGJ (Megan Davies)&lt;/li&gt;\n&lt;li&gt;Programming 
 (James Riggal)&lt;/li&gt;\n&lt;li&gt;Audio (James Brooks)&lt;/li&gt;\n&lt;/ul&gt;\n&lt;/td&gt;\n&lt;/tr&gt;\n&lt;
 tr style=&quot;height: 22.3984px\;&quot;&gt;\n&lt;td style=&quot;height: 22.3984px\;&quot;&gt;6:00 PM&lt;/
 td&gt;\n&lt;td style=&quot;height: 22.3984px\;&quot;&gt;Dinner and Welcome&lt;/td&gt;\n&lt;/tr&gt;\n&lt;tr s
 tyle=&quot;height: 22.3984px\;&quot;&gt;\n&lt;td style=&quot;height: 22.3984px\;&quot;&gt;6:30 PM&lt;/td&gt;\
 n&lt;td style=&quot;height: 22.3984px\;&quot;&gt;Team Building and Idea Pitches&lt;/td&gt;\n&lt;/tr
 &gt;\n&lt;tr style=&quot;height: 22.3984px\;&quot;&gt;\n&lt;td style=&quot;height: 22.3984px\;&quot;&gt;8:00 
 PM&lt;/td&gt;\n&lt;td style=&quot;height: 22.3984px\;&quot;&gt;Adjourn&lt;/td&gt;\n&lt;/tr&gt;\n&lt;/tbody&gt;\n&lt;/
 table&gt;\n&lt;h2&gt;&amp;nbsp\;&lt;/h2&gt;\n&lt;h2&gt;&lt;strong&gt;SATURDAY\, January 25\,&amp;nbsp\;&lt;br&gt;&lt;/
 strong&gt;&lt;/h2&gt;\n&lt;table style=&quot;border-collapse: collapse\; width: 41.9386%\;&quot;
  border=&quot;1&quot;&gt;&lt;colgroup&gt;&lt;col style=&quot;width: 22.54%\;&quot;&gt;&lt;col style=&quot;width: 77.4
 6%\;&quot;&gt;&lt;/colgroup&gt;\n&lt;tbody&gt;\n&lt;tr&gt;\n&lt;td&gt;9:00 AM&lt;/td&gt;\n&lt;td&gt;\n&lt;p&gt;Team Jams (al
 l day)&lt;/p&gt;\n&lt;ul&gt;\n&lt;li&gt;Mentors available&lt;/li&gt;\n&lt;li&gt;&quot;Stretch with Meg&quot;&lt;/li&gt;\
 n&lt;/ul&gt;\n&lt;/td&gt;\n&lt;/tr&gt;\n&lt;tr&gt;\n&lt;td&gt;12:00 PM&lt;/td&gt;\n&lt;td&gt;Lunch&lt;/td&gt;\n&lt;/tr&gt;\n&lt;tr&gt;
 \n&lt;td&gt;5:00 PM&lt;/td&gt;\n&lt;td&gt;Dinner&lt;/td&gt;\n&lt;/tr&gt;\n&lt;tr&gt;\n&lt;td&gt;7:00 PM&lt;/td&gt;\n&lt;td&gt;Ad
 journ&lt;/td&gt;\n&lt;/tr&gt;\n&lt;/tbody&gt;\n&lt;/table&gt;\n&lt;p&gt;&amp;nbsp\;&lt;/p&gt;\n&lt;h2&gt;&lt;strong&gt;SUNDAY\
 , January 26\,&amp;nbsp\;&lt;br&gt;&lt;/strong&gt;&lt;/h2&gt;\n&lt;table style=&quot;border-collapse: co
 llapse\; width: 41.9386%\;&quot; border=&quot;1&quot;&gt;&lt;colgroup&gt;&lt;col style=&quot;width: 22.54%
 \;&quot;&gt;&lt;col style=&quot;width: 77.46%\;&quot;&gt;&lt;/colgroup&gt;\n&lt;tbody&gt;\n&lt;tr&gt;\n&lt;td&gt;8:00 AM&lt;/
 td&gt;\n&lt;td&gt;\n&lt;p&gt;Team Jams (all day)&lt;/p&gt;\n&lt;/td&gt;\n&lt;/tr&gt;\n&lt;tr&gt;\n&lt;td&gt;12:00 PM&lt;/t
 d&gt;\n&lt;td&gt;Lunch&lt;/td&gt;\n&lt;/tr&gt;\n&lt;tr&gt;\n&lt;td&gt;3:00 PM&lt;/td&gt;\n&lt;td&gt;Teams Upload Games 
 to GGJ Site&lt;/td&gt;\n&lt;/tr&gt;\n&lt;tr&gt;\n&lt;td&gt;3:30 PM&lt;/td&gt;\n&lt;td&gt;Team Presentations&lt;/t
 d&gt;\n&lt;/tr&gt;\n&lt;tr&gt;\n&lt;td&gt;5:45 PM&lt;/td&gt;\n&lt;td&gt;Wrap-Up&lt;/td&gt;\n&lt;/tr&gt;\n&lt;tr&gt;\n&lt;td&gt;6:00
  PM&lt;/td&gt;\n&lt;td&gt;Adjourn&lt;/td&gt;\n&lt;/tr&gt;\n&lt;/tbody&gt;\n&lt;/table&gt;\n&lt;p&gt;&amp;nbsp\;&lt;/p&gt;
END:VEVENT
END:VCALENDAR

