BEGIN:VCALENDAR
VERSION:2.0
PRODID:IEEE vTools.Events//EN
CALSCALE:GREGORIAN
BEGIN:VTIMEZONE
TZID:Asia/Riyadh
BEGIN:DAYLIGHT
DTSTART:20380119T061407
TZOFFSETFROM:+0300
TZOFFSETTO:+0300
RRULE:FREQ=YEARLY;BYDAY=3TU;BYMONTH=1
TZNAME:+03
END:DAYLIGHT
BEGIN:STANDARD
DTSTART:19470313T235308
TZOFFSETFROM:+0306
TZOFFSETTO:+0300
RRULE:FREQ=YEARLY;BYDAY=2TH;BYMONTH=3
TZNAME:+03
END:STANDARD
END:VTIMEZONE
BEGIN:VEVENT
DTSTAMP:20250201T151222Z
UID:B30F5BB3-3680-4571-AD96-692BF03156FB
DTSTART;TZID=Asia/Riyadh:20241227T180000
DTEND;TZID=Asia/Riyadh:20241227T200000
DESCRIPTION:Join us for an insightful cybersecurity Workshop Report hosted 
 at the Tuned Application Company. This event is tailored for students who 
 want to learn blue team defense techniques \,tools like SIEM and malware p
 revention. The workshop will provide a hands-on experience and expert insi
 ghts in the field cybersecurity .\n\nWe look forward to seeing you at the 
 workshop!\n\n[]\n\nCo-sponsored by: aisha alfaori \n\nAgenda: \nWelcome an
 d Introduction (6:00 PM - 6:10 PM)\nBrief opening remarks and overview of 
 the workshop.\n\nSession 1: cybersecurity Essentials (6:10 PM - 6:40 PM)\n
 Key practices for efficient database management.\n\nSession 2: cybersecuri
 ty skills SIEM and malware prevention (6:40 PM - 7:10 PM)\n\nSession 3: bl
 ue teams defense (7:10 PM - 7:40 PM)\nInsights into Oracle’s analytical 
 capabilities for data-driven decisions.\n\nQ&amp;A and Networking (7:40 PM - 8
 :00 PM)\nEngage with the speaker and fellow participants to discuss ideas 
 and challenges.\n\nVirtual: https://events.vtools.ieee.org/m/454861
LOCATION:Virtual: https://events.vtools.ieee.org/m/454861
ORGANIZER:aishaalfaori@ieee.org
SEQUENCE:74
SUMMARY:cybersecurity Workshop Report
URL;VALUE=URI:https://events.vtools.ieee.org/m/454861
X-ALT-DESC:Description: &lt;br /&gt;&lt;p&gt;Join us for an insightful &lt;strong&gt;&lt;span st
 yle=&quot;color: rgb(224\, 62\, 45)\;&quot;&gt;cybersecurity Workshop&lt;/span&gt;&lt;/strong&gt; R
 eport hosted at the &lt;strong&gt;&lt;span style=&quot;color: rgb(224\, 62\, 45)\;&quot;&gt;Tune
 d Application Company&lt;/span&gt;&lt;/strong&gt;. This event is tailored for students
  who want to &lt;span style=&quot;color: rgb(224\, 62\, 45)\;&quot;&gt;learn blue team def
 ense techniques&lt;/span&gt; \,&lt;span style=&quot;color: rgb(224\, 62\, 45)\;&quot;&gt;tools l
 ike SIEM and malware prevention&lt;/span&gt;. The workshop will provide a hands-
 on experience and expert insights in the field cybersecurity .&lt;/p&gt;\n&lt;p&gt;&lt;sp
 an style=&quot;color: rgb(224\, 62\, 45)\;&quot;&gt;&lt;strong&gt;We look forward to seeing y
 ou at the workshop!&lt;/strong&gt;&lt;/span&gt;&lt;/p&gt;\n&lt;p&gt;&lt;img src=&quot;https://events.vtool
 s.ieee.org/vtools_ui/media/display/350e6aca-2bcd-4d3d-87af-b5d8ae32c7a5&quot; a
 lt=&quot;&quot; width=&quot;489&quot; height=&quot;326&quot;&gt;&lt;/p&gt;&lt;br /&gt;&lt;br /&gt;Agenda: &lt;br /&gt;&lt;p&gt;Welcome an
 d Introduction (6:00 PM - 6:10 PM)&lt;br&gt;Brief opening remarks and overview o
 f the workshop.&lt;/p&gt;\n&lt;p&gt;Session 1: cybersecurity Essentials (6:10 PM - 6:4
 0 PM)&lt;br&gt;Key practices for efficient database management.&lt;/p&gt;\n&lt;p&gt;Session 
 2: cybersecurity skills SIEM and malware prevention (6:40 PM - 7:10 PM)&lt;/p
 &gt;\n&lt;p&gt;&lt;br&gt;Session 3: blue teams defense (7:10 PM - 7:40 PM)&lt;br&gt;Insights in
 to Oracle&amp;rsquo\;s analytical capabilities for data-driven decisions.&lt;/p&gt;\
 n&lt;p&gt;Q&amp;amp\;A and Networking (7:40 PM - 8:00 PM)&lt;br&gt;Engage with the speaker
  and fellow participants to discuss ideas and challenges.&lt;/p&gt;
END:VEVENT
END:VCALENDAR

