BEGIN:VCALENDAR
VERSION:2.0
PRODID:IEEE vTools.Events//EN
CALSCALE:GREGORIAN
BEGIN:VTIMEZONE
TZID:Africa/Cairo
BEGIN:DAYLIGHT
DTSTART:20240426T010000
TZOFFSETFROM:+0200
TZOFFSETTO:+0300
RRULE:FREQ=YEARLY;BYDAY=-1FR;BYMONTH=4
TZNAME:EEST
END:DAYLIGHT
BEGIN:STANDARD
DTSTART:20231026T230000
TZOFFSETFROM:+0300
TZOFFSETTO:+0200
RRULE:FREQ=YEARLY;BYDAY=-1TH;BYMONTH=10
TZNAME:EET
END:STANDARD
END:VTIMEZONE
BEGIN:VEVENT
DTSTAMP:20250213T074814Z
UID:1F523F95-3E3E-402C-B017-AAC75665F625
DTSTART;TZID=Africa/Cairo:20231102T100000
DTEND;TZID=Africa/Cairo:20231102T113000
DESCRIPTION:Opening Ceremony of Wireless Data-Rate Meter Using Deep Learnin
 g competition\nin this event\, the committee met the participating teams a
 nd explained the competition and the rules of the competition.\n\n[May be 
 an image of 13 people\, people studying and text]\n\nCo-sponsored by: Math
 Works\n\n2VFG+8Q7 Luai Shammout Auditorium princess sumaya university for 
 technology\, Amman\, Amman\, Jordan\, Jordan
LOCATION:2VFG+8Q7 Luai Shammout Auditorium princess sumaya university for t
 echnology\, Amman\, Amman\, Jordan\, Jordan
ORGANIZER:dema90zaidan@yahoo.com
SEQUENCE:17
SUMMARY:Wireless Data-Rate Meter Using Deep Learning Opening Ceremony
URL;VALUE=URI:https://events.vtools.ieee.org/m/454878
X-ALT-DESC:Description: &lt;br /&gt;&lt;p&gt;Opening Ceremony of Wireless Data-Rate Met
 er Using Deep Learning competition&lt;br&gt;in this event\, the committee met th
 e participating teams and explained the competition and the rules of the c
 ompetition.&lt;/p&gt;\n&lt;p&gt;&lt;img src=&quot;https://scontent.fadj1-1.fna.fbcdn.net/v/t39
 .30808-6/470176394_122190025298056116_8548061338645778286_n.jpg?stp=dst-jp
 g_s720x720_tt6&amp;amp\;_nc_cat=101&amp;amp\;ccb=1-7&amp;amp\;_nc_sid=127cfc&amp;amp\;_nc_
 ohc=4zLS6xPiaR8Q7kNvgFINeix&amp;amp\;_nc_zt=23&amp;amp\;_nc_ht=scontent.fadj1-1.fn
 a&amp;amp\;_nc_gid=AeRqoaEGSTMmzN6IbRQG-BA&amp;amp\;oh=00_AYDxkSzXUpTG0812KdyE9UaT
 QWZ-8iSFil77DXnl_hy_8A&amp;amp\;oe=676B85B4&quot; alt=&quot;May be an image of 13 people
 \, people studying and text&quot; width=&quot;536&quot; height=&quot;402&quot;&gt;&lt;/p&gt;
END:VEVENT
END:VCALENDAR

