BEGIN:VCALENDAR
VERSION:2.0
PRODID:IEEE vTools.Events//EN
CALSCALE:GREGORIAN
BEGIN:VTIMEZONE
TZID:Asia/Colombo
BEGIN:DAYLIGHT
DTSTART:20380119T084407
TZOFFSETFROM:+0530
TZOFFSETTO:+0530
RRULE:FREQ=YEARLY;BYDAY=3TU;BYMONTH=1
TZNAME:+0530
END:DAYLIGHT
BEGIN:STANDARD
DTSTART:20060415T000000
TZOFFSETFROM:+0600
TZOFFSETTO:+0530
RRULE:FREQ=YEARLY;BYDAY=3SA;BYMONTH=4
TZNAME:+0530
END:STANDARD
END:VTIMEZONE
BEGIN:VEVENT
DTSTAMP:20241223T094728Z
UID:09F63B70-23A6-4F67-92C5-CAC9AC2A2040
DTSTART;TZID=Asia/Colombo:20241220T190000
DTEND;TZID=Asia/Colombo:20241221T210000
DESCRIPTION:The IEEE WIE Student Branch Affinity Group\, SLIIT\, organized 
 an engaging webinar series titled Launchpad: A Webinar series on Content C
 reation. The event featured two renowned YouTubers: Mr. Malinda Alahakoon\
 , the owner of TechTrack\, and Mr. Pasindu Jayasinghe\, the founder of SL 
 Geek.\n\nSpeaker(s): Mr. Malinda Alahakoon \, Mr. Pasindu Jayasinghe \n\nV
 irtual: https://events.vtools.ieee.org/m/455415
LOCATION:Virtual: https://events.vtools.ieee.org/m/455415
ORGANIZER:sliit.ieee@gmail.com
SEQUENCE:14
SUMMARY:Launchpad &#39;24 
URL;VALUE=URI:https://events.vtools.ieee.org/m/455415
X-ALT-DESC:Description: &lt;br /&gt;&lt;p&gt;The IEEE WIE Student Branch Affinity Group
 \, SLIIT\, organized an engaging webinar series titled Launchpad: A Webina
 r series on Content Creation. The event featured two renowned YouTubers: M
 r. Malinda Alahakoon\, the owner of TechTrack\, and Mr. Pasindu Jayasinghe
 \, the founder of SL Geek.&amp;nbsp\;&lt;/p&gt;\n&lt;p&gt;&lt;img style=&quot;display: block\; mar
 gin-left: auto\; margin-right: auto\;&quot; src=&quot;https://events.vtools.ieee.org
 /vtools_ui/media/display/8ec82230-ddce-459d-aa86-d7d4fec93768&quot; width=&quot;407&quot;
  height=&quot;407&quot;&gt;&lt;/p&gt;
END:VEVENT
END:VCALENDAR

