BEGIN:VCALENDAR
VERSION:2.0
PRODID:IEEE vTools.Events//EN
CALSCALE:GREGORIAN
BEGIN:VTIMEZONE
TZID:US/Pacific
BEGIN:DAYLIGHT
DTSTART:20170312T030000
TZOFFSETFROM:-0800
TZOFFSETTO:-0700
RRULE:FREQ=YEARLY;BYDAY=2SU;BYMONTH=3
TZNAME:PDT
END:DAYLIGHT
BEGIN:STANDARD
DTSTART:20171105T010000
TZOFFSETFROM:-0700
TZOFFSETTO:-0800
RRULE:FREQ=YEARLY;BYDAY=1SU;BYMONTH=11
TZNAME:PST
END:STANDARD
END:VTIMEZONE
BEGIN:VEVENT
DTSTAMP:20170526T161207Z
UID:BD5BA277-3A8F-11E7-8752-0050568D2FB3
DTSTART;TZID=US/Pacific:20170727T170000
DTEND;TZID=US/Pacific:20170727T210000
DESCRIPTION:Come join us for an evening of great food and drink\, wonderful
  people in a casual atmosphere! IEEE Spokane Section is hosting an Aloha S
 ummer Party for our 2nd annual summer shindig! Spouses and significant oth
 ers\, along with current\, new or prospective (including student) members 
 and industry members are encouraged to attend!\n\nLast year was such a suc
 cess and we are looking forward at this year being even better! $10 contri
 bution will cover all your food and a couple of drink coupons. We will hav
 e a hosted bar with wine and beer from Overbluff and cider from One Tree C
 ider. Dinner will be Hawaiian entries and dessert! IEEE Spokane Section is
  honored to host this party and we are excited to see you!\n\nA presentati
 on of Section awards will be part of this enjoyable evening.\n\nFeel free 
 to dress festive!\n\nAll members are encouraged to come\, especially if yo
 u have not attended an IEEE event in a while. We have a few surprises in s
 tore this evening and a lot of really good things have happened in the las
 t year in our section that we would like to share with you.\n\nIf your com
 pany would like information to be a sponsor in this event\, please feel fr
 ee to contact us.\n\nSpeaker(s): \, \, \, \n\nAgenda: \n\n\nOverbluff Cell
 ars in the Historic Washington Cracker Building\, 304 W Pacific Ave\, Spok
 ane\, Washington\, United States\, 99201
LOCATION:Overbluff Cellars in the Historic Washington Cracker Building\, 30
 4 W Pacific Ave\, Spokane\, Washington\, United States\, 99201
ORGANIZER:asawyer@popud.org
SEQUENCE:7
SUMMARY:IEEE Spokane Section Summer PARTY
URL;VALUE=URI:https://events.vtools.ieee.org/m/45568
X-ALT-DESC:Description: &lt;br /&gt;&lt;p&gt;&lt;span style=&quot;color: #993300\; font-family:
  comic sans ms\,sans-serif\; font-size: 12pt\;&quot;&gt;Come join us for an evenin
 g of great food and drink\, wonderful people in a casual atmosphere!&amp;nbsp\
 ; IEEE Spokane Section is hosting an Aloha&amp;nbsp\;Summer Party for our 2nd 
 annual summer shindig!&amp;nbsp\; Spouses and significant others\, along with 
 current\, new or prospective (including student)&amp;nbsp\;&lt;span style=&quot;font-f
 amily: Comic Sans MS\;&quot;&gt;members &lt;/span&gt;and industry members are encouraged
  to attend!&amp;nbsp\; &lt;/span&gt;&lt;/p&gt;\n&lt;p&gt;&lt;span style=&quot;color: #993300\; font-fami
 ly: comic sans ms\,sans-serif\; font-size: 12pt\;&quot;&gt;Last year was such a su
 ccess and we are looking forward&amp;nbsp\;at this year being even better!&amp;nbs
 p\; $10 contribution&amp;nbsp\;will cover all your food and a couple of drink 
 coupons.&amp;nbsp\; &lt;span style=&quot;font-family: comic sans ms\,sans-serif\; font
 -size: 12pt\;&quot;&gt;We will have a hosted bar with wine and beer&amp;nbsp\;from Ove
 rbluff and cider from One Tree Cider.&amp;nbsp\;&amp;nbsp\;Dinner will be Hawaiian
  entries and dessert!&lt;/span&gt; &amp;nbsp\;IEEE Spokane Section is honored to hos
 t this party and we are excited to see you!&lt;/span&gt;&lt;/p&gt;\n&lt;p&gt;&lt;span style=&quot;co
 lor: #993300\; font-family: comic sans ms\,sans-serif\; font-size: 12pt\;&quot;
 &gt;A presentation of Section awards will be part of this&amp;nbsp\;enjoyable eve
 ning.&lt;/span&gt;&lt;/p&gt;\n&lt;p&gt;&lt;span style=&quot;color: #993300\; font-family: comic sans
  ms\,sans-serif\; font-size: 12pt\;&quot;&gt;Feel free to dress festive!&amp;nbsp\; &lt;/
 span&gt;&lt;/p&gt;\n&lt;p&gt;&lt;span style=&quot;color: #993300\; font-family: comic sans ms\,sa
 ns-serif\; font-size: 12pt\;&quot;&gt;All members are encouraged to come\, especia
 lly if you have not attended an IEEE event in a while.&amp;nbsp\; We have a fe
 w surprises in store this evening and&amp;nbsp\;a lot of really good things&amp;nb
 sp\;have happened in the last year in our section that we would like to sh
 are with you.&lt;/span&gt;&lt;/p&gt;\n&lt;p&gt;&amp;nbsp\;&lt;/p&gt;\n&lt;p&gt;&amp;nbsp\;&lt;/p&gt;\n&lt;p&gt;&lt;span style=&quot;
 font-family: comic sans ms\,sans-serif\; font-size: 12pt\;&quot;&gt;&amp;nbsp\;&amp;nbsp\;
  &lt;/span&gt;&lt;/p&gt;\n&lt;p&gt;&amp;nbsp\;&lt;/p&gt;\n&lt;p&gt;&lt;span style=&quot;font-family: comic sans ms\,
 sans-serif\; font-size: 10pt\;&quot;&gt;If your company would like information to 
 be a sponsor&amp;nbsp\;in this event\, please feel free to contact us.&lt;/span&gt;&lt;
 /p&gt;\n&lt;p&gt;&amp;nbsp\;&lt;/p&gt;&lt;br /&gt;&lt;br /&gt;Agenda: &lt;br /&gt;&lt;p&gt;&lt;span style=&quot;font-family: 
 comic sans ms\,sans-serif\; font-size: 12pt\;&quot;&gt;&amp;nbsp\;&lt;/span&gt;&lt;/p&gt;
END:VEVENT
END:VCALENDAR

