BEGIN:VCALENDAR
VERSION:2.0
PRODID:IEEE vTools.Events//EN
CALSCALE:GREGORIAN
BEGIN:VTIMEZONE
TZID:US/Eastern
BEGIN:DAYLIGHT
DTSTART:20170312T030000
TZOFFSETFROM:-0500
TZOFFSETTO:-0400
RRULE:FREQ=YEARLY;BYDAY=2SU;BYMONTH=3
TZNAME:EDT
END:DAYLIGHT
BEGIN:STANDARD
DTSTART:20171105T010000
TZOFFSETFROM:-0400
TZOFFSETTO:-0500
RRULE:FREQ=YEARLY;BYDAY=1SU;BYMONTH=11
TZNAME:EST
END:STANDARD
END:VTIMEZONE
BEGIN:VEVENT
DTSTAMP:20170522T212957Z
UID:814A1953-3BED-11E7-8752-0050568D2FB3
DTSTART;TZID=US/Eastern:20170605T190000
DTEND;TZID=US/Eastern:20170605T204500
DESCRIPTION:Daniel Tobias\, a recent B.S Comp Eng graduate from NCA&amp;T will 
 present about his senior design project &quot;Cherry Autonomous Racecar - 1/10t
 h scale Nvidia Jetson TX1 based RC car.&quot;\n\nThe Cherry Autonomous Racecar 
 (CAR) was a senior design project created this past year at NC A&amp;T. The go
 al of the project was to create a low cost robotics platform that could be
  used to teach\, design and validate different approaches to autonomous dr
 iving\, while implementing similar sensors used in the industry.\n\nTalk b
 reakdown: The presentation will be a categorized in three parts.\n\nThe fi
 rst will be related to the sensor suite that the project is using along wi
 th an summary of what each sensor is able to do. The main idea is to talk 
 about the performance of each sensor and the hardships that were faced imp
 lementing each sensor so that others could avoid making the same mistakes.
  Then talk about the trade-offs of similar sensors.\n\nThe second part wil
 l talk about the software\, specifically the ROS network and the Tensorflo
 w implementation of End to End learning for Self-Driving Cars that is bein
 g used to drive the CAR autonomously around the hallways of A&amp;T.\n\nThe la
 st part will be about similar projects from other universities\, and suppo
 rt surrounding the Jetson board.\n\nThis will be followed by a 5-10 mins Q
 &amp;A.\n\nSpeaker Information\n\nDaniel Tobias recently Graduated from NCA&amp;TS
 U with a B.S. Comp. Eng.\n\nCurrently Studying for the GRE\, taking the Ud
 acity&#39;s Self-Driving Nanodegree course and working on the GM AutoDrive Cha
 llenge.\n\nIEEE ENCS RA24 chapter appreciates the passion and drive from D
 aniel towards the project and wishes all the very best to his career &amp; lif
 e.\n\nIEEE ENCS RA24 chapter recommends engineers and professionals to mak
 e use of 50% IEEE membership discount for the year\, make use of the caree
 r\, research and colloboration opportunites from this great science instit
 ution.\n\nSpeaker(s): \, \, \, \n\nAgenda: \n6:20-7:00pm Networking with p
 izza and soda\n\nThe times below are approximate and are given just as a g
 uideline:\n\n7:00-7:20pm IEEE ENCS RA24 next scale action plans\, news and
  announcements\n\n7:20-7:45pm Daniel Tobias will present about his interes
 ting topic Cherry Autonomous Racecar project\, highlighting the sensors &amp; 
 hardware design\, software architecture and similar projects\n\n7:45-8:00p
 m Brief Q/A from IEEE hobbyists and professionals\n\n8:00-8:15pm Mahesh wi
 ll present a brief survey results of current prominent opensource resource
 s related to robotics and humanoid system architectures. This can be a sta
 rting point of extra ENCS RA24 activities to foster better R&amp;A design task
 s in local community.\n\n8:15-8:40pm Show-n-Tell (if interested\, bring ou
 t your projects to show to other club members)\n\nRoom: 2201\, Bldg: Engin
 eering Building 3 (EB3)\, 911 Partners Way\, Raleigh\, North Carolina\, Un
 ited States\, 27606
LOCATION:Room: 2201\, Bldg: Engineering Building 3 (EB3)\, 911 Partners Way
 \, Raleigh\, North Carolina\, United States\, 27606
ORGANIZER:mbalasu@ncsu.edu
SEQUENCE:7
SUMMARY:Cherry Autonomous Racecar - 1/10th scale Nvidia Jetson TX1 based RC
  car
URL;VALUE=URI:https://events.vtools.ieee.org/m/45587
X-ALT-DESC:Description: &lt;br /&gt;&lt;p&gt;&lt;strong&gt;&lt;span style=&quot;font-size: 10pt\;&quot;&gt;Da
 niel Tobias\, &lt;/span&gt;&lt;/strong&gt;&lt;span style=&quot;font-size: 10pt\;&quot;&gt;a recent B.S
  Comp Eng graduate from NCA&amp;amp\;T will present about his senior design pr
 oject&lt;/span&gt;&lt;strong&gt;&lt;span style=&quot;font-size: 10pt\;&quot;&gt; &quot;Cherry Autonomous Ra
 cecar - 1/10th scale Nvidia Jetson TX1 based RC car.&quot;&lt;/span&gt;&lt;/strong&gt;&lt;/p&gt;\
 n&lt;p dir=&quot;ltr&quot;&gt;&lt;strong&gt;&lt;span style=&quot;font-size: 10pt\;&quot;&gt;The Cherry Autonomou
 s Racecar (CAR) was a senior design project created this past year at NC A
 &amp;amp\;T. The goal of the project was to create a low cost robotics platfor
 m that could be used to teach\, design and validate different approaches t
 o autonomous driving\, while implementing similar sensors used in the indu
 stry.&lt;/span&gt;&lt;/strong&gt;&lt;br /&gt;&lt;br /&gt;&lt;strong&gt;&lt;span style=&quot;font-size: 10pt\;&quot;&gt;T
 alk breakdown:&amp;nbsp\;&lt;/span&gt;&lt;/strong&gt;&lt;span style=&quot;font-size: 10pt\;&quot;&gt;The p
 resentation will be a categorized in three parts.&lt;/span&gt;&lt;br /&gt;&lt;br /&gt;&lt;span 
 style=&quot;font-size: 10pt\;&quot;&gt;The first will be related to&lt;/span&gt;&lt;strong&gt;&lt;span
  style=&quot;font-size: 10pt\;&quot;&gt; the sensor suite that the project is using alo
 ng with an summary of what each sensor is able to do.&amp;nbsp\; The main idea
  is to talk about the performance of each sensor and the hardships that we
 re faced implementing each sensor so that others could avoid making the sa
 me mistakes. Then talk about the trade-offs of similar sensors.&lt;/span&gt;&lt;/st
 rong&gt;&lt;/p&gt;\n&lt;p&gt;&lt;span style=&quot;font-size: 10pt\;&quot;&gt;The second part will talk ab
 out&lt;/span&gt;&lt;strong&gt;&lt;span style=&quot;font-size: 10pt\;&quot;&gt; the software\, specific
 ally the ROS network and the Tensorflow implementation of&amp;nbsp\;&lt;em&gt;End to
  End learning for Self-Driving Cars&amp;nbsp\;&lt;/em&gt;that is being used to drive
  the CAR autonomously around the hallways of A&amp;amp\;T.&amp;nbsp\;&lt;/span&gt;&lt;/stro
 ng&gt;&lt;br /&gt;&lt;br /&gt;&lt;span style=&quot;font-size: 10pt\;&quot;&gt;The last part will be about
 &lt;/span&gt;&lt;strong&gt;&lt;span style=&quot;font-size: 10pt\;&quot;&gt; similar projects from othe
 r universities\, and support surrounding the Jetson board.&lt;/span&gt;&lt;/strong&gt;
 &lt;/p&gt;\n&lt;p&gt;&lt;strong&gt;&lt;span style=&quot;font-size: 10pt\;&quot;&gt;This will be followed by 
 a 5-10 mins Q&amp;amp\;A.&lt;/span&gt;&lt;/strong&gt;&lt;/p&gt;\n&lt;p&gt;&amp;nbsp\;&lt;/p&gt;\n&lt;p&gt;&lt;span style=
 &quot;text-decoration: underline\;&quot;&gt;&lt;strong&gt;&lt;span style=&quot;font-size: 10pt\;&quot;&gt;Spe
 aker Information&lt;/span&gt;&lt;/strong&gt;&lt;/span&gt;&lt;/p&gt;\n&lt;p&gt;&lt;strong&gt;&lt;span style=&quot;font-
 size: 10pt\;&quot;&gt;Daniel Tobias recently Graduated from NCA&amp;amp\;TSU with a B.
 S. Comp. Eng.&lt;/span&gt;&lt;/strong&gt;&lt;/p&gt;\n&lt;p&gt;&lt;strong&gt;&lt;span style=&quot;font-size: 10pt
 \;&quot;&gt;Currently Studying for the GRE\, taking the Udacity&#39;s Self-Driving Nan
 odegree course and working on the GM AutoDrive Challenge.&lt;/span&gt;&lt;/strong&gt;&lt;
 /p&gt;\n&lt;p&gt;&lt;strong&gt;&lt;span style=&quot;font-size: 10pt\;&quot;&gt;IEEE ENCS RA24 chapter app
 reciates the passion and drive from Daniel towards the project and wishes 
 all the very best to his career &amp;amp\; life.&lt;/span&gt;&lt;/strong&gt;&lt;/p&gt;\n&lt;p&gt;&lt;span
  style=&quot;font-size: 13.3333px\;&quot;&gt;IEEE ENCS RA24 chapter recommends engineer
 s and professionals to make use of 50% IEEE membership discount for the ye
 ar\, make use of the career\, research and colloboration opportunites from
  this great science institution.&lt;/span&gt;&lt;/p&gt;&lt;br /&gt;&lt;br /&gt;Agenda: &lt;br /&gt;&lt;p&gt;6:
 20-7:00pm Networking with pizza and soda&lt;/p&gt;\n&lt;p&gt;The times below are appro
 ximate and are given just as a guideline:&lt;/p&gt;\n&lt;p&gt;7:00-7:20pm IEEE ENCS RA
 24 next scale action plans\, news and announcements&lt;/p&gt;\n&lt;p&gt;7:20-7:45pm &amp;n
 bsp\;Daniel Tobias will present about his interesting topic Cherry Autonom
 ous Racecar project\, highlighting the sensors &amp;amp\; hardware design\, so
 ftware architecture and similar projects&lt;strong&gt;&lt;br /&gt;&lt;/strong&gt;&lt;/p&gt;\n&lt;p&gt;7:
 45-8:00pm Brief Q/A from IEEE hobbyists and professionals&lt;/p&gt;\n&lt;p&gt;8:00-8:1
 5pm Mahesh will present a brief survey results of current prominent openso
 urce resources related to robotics and humanoid system architectures. &amp;nbs
 p\;This can be a starting point&amp;nbsp\;of extra ENCS RA24 activities to fos
 ter better R&amp;amp\;A design tasks in local community.&lt;/p&gt;\n&lt;p&gt;8:15-8:40pm&amp;n
 bsp\;Show-n-Tell (if interested\, bring out your projects to show to other
  club members)&lt;/p&gt;
END:VEVENT
END:VCALENDAR

