BEGIN:VCALENDAR
VERSION:2.0
PRODID:IEEE vTools.Events//EN
CALSCALE:GREGORIAN
BEGIN:VTIMEZONE
TZID:US/Eastern
BEGIN:DAYLIGHT
DTSTART:20250309T030000
TZOFFSETFROM:-0500
TZOFFSETTO:-0400
RRULE:FREQ=YEARLY;BYDAY=2SU;BYMONTH=3
TZNAME:EDT
END:DAYLIGHT
BEGIN:STANDARD
DTSTART:20251102T010000
TZOFFSETFROM:-0400
TZOFFSETTO:-0500
RRULE:FREQ=YEARLY;BYDAY=1SU;BYMONTH=11
TZNAME:EST
END:STANDARD
END:VTIMEZONE
BEGIN:VEVENT
DTSTAMP:20250313T230052Z
UID:52C94418-EEDB-4B87-8AD7-3A08CB2214C3
DTSTART;TZID=US/Eastern:20250310T183000
DTEND;TZID=US/Eastern:20250310T200000
DESCRIPTION:Monthly meeting of the IEEE Baltimore Section&#39;s executive commi
 ttee.\nThe meeting is open to all Section members.\n\nThis will only be in
  person at UMBC. A light dinner will be served for those coming directly f
 rom work.\n\nPark in the Commons Garage. Parking is free after 4:00 PM\n\n
 Speaker(s): Anuj\, \n\nRoom: 329\, Bldg: Commons\, UMBC\, Baltimore\, Mary
 land\, United States\, 21250
LOCATION:Room: 329\, Bldg: Commons\, UMBC\, Baltimore\, Maryland\, United S
 tates\, 21250
ORGANIZER:d.herres@ieee.org
SEQUENCE:12
SUMMARY:Baltimore Section Executive Committee (ExCom) Meeting\, 10 March 20
 25
URL;VALUE=URI:https://events.vtools.ieee.org/m/456282
X-ALT-DESC:Description: &lt;br /&gt;&lt;p&gt;Monthly meeting of the IEEE Baltimore Sect
 ion&#39;s executive committee.&lt;br&gt;The meeting is open to all Section members.&lt;
 /p&gt;\n&lt;p&gt;This will only be in person at UMBC.&amp;nbsp\; A light dinner will be
  served for those coming directly from work.&lt;/p&gt;\n&lt;p&gt;Park in the Commons G
 arage.&amp;nbsp\; Parking is free after 4:00 PM&lt;/p&gt;
END:VEVENT
END:VCALENDAR

