BEGIN:VCALENDAR
VERSION:2.0
PRODID:IEEE vTools.Events//EN
CALSCALE:GREGORIAN
BEGIN:VTIMEZONE
TZID:America/Bogota
BEGIN:DAYLIGHT
DTSTART:20380118T221407
TZOFFSETFROM:-0500
TZOFFSETTO:-0500
RRULE:FREQ=YEARLY;BYDAY=3MO;BYMONTH=1
TZNAME:-05
END:DAYLIGHT
BEGIN:STANDARD
DTSTART:19930206T230000
TZOFFSETFROM:-0400
TZOFFSETTO:-0500
RRULE:FREQ=YEARLY;BYDAY=1SA;BYMONTH=2
TZNAME:-05
END:STANDARD
END:VTIMEZONE
BEGIN:VEVENT
DTSTAMP:20241226T193258Z
UID:0B5891D0-176A-4985-B1D4-A713329C23FC
DTSTART;TZID=America/Bogota:20250205T090000
DTEND;TZID=America/Bogota:20250207T090000
DESCRIPTION:Primera reunión introductoria del semestre.\n\nRoom: Sala Ing
 énio\, Bldg: (11) José Gabriel Maldonado S.J. - Talleres\, Cra. 7 #40 - 
 62\, Bogota\, Distrito Capital de Bogota\, Colombia
LOCATION:Room: Sala Ingénio\, Bldg: (11) José Gabriel Maldonado S.J. - Ta
 lleres\, Cra. 7 #40 - 62\, Bogota\, Distrito Capital de Bogota\, Colombia
ORGANIZER:
SEQUENCE:0
SUMMARY:Reunion general inicial
URL;VALUE=URI:https://events.vtools.ieee.org/m/456414
X-ALT-DESC:Description: &lt;br /&gt;&lt;p&gt;Primera reuni&amp;oacute\;n introductoria del 
 semestre.&lt;/p&gt;
END:VEVENT
END:VCALENDAR

