BEGIN:VCALENDAR
VERSION:2.0
PRODID:IEEE vTools.Events//EN
CALSCALE:GREGORIAN
BEGIN:VTIMEZONE
TZID:Asia/Dhaka
BEGIN:DAYLIGHT
DTSTART:20380119T091407
TZOFFSETFROM:+0600
TZOFFSETTO:+0600
RRULE:FREQ=YEARLY;BYDAY=3TU;BYMONTH=1
TZNAME:+06
END:DAYLIGHT
BEGIN:STANDARD
DTSTART:20091231T230000
TZOFFSETFROM:+0700
TZOFFSETTO:+0600
RRULE:FREQ=YEARLY;BYDAY=-1TH;BYMONTH=12
TZNAME:+06
END:STANDARD
END:VTIMEZONE
BEGIN:VEVENT
DTSTAMP:20241229T144428Z
UID:31CE8DBA-8EC5-4BD5-B48E-BCB47F8BC966
DTSTART;TZID=Asia/Dhaka:20241209T133000
DTEND;TZID=Asia/Dhaka:20241209T160000
DESCRIPTION:[⚡] 𝐔𝐧𝐥𝐞𝐚𝐬𝐡 𝐭𝐡𝐞 𝐅𝐮𝐭
 𝐮𝐫𝐞 𝐨𝐟 𝐄𝐧𝐞𝐫𝐠𝐲 𝐢𝐧 𝐁𝐚𝐧𝐠
 𝐥𝐚𝐝𝐞𝐬𝐡! [⚡]\nJoin the Seminar on 𝐏𝐨𝐰𝐞𝐫
 𝐢𝐧𝐠 𝐁𝐚𝐧𝐠𝐥𝐚𝐝𝐞𝐬𝐡: 𝐄𝐱𝐩𝐥
 𝐨𝐫𝐢𝐧𝐠 𝐭𝐡𝐞 𝐓𝐞𝐜𝐡 𝐁𝐞𝐡𝐢𝐧
 𝐝 𝐆𝐞𝐧𝐞𝐫𝐚𝐭𝐢𝐨𝐧\, 𝐓𝐫𝐚𝐧𝐬𝐦
 𝐢𝐬𝐬𝐢𝐨𝐧\, 𝐚𝐧𝐝 𝐃𝐢𝐬𝐭𝐫𝐢𝐛𝐮
 𝐭𝐢𝐨𝐧.\n\n𝐎𝐫𝐠𝐚𝐧𝐢𝐳𝐞𝐝 𝐛𝐲: IEEE P
 ES IIUC SBC\n\n[🔍] Discover the Backbone of Bangladesh&#39;s Growth!\nStep 
 into the world of power systems\, where generation\, transmission\, and di
 stribution work in harmony to energize the nation. Learn from leading expe
 rts and unlock opportunities to contribute to Bangladesh’s energy revolu
 tion.\n\n[🎯] 𝐒𝐞𝐦𝐢𝐧𝐚𝐫 𝐇𝐢𝐠𝐡𝐥𝐢𝐠
 𝐡𝐭𝐬:\n1) Overview of power Generation in Bangladesh.\n2) Power Tr
 ansmission System and Grid Substation.\n3) Distribution System &amp; 33/11 KV 
 GIS Substation in power Network.\n4) Some challenges in Power Distribution
  system.\n5) Practical knowledge\nsharing of power sector in Bangladesh.\n
 6) How to career build up in power sector of Bangladesh aspect.\n\nSpeaker
 (s): 𝐄𝐧𝐠𝐫. 𝐌𝐝. 𝐒𝐚𝐢𝐦𝐮𝐦 𝐒𝐡𝐢𝐛
 𝐥𝐢\, \n\nAgenda: \n1) Overview of power Generation in Bangladesh.\n2
 ) Power Transmission System and Grid Substation.\n3) Distribution System &amp;
  33/11 KV GIS Substation in power Network.\n4) Some challenges in Power Di
 stribution system.\n5) Practical knowledge\nsharing of power sector in Ban
 gladesh.\n6) How to career build up in power sector of Bangladesh aspect.\
 n\nBldg: IIUC Central Auditorium \, Sitakundu\, chittagong\, Chittagong\, 
 Chittagong\, Bangladesh
LOCATION:Bldg: IIUC Central Auditorium \, Sitakundu\, chittagong\, Chittago
 ng\, Chittagong\, Bangladesh
ORGANIZER:ieeepesiiucsbc@iiuc.ac.bd
SEQUENCE:9
SUMMARY:Powering Bangladesh: Exploring the Tech Behind Generation\, Transmi
 ssion\, and Distribution.
URL;VALUE=URI:https://events.vtools.ieee.org/m/457498
X-ALT-DESC:Description: &lt;br /&gt;&lt;div class=&quot;xdj266r x11i5rnm xat24cr x1mh8g0r
  x1vvkbs x126k92a&quot;&gt;\n&lt;div dir=&quot;auto&quot;&gt;&lt;span class=&quot;html-span xexx8yu x4uap5
  x18d9i69 xkhd6sd x1hl2dhg x16tdsg8 x1vvkbs x3nfvp2 x1j61x8r x1fcty0u xdj2
 66r xat24cr xgzva0m xhhsvwb xxymvpz xlup9mm x1kky2od&quot;&gt;&lt;img class=&quot;xz74otr&quot;
  src=&quot;https://static.xx.fbcdn.net/images/emoji.php/v9/t5d/1/16/26a1.png&quot; a
 lt=&quot;⚡&quot; width=&quot;16&quot; height=&quot;16&quot;&gt;&lt;/span&gt; 𝐔𝐧𝐥𝐞𝐚𝐬𝐡 𝐭
 𝐡𝐞 𝐅𝐮𝐭𝐮𝐫𝐞 𝐨𝐟 𝐄𝐧𝐞𝐫𝐠𝐲 𝐢
 𝐧 𝐁𝐚𝐧𝐠𝐥𝐚𝐝𝐞𝐬𝐡! &lt;span class=&quot;html-span xexx
 8yu x4uap5 x18d9i69 xkhd6sd x1hl2dhg x16tdsg8 x1vvkbs x3nfvp2 x1j61x8r x1f
 cty0u xdj266r xat24cr xgzva0m xhhsvwb xxymvpz xlup9mm x1kky2od&quot;&gt;&lt;img class
 =&quot;xz74otr&quot; src=&quot;https://static.xx.fbcdn.net/images/emoji.php/v9/t5d/1/16/2
 6a1.png&quot; alt=&quot;⚡&quot; width=&quot;16&quot; height=&quot;16&quot;&gt;&lt;/span&gt;&lt;/div&gt;\n&lt;div dir=&quot;auto&quot;&gt;J
 oin the Seminar on 𝐏𝐨𝐰𝐞𝐫𝐢𝐧𝐠 𝐁𝐚𝐧𝐠𝐥
 𝐚𝐝𝐞𝐬𝐡: 𝐄𝐱𝐩𝐥𝐨𝐫𝐢𝐧𝐠 𝐭𝐡𝐞 
 𝐓𝐞𝐜𝐡 𝐁𝐞𝐡𝐢𝐧𝐝 𝐆𝐞𝐧𝐞𝐫𝐚𝐭𝐢
 𝐨𝐧\, 𝐓𝐫𝐚𝐧𝐬𝐦𝐢𝐬𝐬𝐢𝐨𝐧\, 𝐚𝐧𝐝
  𝐃𝐢𝐬𝐭𝐫𝐢𝐛𝐮𝐭𝐢𝐨𝐧.&lt;/div&gt;\n&lt;/div&gt;\n&lt;div cla
 ss=&quot;x11i5rnm xat24cr x1mh8g0r x1vvkbs xtlvy1s x126k92a&quot;&gt;\n&lt;div dir=&quot;auto&quot;&gt;
 𝐎𝐫𝐠𝐚𝐧𝐢𝐳𝐞𝐝 𝐛𝐲: IEEE PES IIUC SBC&lt;/div&gt;\n&lt;/
 div&gt;\n&lt;div class=&quot;x11i5rnm xat24cr x1mh8g0r x1vvkbs xtlvy1s x126k92a&quot;&gt;\n&lt;d
 iv dir=&quot;auto&quot;&gt;&lt;span class=&quot;html-span xexx8yu x4uap5 x18d9i69 xkhd6sd x1hl2
 dhg x16tdsg8 x1vvkbs x3nfvp2 x1j61x8r x1fcty0u xdj266r xat24cr xgzva0m xhh
 svwb xxymvpz xlup9mm x1kky2od&quot;&gt;&lt;img class=&quot;xz74otr&quot; src=&quot;https://static.xx
 .fbcdn.net/images/emoji.php/v9/tc1/1/16/1f50d.png&quot; alt=&quot;🔍&quot; width=&quot;16&quot; h
 eight=&quot;16&quot;&gt;&lt;/span&gt; Discover the Backbone of Bangladesh&#39;s Growth!&lt;/div&gt;\n&lt;d
 iv dir=&quot;auto&quot;&gt;Step into the world of power systems\, where generation\, tr
 ansmission\, and distribution work in harmony to energize the nation. Lear
 n from leading experts and unlock opportunities to contribute to Banglades
 h&amp;rsquo\;s energy revolution.&lt;/div&gt;\n&lt;/div&gt;\n&lt;div class=&quot;x11i5rnm xat24cr 
 x1mh8g0r x1vvkbs xtlvy1s x126k92a&quot;&gt;\n&lt;div dir=&quot;auto&quot;&gt;&lt;span class=&quot;html-spa
 n xexx8yu x4uap5 x18d9i69 xkhd6sd x1hl2dhg x16tdsg8 x1vvkbs x3nfvp2 x1j61x
 8r x1fcty0u xdj266r xat24cr xgzva0m xhhsvwb xxymvpz xlup9mm x1kky2od&quot;&gt;&lt;img
  class=&quot;xz74otr&quot; src=&quot;https://static.xx.fbcdn.net/images/emoji.php/v9/tb0/
 1/16/1f3af.png&quot; alt=&quot;🎯&quot; width=&quot;16&quot; height=&quot;16&quot;&gt;&lt;/span&gt; 𝐒𝐞𝐦𝐢
 𝐧𝐚𝐫 𝐇𝐢𝐠𝐡𝐥𝐢𝐠𝐡𝐭𝐬:&lt;/div&gt;\n&lt;div dir=&quot;au
 to&quot;&gt;1) Overview of power Generation in Bangladesh.&lt;/div&gt;\n&lt;div dir=&quot;auto&quot;&gt;
 2) Power Transmission System and Grid Substation.&lt;/div&gt;\n&lt;div dir=&quot;auto&quot;&gt;3
 ) Distribution System &amp;amp\; 33/11 KV GIS Substation in power Network.&lt;/di
 v&gt;\n&lt;div dir=&quot;auto&quot;&gt;4) Some challenges in Power Distribution system.&lt;/div&gt;
 \n&lt;div dir=&quot;auto&quot;&gt;5) Practical knowledge&lt;/div&gt;\n&lt;div dir=&quot;auto&quot;&gt;sharing of
  power sector in Bangladesh.&lt;/div&gt;\n&lt;div dir=&quot;auto&quot;&gt;6) How to career build
  up in power sector of Bangladesh aspect.&lt;/div&gt;\n&lt;/div&gt;&lt;br /&gt;&lt;br /&gt;Agenda:
  &lt;br /&gt;&lt;div dir=&quot;auto&quot;&gt;1) Overview of power Generation in Bangladesh.&lt;/div
 &gt;\n&lt;div dir=&quot;auto&quot;&gt;2) Power Transmission System and Grid Substation.&lt;/div&gt;
 \n&lt;div dir=&quot;auto&quot;&gt;3) Distribution System &amp;amp\; 33/11 KV GIS Substation in
  power Network.&lt;/div&gt;\n&lt;div dir=&quot;auto&quot;&gt;4) Some challenges in Power Distrib
 ution system.&lt;/div&gt;\n&lt;div dir=&quot;auto&quot;&gt;5) Practical knowledge&lt;/div&gt;\n&lt;div di
 r=&quot;auto&quot;&gt;sharing of power sector in Bangladesh.&lt;/div&gt;\n&lt;div dir=&quot;auto&quot;&gt;6) 
 How to career build up in power sector of Bangladesh aspect.&lt;/div&gt;
END:VEVENT
END:VCALENDAR

