BEGIN:VCALENDAR
VERSION:2.0
PRODID:IEEE vTools.Events//EN
CALSCALE:GREGORIAN
BEGIN:VTIMEZONE
TZID:America/Chicago
BEGIN:DAYLIGHT
DTSTART:20170312T030000
TZOFFSETFROM:-0600
TZOFFSETTO:-0500
RRULE:FREQ=YEARLY;BYDAY=2SU;BYMONTH=3
TZNAME:CDT
END:DAYLIGHT
BEGIN:STANDARD
DTSTART:20171105T010000
TZOFFSETFROM:-0500
TZOFFSETTO:-0600
RRULE:FREQ=YEARLY;BYDAY=1SU;BYMONTH=11
TZNAME:CST
END:STANDARD
END:VTIMEZONE
BEGIN:VEVENT
DTSTAMP:20170619T175646Z
UID:3CCDFF31-45B2-11E7-8752-0050568D2FB3
DTSTART;TZID=America/Chicago:20170620T183000
DTEND;TZID=America/Chicago:20170620T200000
DESCRIPTION:Book / Article Discussion: How to Advocate for Yourself\n\nHave
  you ever needed to advocate for yourself\, but needed a little help figur
 ing out how to do it well? Have you ever faced challenges of being seen as
  too aggressive? Let&#39;s discuss how we can advocate for ourselves and get r
 esults.\n\nClick [here](http://www.competitivefocus.com/Advocating%20For%2
 0Yourself.pdf) for a few scenarios brought back from the Women in Engineer
 ing Internaltional Leadership Conference.\n\nJoin us for snacks\, a glass 
 of wine\, good company and a fantastic book club\, focused on SURVIVING AN
 D THRIVING IN THE TECH INDUSTRY.\n\nFree parking is available at on West S
 t. after 6PM. (Meeting is at the NW Corner of 7th and West) . No charge fo
 r the event. Bring a friend! And make new ones!\n\nSpeaker(s): \, \, \, \n
 \nAgenda: \n6:30 Snacks and networking\n\n7:00 Discussion\n\n8:00 Adjourn\
 n\nBldg: Way at the back!\, Cirrus Logic\, 800 W. 6th St.\, Austin\, Texas
 \, United States\, 78701
LOCATION:Bldg: Way at the back!\, Cirrus Logic\, 800 W. 6th St.\, Austin\, 
 Texas\, United States\, 78701
ORGANIZER:lmartinich@ieee.org
SEQUENCE:2
SUMMARY:CTS Women In Engineering Monthly Book Club/Advocating for Yourself
URL;VALUE=URI:https://events.vtools.ieee.org/m/45753
X-ALT-DESC:Description: &lt;br /&gt;&lt;p&gt;&lt;span style=&quot;color: #800080\; font-size: 1
 2pt\; background-color: #ffffff\;&quot;&gt;&lt;strong&gt;Book / Article Discussion:&amp;nbsp
 \;How to Advocate for Yourself&lt;/strong&gt;&lt;/span&gt;&lt;/p&gt;\n&lt;p&gt;Have you ever neede
 d to advocate for yourself\, but needed a little help figuring out how to 
 do it well? &amp;nbsp\;Have you ever faced challenges of being seen as too agg
 ressive? &amp;nbsp\;Let&#39;s discuss how we can advocate for ourselves and get re
 sults.&lt;/p&gt;\n&lt;p&gt;&lt;span style=&quot;font-size: 12pt\;&quot;&gt;Click &lt;a href=&quot;http://www.c
 ompetitivefocus.com/Advocating%20For%20Yourself.pdf&quot;&gt;here&lt;/a&gt;&lt;/span&gt; for a
  few scenarios brought back from the Women in Engineering Internaltional L
 eadership Conference.&lt;/p&gt;\n&lt;p&gt;Join us for snacks\, a glass of wine\, good 
 company and a fantastic book club\, focused on SURVIVING AND THRIVING IN T
 HE TECH INDUSTRY.&lt;/p&gt;\n&lt;p class=&quot;p1&quot;&gt;Free parking is available at on West 
 St. after 6PM. &amp;nbsp\;(Meeting is at the NW Corner of 7th and West)&amp;nbsp\;
 . &amp;nbsp\;No charge for the event. &lt;strong&gt;Bring a friend&lt;/strong&gt;! &amp;nbsp\;
 And make new ones!&lt;/p&gt;&lt;br /&gt;&lt;br /&gt;Agenda: &lt;br /&gt;&lt;p&gt;6:30 Snacks&amp;nbsp\;and n
 etworking&lt;/p&gt;\n&lt;p&gt;7:00 Discussion&lt;/p&gt;\n&lt;p&gt;8:00 Adjourn&lt;/p&gt;
END:VEVENT
END:VCALENDAR

