BEGIN:VCALENDAR
VERSION:2.0
PRODID:IEEE vTools.Events//EN
CALSCALE:GREGORIAN
BEGIN:VTIMEZONE
TZID:Asia/Kolkata
BEGIN:STANDARD
DTSTART:19451014T230000
TZOFFSETFROM:+0630
TZOFFSETTO:+0530
TZNAME:IST
END:STANDARD
END:VTIMEZONE
BEGIN:VEVENT
DTSTAMP:20250227T151631Z
UID:5FFC3C5E-99AE-451F-90E7-113011203EAE
DTSTART;TZID=Asia/Kolkata:20250108T140000
DTEND;TZID=Asia/Kolkata:20250108T180000
DESCRIPTION:HELLO IEEE is the flagship event of the IEEE Jadavpur Universit
 y Student Branch which focuses on amplifying and developing the IEEE spiri
 t within the campus\, with the primary objective to introduce the students
  to vast opportunities including the exclusive resources\, avenues for pro
 fessional growth\, and global collaboration offered by the IEEE membership
 . The event will also feature some exemplary leaders and volunteers in the
  history of IEEE JUSB including Saptarishi Ghosh and Saptarishi Pani who w
 ill be sharing their experiences and journey from Jadavpur University to t
 he Global Impact in the tech industry by aligning their interest with IEEE
  benefits. Lastly\, to make this event impactful for the freshers joining 
 the campus\, the event also features an introductory session to keen topic
 s like Web Development and Machine Learning and some quizzes to checktheir
  curiosity toward IEEE. their curiosity toward IEEE. []\n\nCo-sponsored by
 : IEEE KOLKATA SECTION \n\nSpeaker(s): PANI DA \, Saptarshi da \n\nAgenda:
  \n1. Speaker Session 1: Journey from Jadavpur to Global Impact\n\n2.. Key
 note Session by IEEE Kolkata Section Official\n\n3. Speaker Session 2: Ali
 gning Passion with Opportunities\n\n4. Introductory Session to Web Develop
 ment\n\n5. Introductory Session to Machine Learning\n\n6. Interactive Quiz
  Session(INFINITIEEE)\n\nBldg: DR. TRIGUNA SEN AUDITORIUM \, Jadavpur Univ
 ersity \, 188\, Raja Subodh Chandra Mallick Rd\, Jadavpur\, Kolkata\, kolk
 ata\, West Bengal\, India\, 700032
LOCATION:Bldg: DR. TRIGUNA SEN AUDITORIUM \, Jadavpur University \, 188\, R
 aja Subodh Chandra Mallick Rd\, Jadavpur\, Kolkata\, kolkata\, West Bengal
 \, India\, 700032
ORGANIZER:souviksaha@ieee.org
SEQUENCE:6
SUMMARY:HELLO IEEE 
URL;VALUE=URI:https://events.vtools.ieee.org/m/457619
X-ALT-DESC:Description: &lt;br /&gt;&lt;p&gt;HELLO IEEE&amp;nbsp\; is the flagship event of
  the IEEE Jadavpur University Student Branch which focuses on amplifying a
 nd developing the IEEE spirit within the campus\, with the primary objecti
 ve to introduce the students to vast opportunities including the exclusive
  resources\, avenues for professional growth\, and global collaboration of
 fered by the IEEE membership. The event will also feature some exemplary l
 eaders and volunteers in the history of IEEE JUSB including Saptarishi Gho
 sh and Saptarishi Pani who will be sharing their experiences and journey f
 rom Jadavpur University to the Global Impact in the tech industry by align
 ing their interest with IEEE benefits. Lastly\, to make this event impactf
 ul for the freshers joining the campus\, the event also features an introd
 uctory session to keen topics like Web Development and Machine Learning an
 d some quizzes to checktheir curiosity toward IEEE. their curiosity toward
  IEEE. &amp;nbsp\;&lt;img src=&quot;https://events.vtools.ieee.org/vtools_ui/media/dis
 play/e01d7c2a-d65c-44c3-ad6a-ec48235c3a04&quot; alt=&quot;&quot; width=&quot;720&quot; height=&quot;720&quot;
 &gt;&lt;/p&gt;&lt;br /&gt;&lt;br /&gt;Agenda: &lt;br /&gt;&lt;p&gt;&amp;nbsp\;1. Speaker Session 1: Journey fro
 m Jadavpur to Global Impact&lt;/p&gt;\n&lt;p&gt;2.. Keynote Session by IEEE Kolkata Se
 ction Official&lt;/p&gt;\n&lt;p&gt;3. Speaker Session 2: Aligning Passion with Opportu
 nities&lt;/p&gt;\n&lt;p&gt;4. Introductory&amp;nbsp\; Session to&amp;nbsp\; Web Development&lt;/p
 &gt;\n&lt;p&gt;5. Introductory Session to&amp;nbsp\; Machine Learning&lt;/p&gt;\n&lt;p&gt;6. Intera
 ctive Quiz Session(INFINITIEEE)&lt;/p&gt;\n&lt;p&gt;&amp;nbsp\;&lt;/p&gt;\n&lt;p&gt;&amp;nbsp\;&lt;/p&gt;
END:VEVENT
END:VCALENDAR

