BEGIN:VCALENDAR
VERSION:2.0
PRODID:IEEE vTools.Events//EN
CALSCALE:GREGORIAN
BEGIN:VTIMEZONE
TZID:America/Los_Angeles
BEGIN:DAYLIGHT
DTSTART:20250309T030000
TZOFFSETFROM:-0800
TZOFFSETTO:-0700
RRULE:FREQ=YEARLY;BYDAY=2SU;BYMONTH=3
TZNAME:PDT
END:DAYLIGHT
BEGIN:STANDARD
DTSTART:20241103T010000
TZOFFSETFROM:-0700
TZOFFSETTO:-0800
RRULE:FREQ=YEARLY;BYDAY=1SU;BYMONTH=11
TZNAME:PST
END:STANDARD
END:VTIMEZONE
BEGIN:VEVENT
DTSTAMP:20250225T025630Z
UID:636F9222-416D-42E0-9CAE-93C1FCD65D74
DTSTART;TZID=America/Los_Angeles:20250211T190000
DTEND;TZID=America/Los_Angeles:20250211T210000
DESCRIPTION:This is a hybrid in-person and online event. Pre-registration i
 s required for either.\n\nFor many startups\, the focus is often on rapid 
 development—building fast and launching products quickly. However\, the 
 harsh reality is that countless startups fail not because of poor technolo
 gy but due to a lack of clear market positioning\, audience targeting\, an
 d product differentiation.\n\nThis presentation will explore why developin
 g a marketing and product strategy early is critical for a startup’s sur
 vival and growth. From narrowing down a market niche to defining a unique 
 selling proposition\, we’ll break down essential components that shape a
  startup’s long-term success.\n\nElena Gostrer will draw from her real-w
 orld startup experiences by highlighting common pitfalls such as misaligne
 d product-market fit and wasted resources on solutions no one needs. Atten
 dees will gain insights into how strategic planning saves time and money\,
  accelerates scaling\, and reduces the risk of costly pivots down the line
 .\n\nWhether you’re a developer\, product manager\, or startup founder\,
  this presentation will offer practical takeaways to rethink your approach
  to ensure your startup is guided by more than just code.\n\nSpeaker(s): E
 lena Gostrer\, \n\n673 South Milpitas Blvd.\, Milpitas\, California\, Unit
 ed States\, 95035\, Virtual: https://events.vtools.ieee.org/m/457738
LOCATION:673 South Milpitas Blvd.\, Milpitas\, California\, United States\,
  95035\, Virtual: https://events.vtools.ieee.org/m/457738
ORGANIZER:dmsnyder@ieee.org
SEQUENCE:9
SUMMARY:Startups: Early Strategies for Success
URL;VALUE=URI:https://events.vtools.ieee.org/m/457738
X-ALT-DESC:Description: &lt;br /&gt;&lt;p&gt;&lt;strong&gt;This is a hybrid in-person and onl
 ine event. Pre-registration is required for either.&lt;/strong&gt;&lt;/p&gt;\n&lt;p&gt;For m
 any startups\, the focus is often on rapid development&amp;mdash\;building fas
 t and launching products quickly. However\, the harsh reality is that coun
 tless startups fail not because of poor technology but due to a lack of cl
 ear market positioning\, audience targeting\, and product differentiation.
 &lt;/p&gt;\n&lt;p&gt;This presentation will explore why developing a marketing and pro
 duct strategy early is critical for a startup&amp;rsquo\;s survival and growth
 . From narrowing down a market niche to defining a unique selling proposit
 ion\, we&amp;rsquo\;ll break down essential components that shape a startup&amp;rs
 quo\;s long-term success.&lt;/p&gt;\n&lt;p&gt;Elena Gostrer will draw from her real-wo
 rld startup experiences by highlighting common pitfalls such as misaligned
  product-market fit and wasted resources on solutions no one needs. Attend
 ees will gain insights into how strategic planning saves time and money\, 
 accelerates scaling\, and reduces the risk of costly pivots down the line.
 &lt;/p&gt;\n&lt;p&gt;Whether you&amp;rsquo\;re a developer\, product manager\, or startup 
 founder\, this presentation will offer practical takeaways to rethink your
  approach to ensure your startup is guided by more than just code.&lt;/p&gt;
END:VEVENT
END:VCALENDAR

