BEGIN:VCALENDAR
VERSION:2.0
PRODID:IEEE vTools.Events//EN
CALSCALE:GREGORIAN
BEGIN:VTIMEZONE
TZID:Canada/Eastern
BEGIN:DAYLIGHT
DTSTART:20170312T030000
TZOFFSETFROM:-0500
TZOFFSETTO:-0400
RRULE:FREQ=YEARLY;BYDAY=2SU;BYMONTH=3
TZNAME:EDT
END:DAYLIGHT
BEGIN:STANDARD
DTSTART:20171105T010000
TZOFFSETFROM:-0400
TZOFFSETTO:-0500
RRULE:FREQ=YEARLY;BYDAY=1SU;BYMONTH=11
TZNAME:EST
END:STANDARD
END:VTIMEZONE
BEGIN:VEVENT
DTSTAMP:20170602T195550Z
UID:7B04032F-47CD-11E7-8752-0050568D2FB3
DTSTART;TZID=Canada/Eastern:20170607T140000
DTEND;TZID=Canada/Eastern:20170607T150000
DESCRIPTION:The IEEE Toronto Section and University of Toronto – ECE are 
 inviting all interested IEEE members and other engineers\, technologists a
 nd students to our technical seminar:\n\nRobust Beamforming Design: A new 
 approach\n\nMostafa Medra\, PhD. Candidate\n\nDept. of Electrical &amp; Comput
 er Engineering\n\nMcMaster University\n\nDate: Wed. June 7th\, 2017.\n\nTi
 me: 2:00-3:00pm.\n\nLocation: University of Toronto\, Bahen Centre for Inf
 ormation Technology\, 40 St George St\, Toronto\, ON M5S 2E4\n\nRoom: BA 2
 145\n\nContact:Eman Hammad\, eman.hammad.ca@ieee.org\n\nTalk Abstract:\n\n
 Abstract: Due to the increasing demand for higher data rates\, spatial mul
 tiplexing received a lot of attention. The ability of a base station to do
  beamforming so that it can serve multiple users at the same time slot and
  frequency can provide significantly higher rates. When the channel state 
 information is assumed to be perfectly known at the transmitter\, designs 
 as the zeroforcing\, regularized zero-forcing and maximum ratio transmissi
 on can be applied. Those conventional methods are typically of low complex
 ity. In reality the channel state information is estimated and estimation 
 errors are inevitable. Many beamforming designs tried to incorporate the c
 hannel uncertainty model into the design problem. While those robust desig
 ns normally work better than the conventional designs\, their computationa
 l complexity is usually much higher. Today we will provide a new approach 
 to dealing with robust beamforming design that is of low- complexity and p
 erforms significantly better than both conventional and current robust met
 hods.\n\nSpeaker(s): Mostafa Medra\, \, Mostafa Medra\, \n\nRoom: BA 2145\
 , Bldg: Bahen Centre for Information Technology\, University of Toronto\, 
 40 St George St\, Toronto\, Ontario\, Canada\, M5S 2E4
LOCATION:Room: BA 2145\, Bldg: Bahen Centre for Information Technology\, Un
 iversity of Toronto\, 40 St George St\, Toronto\, Ontario\, Canada\, M5S 2
 E4
ORGANIZER:eman.hammad.ca@ieee.org
SEQUENCE:0
SUMMARY:IEEE ComSoc Technical Seminar: Robust Beamforming Design\, A new ap
 proach
URL;VALUE=URI:https://events.vtools.ieee.org/m/45778
X-ALT-DESC:Description: &lt;br /&gt;&lt;p&gt;The IEEE Toronto Section and University of
  Toronto &amp;ndash\; ECE are inviting all interested IEEE members and other e
 ngineers\, technologists and students to our technical seminar:&lt;/p&gt;\n&lt;p&gt;&lt;s
 trong&gt;Robust Beamforming Design: A new approach&lt;/strong&gt;&lt;/p&gt;\n&lt;p&gt;&lt;strong&gt;&amp;
 nbsp\;&lt;/strong&gt;&lt;/p&gt;\n&lt;p&gt;&lt;strong&gt;Mostafa Medra\, &lt;/strong&gt;&lt;strong&gt;PhD. Cand
 idate&lt;/strong&gt;&lt;/p&gt;\n&lt;p&gt;&lt;strong&gt;Dept. of Electrical &amp;amp\; Computer Enginee
 ring&lt;/strong&gt;&lt;/p&gt;\n&lt;p&gt;&lt;strong&gt;McMaster University&lt;/strong&gt;&lt;/p&gt;\n&lt;p&gt;&lt;strong
 &gt;&amp;nbsp\;&lt;/strong&gt;&lt;/p&gt;\n&lt;p&gt;&lt;strong&gt;Date: &lt;/strong&gt;&lt;strong&gt;Wed. June 7&lt;sup&gt;t
 h&lt;/sup&gt;\, 2017.&lt;/strong&gt;&lt;/p&gt;\n&lt;p&gt;&lt;strong&gt;Time: &lt;/strong&gt;&lt;strong&gt;2:00-3:00p
 m.&lt;/strong&gt;&lt;/p&gt;\n&lt;p&gt;&lt;strong&gt;Location: &lt;/strong&gt;&lt;strong&gt;University of Toron
 to\, &lt;/strong&gt;&lt;strong&gt;Bahen Centre for Information Technology\, 40 St Geor
 ge St\, Toronto\, ON M5S 2E4&lt;/strong&gt;&lt;/p&gt;\n&lt;p&gt;&lt;strong&gt;Room:&lt;/strong&gt;&lt;stron
 g&gt; BA 2145&lt;/strong&gt;&lt;/p&gt;\n&lt;p&gt;&lt;strong&gt;Contact:&lt;/strong&gt;Eman Hammad\, &lt;a href
 =&quot;mailto:eman.hammad.ca@ieee.org&quot;&gt;eman.hammad.ca@ieee.org&lt;/a&gt;&lt;/p&gt;\n&lt;p&gt;&lt;str
 ong&gt;Talk Abstract:&lt;/strong&gt;&lt;/p&gt;\n&lt;p&gt;&lt;strong&gt;&amp;nbsp\;&lt;/strong&gt;&lt;/p&gt;\n&lt;p&gt;Abstr
 act: Due to the increasing demand for higher data rates\, spatial multiple
 xing received a lot of attention. The ability of a base station to do beam
 forming so that it can serve multiple users at the same time slot and freq
 uency can provide significantly higher rates. When the channel state infor
 mation is assumed to be perfectly known at the transmitter\, designs as th
 e zeroforcing\, regularized zero-forcing and maximum ratio transmission ca
 n be applied. Those conventional methods are typically of low complexity. 
 In reality the channel state information is estimated and estimation error
 s are inevitable. Many beamforming designs tried to incorporate the channe
 l uncertainty model into the design problem. While those robust designs no
 rmally work better than the conventional designs\, their computational com
 plexity is usually much higher. Today we will provide a new approach to de
 aling with robust beamforming design that is of low- complexity and perfor
 ms significantly better than both conventional and current robust methods.
 &amp;nbsp\;&lt;/p&gt;
END:VEVENT
END:VCALENDAR

