BEGIN:VCALENDAR
VERSION:2.0
PRODID:IEEE vTools.Events//EN
CALSCALE:GREGORIAN
BEGIN:VTIMEZONE
TZID:Asia/Kolkata
BEGIN:STANDARD
DTSTART:19451014T230000
TZOFFSETFROM:+0630
TZOFFSETTO:+0530
TZNAME:IST
END:STANDARD
END:VTIMEZONE
BEGIN:VEVENT
DTSTAMP:20241231T084206Z
UID:0BAB8E16-8017-42BA-8C7E-37EF6A5D3037
DTSTART;TZID=Asia/Kolkata:20241230T183000
DTEND;TZID=Asia/Kolkata:20241230T200000
DESCRIPTION:The National Assessment and Accreditation Council (NAAC) in Ind
 ia has introduced a new binary accreditation system to streamline the eval
 uation process and enhance transparency in assessing higher education inst
 itutions. Unlike the previous system\, which involved detailed quantitativ
 e and qualitative assessments across several criteria\, the binary system 
 categorizes institutions into two broad categories: &quot;Accredited&quot; and &quot;Not 
 Accredited.&quot; This shift is designed to simplify the accreditation process\
 , making it more objective and less time-consuming for institutions to ach
 ieve recognition. The system focuses on essential aspects such as the inst
 itution&#39;s overall quality\, governance\, and infrastructure\, with an emph
 asis on continuous improvement and outcomes. Additionally\, the new approa
 ch introduces greater flexibility by allowing institutions to focus on key
  areas of performance\, ensuring that the accreditation process is more al
 igned with the dynamic needs of the educational landscape. By reducing the
  complexity and making the accreditation outcomes more straightforward\, N
 AAC’s binary system aims to encourage institutions to pursue quality imp
 rovements without the burden of a lengthy and complicated evaluation proce
 ss.\n\nSpeaker(s): Dr. D. DAVID NEELS PONKUMAR\, \n\nAgenda: \nAgenda for 
 today’s invited talk on\n\nKEY CHANGES IN NAAC&#39;S NEW BINARY ACCREDITATIO
 N SYSTEM\n\n18:30 Inviting guests by Dr B V D S Sekhar Chair EDU Soc\n18:3
 5 Opening Remarks by Dr Abraham Varughese/ Prof. S Lakshminarayana\n18:38 
 Introducing the guest by Dr. B S S V Ramesh babu\, Vice chair\, EDU soc\n1
 8:40 - 19:30 Talk by Dr. D. DAVID NEELS PONKUMAR\, Professor\, Electronics
  and Communication Engineering in Cybersecurity Specialization at VEL TECH
  Dr. RR &amp; Dr. SR University\, Chennai.\n\n19:30 – 19:40 Q &amp; A by Dr. M S
  S S Srinivas. Member EDU soc\n19:40 Vote of Thanks by Dr Valli Madam.\n19
 :43 National Anthem\n\nVirtual: https://events.vtools.ieee.org/m/458852
LOCATION:Virtual: https://events.vtools.ieee.org/m/458852
ORGANIZER:bvdssekhar@ieee.org
SEQUENCE:26
SUMMARY:Key Changes in NAAC&#39;s New Binary Accreditation System
URL;VALUE=URI:https://events.vtools.ieee.org/m/458852
X-ALT-DESC:Description: &lt;br /&gt;&lt;p style=&quot;text-align: justify\;&quot;&gt;The National
  Assessment and Accreditation Council (NAAC) in India has introduced a new
  binary accreditation system to streamline the evaluation process and enha
 nce transparency in assessing higher education institutions. Unlike the pr
 evious system\, which involved detailed quantitative and qualitative asses
 sments across several criteria\, the binary system categorizes institution
 s into two broad categories: &quot;Accredited&quot; and &quot;Not Accredited.&quot; This shift
  is designed to simplify the accreditation process\, making it more object
 ive and less time-consuming for institutions to achieve recognition. The s
 ystem focuses on essential aspects such as the institution&#39;s overall quali
 ty\, governance\, and infrastructure\, with an emphasis on continuous impr
 ovement and outcomes. Additionally\, the new approach introduces greater f
 lexibility by allowing institutions to focus on key areas of performance\,
  ensuring that the accreditation process is more aligned with the dynamic 
 needs of the educational landscape. By reducing the complexity and making 
 the accreditation outcomes more straightforward\, NAAC&amp;rsquo\;s binary sys
 tem aims to encourage institutions to pursue quality improvements without 
 the burden of a lengthy and complicated evaluation process.&lt;/p&gt;&lt;br /&gt;&lt;br /
 &gt;Agenda: &lt;br /&gt;&lt;p class=&quot;MsoNormal&quot;&gt;&lt;span style=&quot;font-size: 12.0pt\; line-
 height: 107%\;&quot;&gt;Agenda for today&amp;rsquo\;s invited talk on&lt;/span&gt;&lt;/p&gt;\n&lt;p c
 lass=&quot;MsoNormal&quot; style=&quot;margin-bottom: 0cm\; line-height: 150%\;&quot;&gt;&lt;strong&gt;
 KEY CHANGES IN NAAC&#39;S NEW BINARY ACCREDITATION SYSTEM&lt;/strong&gt;&lt;/p&gt;\n&lt;p cla
 ss=&quot;MsoNormal&quot; style=&quot;margin-bottom: 0cm\; line-height: 150%\;&quot;&gt;18:30 Invi
 ting guests by Dr B V D S Sekhar Chair EDU Soc&lt;br&gt;18:35 Opening Remarks by
  Dr Abraham Varughese/ Prof. S Lakshminarayana &lt;br&gt;18:38 Introducing the g
 uest by Dr. B S S V Ramesh babu\, Vice chair\, EDU soc&lt;br&gt;18:40 - 19:30 Ta
 lk by Dr. D. DAVID NEELS PONKUMAR\, Professor\, Electronics and Communicat
 ion Engineering in Cybersecurity Specialization at VEL TECH&amp;nbsp\;Dr. RR &amp;
 amp\; Dr. SR&amp;nbsp\;University\, Chennai.&lt;/p&gt;\n&lt;p class=&quot;MsoNormal&quot; style=&quot;
 text-indent: -7.1pt\; line-height: 150%\;&quot;&gt;&lt;span style=&quot;mso-spacerun: yes\
 ;&quot;&gt;&amp;nbsp\;&amp;nbsp\; &lt;/span&gt;19:30 &amp;ndash\; 19:40 Q &amp;amp\; A by Dr. M S S S Sr
 inivas. Member EDU soc&lt;br&gt;19:40 Vote of Thanks by Dr Valli Madam.&lt;br&gt;19:43
  National Anthem&lt;/p&gt;
END:VEVENT
END:VCALENDAR

