BEGIN:VCALENDAR
VERSION:2.0
PRODID:IEEE vTools.Events//EN
CALSCALE:GREGORIAN
BEGIN:VTIMEZONE
TZID:Asia/Kolkata
BEGIN:STANDARD
DTSTART:19451014T230000
TZOFFSETFROM:+0630
TZOFFSETTO:+0530
TZNAME:IST
END:STANDARD
END:VTIMEZONE
BEGIN:VEVENT
DTSTAMP:20241231T100055Z
UID:69D040C0-FEF0-4E5B-93BD-BE7557A84E75
DTSTART;TZID=Asia/Kolkata:20240122T100000
DTEND;TZID=Asia/Kolkata:20240131T173000
DESCRIPTION:Department of CSE\, MSIT Kolkata in technical collaboration wit
 h IEEE Young Professionals\, Kolkata Section organized a Faculty Developme
 nt Program at Meghnad Saha Institute of Technology (MSIT)\, Kolkata from 2
 2nd to 31st January\, 2024. The topic of FDP was “Cuttting Edge: Horizon
 s of Data and Analytics”. Around 42participants including 05 IEEE member
 s joined the event. Participants are faculties of different institutes.\n\
 nName of Speaker/Delegates present with affiliation:\n\na) Prof. Swapan Bh
 attacharya\, Dept. of CSE\, Jadavpur University\n\nb) Prof. Amlan Chakrabo
 rty\, Director AKCSIT\, Calcutta University\n\nc) Prof. Asit Kumar Das\, P
 rofessor\, Dept. of CSE\, IIEST.\n\nd)  Prof. Santi Prasad Maity\, Dept. o
 f IT\, IIIEST\, Kolkata\n\ne) Dr. Kuntal Ghosh\, ISI\, Kolkata\n\nf) Dr. S
 udip Kumar Naskar\, Associate Prof.\, Dept. of CSE\, Jadavpur university\n
 \ng) Dr. Dwaipayan Roy\, Assistant Prof.\, Dept. of Computational &amp; data S
 cience\, IISER\n\nh) Mr. Sayantan Chakraborty\, Operation Division IETA\, 
 Microsoft Certified Trainer.\n\nCo-sponsored by: Department of CSE\, Meghn
 ad Saha Institute of Technology (MSIT)\, Kolkata\n\nMeghnad Saha Institute
  of Technology (MSIT)\, Kolkata\, kolkata\, West Bengal\, India\, 700150
LOCATION:Meghnad Saha Institute of Technology (MSIT)\, Kolkata\, kolkata\, 
 West Bengal\, India\, 700150
ORGANIZER:a_sudip@yahoo.com
SEQUENCE:13
SUMMARY:Faculty Development Program on Cuttting Edge: Horizons of Data and 
 Analytics
URL;VALUE=URI:https://events.vtools.ieee.org/m/458919
X-ALT-DESC:Description: &lt;br /&gt;&lt;p class=&quot;MsoNormal&quot; style=&quot;text-align: justi
 fy\; line-height: normal\;&quot;&gt;&lt;span lang=&quot;EN-US&quot; style=&quot;font-size: 12.0pt\; 
 font-family: &#39;Times New Roman&#39;\,serif\;&quot;&gt;Department of CSE\, &lt;span style=&quot;
 color: #222222\; mso-bidi-font-weight: bold\;&quot;&gt;MSIT Kolkata&lt;/span&gt; in tech
 nical collaboration with IEEE Young Professionals\, Kolkata Section organi
 zed a &lt;span style=&quot;color: #222222\; mso-bidi-font-weight: bold\;&quot;&gt;Faculty 
 Development Program&lt;/span&gt; at &lt;span style=&quot;color: #222222\; mso-bidi-font-
 weight: bold\;&quot;&gt;Meghnad Saha Institute of Technology (MSIT)\, Kolkata from
  &lt;/span&gt;&lt;span style=&quot;mso-bidi-font-weight: bold\;&quot;&gt;22&lt;sup&gt;nd&lt;/sup&gt; to 31&lt;s
 up&gt;st&lt;/sup&gt; January&lt;span style=&quot;color: #222222\;&quot;&gt;\, 2024&lt;/span&gt;&lt;/span&gt;. T
 he topic of FDP was &amp;ldquo\;&lt;span style=&quot;color: #222222\; mso-bidi-font-we
 ight: bold\;&quot;&gt;Cuttting Edge: Horizons of Data and Analytics&amp;rdquo\;&lt;/span&gt;
 . Around 42participants including 05 IEEE members joined the event. Partic
 ipants are faculties of different institutes. &lt;/span&gt;&lt;/p&gt;\n&lt;p class=&quot;MsoNo
 rmal&quot; style=&quot;line-height: normal\;&quot;&gt;&lt;strong&gt;&lt;span lang=&quot;EN-US&quot; style=&quot;font
 -size: 12.0pt\; font-family: &#39;Times New Roman&#39;\,serif\;&quot;&gt;Name of Speaker/D
 elegates present with affiliation: &lt;/span&gt;&lt;/strong&gt;&lt;/p&gt;\n&lt;p class=&quot;MsoList
 ParagraphCxSpFirst&quot; style=&quot;margin-left: 54.0pt\; mso-add-space: auto\; tex
 t-indent: -18.0pt\; line-height: normal\; mso-list: l0 level1 lfo1\;&quot;&gt;&lt;!--
  [if !supportLists]--&gt;&lt;span style=&quot;font-size: 12.0pt\; font-family: &#39;Times
  New Roman&#39;\,serif\; mso-fareast-font-family: &#39;Times New Roman&#39;\; mso-ansi
 -language: EN-IN\; mso-bidi-font-weight: bold\;&quot;&gt;&lt;span style=&quot;mso-list: Ig
 nore\;&quot;&gt;a)&lt;span style=&quot;font: 7.0pt &#39;Times New Roman&#39;\;&quot;&gt;&amp;nbsp\;&amp;nbsp\;&amp;nbs
 p\;&amp;nbsp\; &lt;/span&gt;&lt;/span&gt;&lt;/span&gt;&lt;!--[endif]--&gt;&lt;span style=&quot;font-size: 12.0
 pt\; font-family: &#39;Times New Roman&#39;\,serif\; mso-ansi-language: EN-IN\; ms
 o-bidi-font-weight: bold\;&quot;&gt;Prof. Swapan Bhattacharya\, Dept. of CSE\, Jad
 avpur University&lt;/span&gt;&lt;/p&gt;\n&lt;p class=&quot;MsoListParagraphCxSpMiddle&quot; style=&quot;
 margin-left: 54.0pt\; mso-add-space: auto\; text-indent: -18.0pt\; line-he
 ight: normal\; mso-list: l0 level1 lfo1\;&quot;&gt;&lt;!-- [if !supportLists]--&gt;&lt;span
  style=&quot;font-size: 12.0pt\; font-family: &#39;Times New Roman&#39;\,serif\; mso-fa
 reast-font-family: &#39;Times New Roman&#39;\; mso-ansi-language: EN-IN\; mso-bidi
 -font-weight: bold\;&quot;&gt;&lt;span style=&quot;mso-list: Ignore\;&quot;&gt;b)&lt;span style=&quot;font
 : 7.0pt &#39;Times New Roman&#39;\;&quot;&gt;&amp;nbsp\;&amp;nbsp\;&amp;nbsp\;&amp;nbsp\; &lt;/span&gt;&lt;/span&gt;&lt;/
 span&gt;&lt;!--[endif]--&gt;&lt;span lang=&quot;EN-US&quot; style=&quot;font-size: 12.0pt\; font-fami
 ly: &#39;Times New Roman&#39;\,serif\; mso-bidi-font-weight: bold\;&quot;&gt;Prof. Amlan C
 hakraborty\, Director AKCSIT\, &lt;span style=&quot;mso-bidi-font-style: italic\;&quot;
 &gt;Calcutta University &lt;/span&gt;&lt;/span&gt;&lt;/p&gt;\n&lt;p class=&quot;MsoListParagraphCxSpMid
 dle&quot; style=&quot;margin-left: 54.0pt\; mso-add-space: auto\; text-indent: -18.0
 pt\; line-height: normal\; mso-list: l0 level1 lfo1\;&quot;&gt;&lt;!-- [if !supportLi
 sts]--&gt;&lt;span style=&quot;font-size: 12.0pt\; font-family: &#39;Times New Roman&#39;\,se
 rif\; mso-fareast-font-family: &#39;Times New Roman&#39;\; mso-ansi-language: EN-I
 N\; mso-bidi-font-weight: bold\;&quot;&gt;&lt;span style=&quot;mso-list: Ignore\;&quot;&gt;c)&lt;span
  style=&quot;font: 7.0pt &#39;Times New Roman&#39;\;&quot;&gt;&amp;nbsp\;&amp;nbsp\;&amp;nbsp\;&amp;nbsp\; &lt;/sp
 an&gt;&lt;/span&gt;&lt;/span&gt;&lt;!--[endif]--&gt;&lt;span lang=&quot;EN-US&quot; style=&quot;font-size: 12.0pt
 \; font-family: &#39;Times New Roman&#39;\,serif\; mso-bidi-font-weight: bold\; ms
 o-bidi-font-style: italic\;&quot;&gt;Prof. Asit Kumar Das\, Professor\, Dept. of C
 SE\, IIEST.&lt;/span&gt;&lt;/p&gt;\n&lt;p class=&quot;MsoListParagraphCxSpMiddle&quot; style=&quot;margi
 n-left: 54.0pt\; mso-add-space: auto\; text-indent: -18.0pt\; line-height:
  normal\; mso-list: l0 level1 lfo1\;&quot;&gt;&lt;!-- [if !supportLists]--&gt;&lt;span styl
 e=&quot;font-size: 12.0pt\; font-family: &#39;Times New Roman&#39;\,serif\; mso-fareast
 -font-family: &#39;Times New Roman&#39;\; mso-ansi-language: EN-IN\; mso-bidi-font
 -weight: bold\;&quot;&gt;&lt;span style=&quot;mso-list: Ignore\;&quot;&gt;d)&lt;span style=&quot;font: 7.0
 pt &#39;Times New Roman&#39;\;&quot;&gt;&amp;nbsp\;&amp;nbsp\;&amp;nbsp\;&amp;nbsp\; &lt;/span&gt;&lt;/span&gt;&lt;/span&gt;
 &lt;!--[endif]--&gt;&lt;span lang=&quot;EN-US&quot; style=&quot;font-size: 12.0pt\; font-family: &#39;
 Times New Roman&#39;\,serif\; mso-bidi-font-weight: bold\; mso-bidi-font-style
 : italic\;&quot;&gt;&lt;span style=&quot;mso-spacerun: yes\;&quot;&gt;&amp;nbsp\;&lt;/span&gt;Prof. Santi Pr
 asad Maity\, Dept. of IT\, IIIEST\, Kolkata &lt;/span&gt;&lt;/p&gt;\n&lt;p class=&quot;MsoList
 ParagraphCxSpMiddle&quot; style=&quot;margin-left: 54.0pt\; mso-add-space: auto\; te
 xt-indent: -18.0pt\; line-height: normal\; mso-list: l0 level1 lfo1\;&quot;&gt;&lt;!-
 - [if !supportLists]--&gt;&lt;span style=&quot;font-size: 12.0pt\; font-family: &#39;Time
 s New Roman&#39;\,serif\; mso-fareast-font-family: &#39;Times New Roman&#39;\; mso-ans
 i-language: EN-IN\; mso-bidi-font-weight: bold\;&quot;&gt;&lt;span style=&quot;mso-list: I
 gnore\;&quot;&gt;e)&lt;span style=&quot;font: 7.0pt &#39;Times New Roman&#39;\;&quot;&gt;&amp;nbsp\;&amp;nbsp\;&amp;nb
 sp\;&amp;nbsp\; &lt;/span&gt;&lt;/span&gt;&lt;/span&gt;&lt;!--[endif]--&gt;&lt;span lang=&quot;EN-US&quot; style=&quot;f
 ont-size: 12.0pt\; font-family: &#39;Times New Roman&#39;\,serif\; mso-bidi-font-w
 eight: bold\; mso-bidi-font-style: italic\;&quot;&gt;Dr. Kuntal Ghosh\, ISI\, Kolk
 ata &lt;/span&gt;&lt;/p&gt;\n&lt;p class=&quot;MsoListParagraphCxSpMiddle&quot; style=&quot;margin-left:
  54.0pt\; mso-add-space: auto\; text-indent: -18.0pt\; line-height: normal
 \; mso-list: l0 level1 lfo1\;&quot;&gt;&lt;!-- [if !supportLists]--&gt;&lt;span style=&quot;font
 -size: 12.0pt\; font-family: &#39;Times New Roman&#39;\,serif\; mso-fareast-font-f
 amily: &#39;Times New Roman&#39;\; mso-ansi-language: EN-IN\; mso-bidi-font-weight
 : bold\;&quot;&gt;&lt;span style=&quot;mso-list: Ignore\;&quot;&gt;f)&lt;span style=&quot;font: 7.0pt &#39;Tim
 es New Roman&#39;\;&quot;&gt;&amp;nbsp\;&amp;nbsp\;&amp;nbsp\;&amp;nbsp\;&amp;nbsp\; &lt;/span&gt;&lt;/span&gt;&lt;/span&gt;
 &lt;!--[endif]--&gt;&lt;span lang=&quot;EN-US&quot; style=&quot;font-size: 12.0pt\; font-family: &#39;
 Times New Roman&#39;\,serif\; mso-bidi-font-weight: bold\; mso-bidi-font-style
 : italic\;&quot;&gt;Dr. Sudip Kumar Naskar\, Associate Prof.\, Dept. of CSE\, Jada
 vpur university&lt;/span&gt;&lt;/p&gt;\n&lt;p class=&quot;MsoListParagraphCxSpMiddle&quot; style=&quot;m
 argin-left: 54.0pt\; mso-add-space: auto\; text-indent: -18.0pt\; line-hei
 ght: normal\; mso-list: l0 level1 lfo1\;&quot;&gt;&lt;!-- [if !supportLists]--&gt;&lt;span 
 style=&quot;font-size: 12.0pt\; font-family: &#39;Times New Roman&#39;\,serif\; mso-far
 east-font-family: &#39;Times New Roman&#39;\; mso-ansi-language: EN-IN\; mso-bidi-
 font-weight: bold\;&quot;&gt;&lt;span style=&quot;mso-list: Ignore\;&quot;&gt;g)&lt;span style=&quot;font:
  7.0pt &#39;Times New Roman&#39;\;&quot;&gt;&amp;nbsp\;&amp;nbsp\;&amp;nbsp\;&amp;nbsp\; &lt;/span&gt;&lt;/span&gt;&lt;/s
 pan&gt;&lt;!--[endif]--&gt;&lt;span lang=&quot;EN-US&quot; style=&quot;font-size: 12.0pt\; font-famil
 y: &#39;Times New Roman&#39;\,serif\; mso-bidi-font-weight: bold\; mso-bidi-font-s
 tyle: italic\;&quot;&gt;Dr. Dwaipayan Roy\, Assistant Prof.\, Dept. of Computation
 al &amp;amp\; data Science\, IISER&lt;/span&gt;&lt;/p&gt;\n&lt;p class=&quot;MsoListParagraphCxSpL
 ast&quot; style=&quot;margin-left: 54.0pt\; mso-add-space: auto\; text-indent: -18.0
 pt\; line-height: normal\; mso-list: l0 level1 lfo1\;&quot;&gt;&lt;!-- [if !supportLi
 sts]--&gt;&lt;span style=&quot;font-size: 12.0pt\; font-family: &#39;Times New Roman&#39;\,se
 rif\; mso-fareast-font-family: &#39;Times New Roman&#39;\; mso-ansi-language: EN-I
 N\; mso-bidi-font-weight: bold\;&quot;&gt;&lt;span style=&quot;mso-list: Ignore\;&quot;&gt;h)&lt;span
  style=&quot;font: 7.0pt &#39;Times New Roman&#39;\;&quot;&gt;&amp;nbsp\;&amp;nbsp\;&amp;nbsp\;&amp;nbsp\; &lt;/sp
 an&gt;&lt;/span&gt;&lt;/span&gt;&lt;!--[endif]--&gt;&lt;span lang=&quot;EN-US&quot; style=&quot;font-size: 12.0pt
 \; font-family: &#39;Times New Roman&#39;\,serif\; mso-bidi-font-weight: bold\; ms
 o-bidi-font-style: italic\;&quot;&gt;Mr. Sayantan Chakraborty\, Operation Division
  IETA\, Microsoft Certified Trainer. &lt;/span&gt;&lt;/p&gt;
END:VEVENT
END:VCALENDAR

