BEGIN:VCALENDAR
VERSION:2.0
PRODID:IEEE vTools.Events//EN
CALSCALE:GREGORIAN
BEGIN:VTIMEZONE
TZID:America/Puerto_Rico
BEGIN:STANDARD
DTSTART:19450930T010000
TZOFFSETFROM:-0300
TZOFFSETTO:-0400
TZNAME:AST
END:STANDARD
END:VTIMEZONE
BEGIN:VEVENT
DTSTAMP:20250102T175033Z
UID:C1468B2B-CF92-4B3D-B105-70BE1174F794
DTSTART;TZID=America/Puerto_Rico:20241121T183000
DTEND;TZID=America/Puerto_Rico:20241121T194500
DESCRIPTION:IEEE CS Cyber Olympians Team meeting and reunion.\n\nBasic Intr
 oduction to Cyber security and penetration testing.\n\nRoom: S-211\, Bldg:
  Stefani\, UPRM Calle Post\, Mayaguez\, Puerto Rico\, United States\, 0068
 2
LOCATION:Room: S-211\, Bldg: Stefani\, UPRM Calle Post\, Mayaguez\, Puerto 
 Rico\, United States\, 00682
ORGANIZER:roberto.marrero6@upr.edu
SEQUENCE:1
SUMMARY:IEEE-CS CyberOlympians 
URL;VALUE=URI:https://events.vtools.ieee.org/m/460141
X-ALT-DESC:Description: &lt;br /&gt;&lt;p&gt;IEEE CS Cyber Olympians Team meeting and r
 eunion.&lt;/p&gt;\n&lt;p&gt;Basic Introduction to Cyber security and penetration testi
 ng.&lt;/p&gt;
END:VEVENT
END:VCALENDAR

