BEGIN:VCALENDAR
VERSION:2.0
PRODID:IEEE vTools.Events//EN
CALSCALE:GREGORIAN
BEGIN:VTIMEZONE
TZID:America/Los_Angeles
BEGIN:DAYLIGHT
DTSTART:20250309T030000
TZOFFSETFROM:-0800
TZOFFSETTO:-0700
RRULE:FREQ=YEARLY;BYDAY=2SU;BYMONTH=3
TZNAME:PDT
END:DAYLIGHT
BEGIN:STANDARD
DTSTART:20241103T010000
TZOFFSETFROM:-0700
TZOFFSETTO:-0800
RRULE:FREQ=YEARLY;BYDAY=1SU;BYMONTH=11
TZNAME:PST
END:STANDARD
END:VTIMEZONE
BEGIN:VEVENT
DTSTAMP:20250114T183157Z
UID:5C01D327-4F3B-4EDA-8D67-7F8AA1172F3D
DTSTART;TZID=America/Los_Angeles:20250113T173000
DTEND;TZID=America/Los_Angeles:20250113T193000
DESCRIPTION:Monday\, January 13\, 2025\n\n5:30pm – 7:30 pm\n\nSD IEEE Con
 sultants&#39; Network: January 2025 Meeting (&quot;Home Base&quot;)\n\nEdmund Dao - Web3
 D\n\nEdmund Dao\, BSCS\n\nSoftware for positive impact | Startups\, Innova
 tion\, Web3D\, Tools\n\nMr. Dao\, is a founder and innovator in the 3D web
  space. Join him in building a 3D power point websites in 30 seconds using
  his no-coding 3d website builder. He is an advocate for the future of web
  going 3d and using this new visual dimension for good. In addition\, Edmu
 nd is currently a software engineer with EyePop.ai\, providing a quick sta
 rt to computer vision for startups.\n\nWeb3D\, also called 3D Web\, is a g
 roup of technologies to display and navigate websites using 3D computer gr
 aphics. The presentation will include several 3D web projects and a discus
 sion of the web&#39;s evolution towards 3D.\n\nIn addition\, the presentation 
 will show how EyePop.ai is democratizing computer vision for startups in a
 n epic way\, bringing computer vision modeling to the hands of non-technic
 al innovators and breaking down barriers\, eliminating the need for in-hou
 se ML expertise.\n\nLOCATION:\n\nLeucadia Pizza UTC / La Jolla\n7748 Regen
 ts Rd\nSan Diego\, CA\n\nMenu: https://lajolla.leucadiapizza.com/la-jolla-
 san-diego-leucadia-pizzeria-and-italian-restaurant-la-jolla-food-menu\n\nA
 re you on our [Linked-in group](https://www.linkedin.com/groups/2112928)?\
 n\nSpeaker(s): Edmund Dao\n\nAgenda: \nSan Diego IEEE Consultants&#39; Network
  Meeting Date and Time:\n\n5:30-6:00 Networking\, Order food/drinks\n6:00-
 6:15 &quot;Round Robin&quot; Intros\; Announcements\n6:15-7:00 Presentation\n7:00-7:
 30+ Follow up Networking/Close\n\n(NOTE: Happy hour pricing ends at 6pm)\n
 \nWe welcome newcomers and old faces we haven’t seen in a while.\n\nBldg
 : Leucadia Pizza UTC / La Jolla\, 7748 Regents Rd\, San Diego\, California
 \, United States\, 92122
LOCATION:Bldg: Leucadia Pizza UTC / La Jolla\, 7748 Regents Rd\, San Diego\
 , California\, United States\, 92122
ORGANIZER:enriquem03@yahoo.com
SEQUENCE:24
SUMMARY:IEEE/CN - January 2025 Meeting - Edmund Dao - Web3D
URL;VALUE=URI:https://events.vtools.ieee.org/m/460768
X-ALT-DESC:Description: &lt;br /&gt;&lt;p class=&quot;MsoNormal&quot; style=&quot;text-align: cente
 r\;&quot; align=&quot;center&quot;&gt;&lt;span style=&quot;font-size: 14pt\;&quot;&gt;&lt;strong style=&quot;mso-bid
 i-font-weight: normal\;&quot;&gt;&lt;span style=&quot;font-family: &#39;Arial&#39;\,sans-serif\;&quot;&gt;
 Monday\,&lt;strong&gt; January 13\,&lt;/strong&gt; 2025&lt;/span&gt;&lt;/strong&gt;&lt;/span&gt;&lt;/p&gt;\n&lt;p
  class=&quot;MsoNormal&quot; style=&quot;text-align: center\;&quot; align=&quot;center&quot;&gt;&lt;span style
 =&quot;font-size: 14pt\;&quot;&gt;&lt;strong style=&quot;mso-bidi-font-weight: normal\;&quot;&gt;&lt;span 
 style=&quot;font-family: &#39;Arial&#39;\,sans-serif\;&quot;&gt;5:30pm &amp;ndash\; 7:30 pm&lt;/span&gt;&lt;
 /strong&gt;&lt;/span&gt;&lt;/p&gt;\n&lt;p class=&quot;MsoNormal&quot; style=&quot;text-align: center\;&quot; ali
 gn=&quot;center&quot;&gt;&lt;strong style=&quot;mso-bidi-font-weight: normal\;&quot;&gt;&lt;span style=&quot;fo
 nt-family: &#39;Arial&#39;\,sans-serif\;&quot;&gt;&amp;nbsp\;&lt;/span&gt;&lt;/strong&gt;&lt;/p&gt;\n&lt;p class=&quot;M
 soNormal&quot; style=&quot;text-align: center\;&quot; align=&quot;center&quot;&gt;&lt;span style=&quot;font-si
 ze: 14pt\;&quot;&gt;&lt;strong style=&quot;mso-bidi-font-weight: normal\;&quot;&gt;&lt;span style=&quot;fo
 nt-family: &#39;Arial&#39;\,sans-serif\;&quot;&gt;SD IEEE Consultants&#39; Network: January 20
 25 Meeting (&quot;Home Base&quot;)&lt;/span&gt;&lt;/strong&gt;&lt;/span&gt;&lt;/p&gt;\n&lt;p class=&quot;MsoNormal&quot; 
 style=&quot;text-align: center\;&quot; align=&quot;center&quot;&gt;&lt;span style=&quot;font-size: 14pt\;
 &quot;&gt;&lt;strong&gt;&lt;span style=&quot;font-family: &#39;Arial&#39;\,sans-serif\;&quot;&gt;Edmund Dao - We
 b3D&lt;/span&gt;&lt;/strong&gt;&lt;/span&gt;&lt;/p&gt;\n&lt;p class=&quot;MsoNormal&quot; style=&quot;text-align: ce
 nter\;&quot; align=&quot;center&quot;&gt;&lt;strong&gt;&lt;span style=&quot;font-family: &#39;Arial&#39;\,sans-ser
 if\;&quot;&gt;&amp;nbsp\;&lt;/span&gt;&lt;/strong&gt;&lt;/p&gt;\n&lt;p class=&quot;MsoNormal&quot;&gt;&lt;strong&gt;&lt;span styl
 e=&quot;font-family: &#39;Arial&#39;\,sans-serif\;&quot;&gt;Edmund Dao\, BSCS&lt;/span&gt;&lt;/strong&gt;&lt;/
 p&gt;\n&lt;p class=&quot;MsoNormal&quot; style=&quot;text-align: justify\;&quot;&gt;&lt;em&gt;&lt;span style=&quot;fo
 nt-family: &#39;Arial&#39;\,sans-serif\;&quot;&gt;Software for positive impact | Startups\
 , Innovation&lt;/span&gt;&lt;/em&gt;&lt;span style=&quot;font-family: &#39;Arial&#39;\,sans-serif\;&quot;&gt;\
 , Web3D\, Tools&lt;/span&gt;&lt;/p&gt;\n&lt;p class=&quot;MsoNormal&quot; style=&quot;text-align: justif
 y\;&quot;&gt;&lt;span style=&quot;font-family: &#39;Arial&#39;\,sans-serif\;&quot;&gt;&amp;nbsp\;&lt;/span&gt;&lt;/p&gt;\n
 &lt;p class=&quot;MsoNormal&quot;&gt;&lt;span style=&quot;font-family: &#39;Arial&#39;\,sans-serif\;&quot;&gt;Mr. 
 Dao\, is a founder and innovator in the 3D web space. Join him in building
  a 3D power point websites in 30 seconds using his no-coding 3d website bu
 ilder. He is an advocate for the future of web going 3d and using this new
  visual dimension for good. In addition\, Edmund is currently a software e
 ngineer with EyePop.ai\, providing a quick start to computer vision for st
 artups.&lt;/span&gt;&lt;/p&gt;\n&lt;p class=&quot;MsoNormal&quot;&gt;&lt;span style=&quot;font-family: &#39;Arial&#39;
 \,sans-serif\;&quot;&gt;Web3D\, also called 3D Web\, is a group of technologies to
  display and navigate websites using 3D computer graphics. The presentatio
 n will include several 3D web projects and a discussion of the web&#39;s evolu
 tion towards 3D.&lt;/span&gt;&lt;/p&gt;\n&lt;p class=&quot;MsoNormal&quot;&gt;&lt;span style=&quot;font-family
 : &#39;Arial&#39;\,sans-serif\;&quot;&gt;&amp;nbsp\;&lt;/span&gt;&lt;span style=&quot;font-family: &#39;Arial&#39;\,
 sans-serif\;&quot;&gt;In addition\, the presentation will show how EyePop.ai is de
 mocratizing computer vision for startups in an epic way\, bringing compute
 r vision modeling to the hands of non-technical innovators and breaking do
 wn barriers\, eliminating the need for in-house ML expertise.&lt;/span&gt;&lt;/p&gt;\n
 &lt;p&gt;&amp;nbsp\;&lt;/p&gt;\n&lt;p class=&quot;MsoNormal&quot;&gt;&lt;strong&gt;&lt;span style=&quot;font-family: &#39;Ar
 ial&#39;\,sans-serif\;&quot;&gt;LOCATION:&lt;/span&gt;&lt;/strong&gt;&lt;/p&gt;\n&lt;p class=&quot;MsoNormal&quot;&gt;&lt;s
 trong&gt;&lt;span style=&quot;font-family: &#39;Arial&#39;\,sans-serif\; color: black\; mso-c
 olor-alt: windowtext\; background: #F6F7F8\;&quot;&gt;Leucadia Pizza UTC / La Joll
 a&lt;br&gt;&lt;/span&gt;&lt;/strong&gt;&lt;span style=&quot;font-family: &#39;Arial&#39;\,sans-serif\; color
 : black\; mso-color-alt: windowtext\; background: #F6F7F8\;&quot;&gt;7748 Regents 
 Rd&lt;br&gt;&lt;/span&gt;&lt;span style=&quot;font-family: &#39;Arial&#39;\,sans-serif\; color: black\
 ; mso-color-alt: windowtext\; background: #F6F7F8\;&quot;&gt;San Diego\, CA&lt;/span&gt;
 &lt;/p&gt;\n&lt;p class=&quot;MsoNormal&quot;&gt;&lt;span lang=&quot;ES&quot; style=&quot;font-family: &#39;Arial&#39;\,sa
 ns-serif\; color: black\; mso-color-alt: windowtext\; background: #F6F7F8\
 ; mso-ansi-language: ES\;&quot;&gt;Menu:&amp;nbsp\;&lt;/span&gt;&lt;a href=&quot;https://lajolla.leu
 cadiapizza.com/la-jolla-san-diego-leucadia-pizzeria-and-italian-restaurant
 -la-jolla-food-menu&quot;&gt;&lt;span lang=&quot;ES&quot; style=&quot;font-family: &#39;Arial&#39;\,sans-ser
 if\; background: #F6F7F8\; mso-ansi-language: ES\;&quot;&gt;https://lajolla.leucad
 iapizza.com/la-jolla-san-diego-leucadia-pizzeria-and-italian-restaurant-la
 -jolla-food-menu&lt;/span&gt;&lt;/a&gt;&lt;span lang=&quot;ES&quot; style=&quot;font-family: &#39;Arial&#39;\,sa
 ns-serif\; color: black\; mso-color-alt: windowtext\; background: #F6F7F8\
 ; mso-ansi-language: ES\;&quot;&gt; &lt;/span&gt;&lt;/p&gt;\n&lt;p class=&quot;MsoNormal&quot;&gt;&amp;nbsp\;&lt;/p&gt;\
 n&lt;p class=&quot;MsoNormal&quot;&gt;&lt;span style=&quot;font-family: &#39;Arial&#39;\,sans-serif\;&quot;&gt;&amp;nb
 sp\;&lt;/span&gt;&lt;/p&gt;\n&lt;p class=&quot;MsoNormal&quot;&gt;&lt;span style=&quot;font-size: 11.0pt\; fon
 t-family: &#39;Helvetica&#39;\,sans-serif\; color: black\;&quot;&gt;&lt;!--[endif]--&gt;&lt;/span&gt;&lt;
 /p&gt;\n&lt;p class=&quot;MsoNormal&quot;&gt;&lt;strong&gt;&lt;span style=&quot;font-size: 11.0pt\; font-fa
 mily: &#39;Helvetica&#39;\,sans-serif\; color: black\;&quot;&gt;Are you on our &lt;/span&gt;&lt;/st
 rong&gt;&lt;a href=&quot;https://www.linkedin.com/groups/2112928&quot;&gt;&lt;span style=&quot;font-s
 ize: 11.0pt\; font-family: &#39;Helvetica&#39;\,sans-serif\;&quot;&gt;Linked-in group&lt;/spa
 n&gt;&lt;/a&gt;&lt;strong&gt;&lt;span style=&quot;font-size: 11.0pt\; font-family: &#39;Helvetica&#39;\,s
 ans-serif\; color: black\;&quot;&gt;?&lt;/span&gt;&lt;/strong&gt;&lt;span style=&quot;font-size: 11.0p
 t\; font-family: &#39;Helvetica&#39;\,sans-serif\; color: black\;&quot;&gt; &lt;/span&gt;&lt;/p&gt;&lt;br
  /&gt;&lt;br /&gt;Agenda: &lt;br /&gt;&lt;p class=&quot;MsoNormal&quot;&gt;&lt;span style=&quot;font-size: 14pt\;
 &quot;&gt;&lt;strong&gt;&lt;span style=&quot;font-family: &#39;Arial&#39;\, sans-serif\;&quot;&gt;San Diego IEEE
  Consultants&#39; Network Meeting Date and Time:&lt;/span&gt;&lt;/strong&gt;&lt;/span&gt;&lt;/p&gt;\n&lt;
 p class=&quot;ydpeb8f500fmsonormal&quot;&gt;&lt;span style=&quot;font-size: 12.0pt\; font-famil
 y: &#39;Arial&#39;\,sans-serif\; color: black\; background: #F6F7F8\;&quot;&gt;5:30-6:00 N
 etworking\, Order food/drinks&lt;br&gt;&lt;/span&gt;&lt;span style=&quot;background-size: auto
 \; background-attachment: scroll\;&quot;&gt;&lt;span style=&quot;font-size: 12.0pt\; font-
 family: &#39;Arial&#39;\,sans-serif\; color: black\; background: #F6F7F8\;&quot;&gt;6:00-6
 :15 &quot;Round Robin&quot; Intros\; Announcements&lt;br&gt;&lt;/span&gt;&lt;/span&gt;&lt;span style=&quot;bac
 kground-size: auto\; background-attachment: scroll\;&quot;&gt;&lt;span style=&quot;font-si
 ze: 12.0pt\; font-family: &#39;Arial&#39;\,sans-serif\; color: black\; background:
  #F6F7F8\;&quot;&gt;6:15-7:00 Presentation&lt;br&gt;&lt;/span&gt;&lt;/span&gt;&lt;span style=&quot;backgroun
 d-size: auto\; background-attachment: scroll\;&quot;&gt;&lt;span style=&quot;font-size: 12
 .0pt\; font-family: &#39;Arial&#39;\,sans-serif\; color: black\; background: #F6F7
 F8\;&quot;&gt;7:00-7:30+ Follow up Networking/Close&lt;/span&gt;&lt;/span&gt;&lt;/p&gt;\n&lt;p class=&quot;y
 dpeb8f500fmsonormal&quot;&gt;&lt;span style=&quot;background-size: auto\; background-attac
 hment: scroll\;&quot;&gt;&lt;span style=&quot;font-size: 12.0pt\; font-family: &#39;Arial&#39;\,sa
 ns-serif\; color: black\; background: #F6F7F8\;&quot;&gt;(NOTE: Happy hour pricing
  ends at 6pm)&lt;/span&gt;&lt;/span&gt;&lt;/p&gt;\n&lt;p class=&quot;MsoNormal&quot;&gt;&lt;span style=&quot;font-si
 ze: 12pt\;&quot;&gt;&amp;nbsp\;&lt;/span&gt;&lt;/p&gt;\n&lt;p class=&quot;MsoNormal&quot;&gt;&lt;span style=&quot;font-siz
 e: 10.0pt\; font-family: &#39;Arial&#39;\,sans-serif\; color: black\; mso-color-al
 t: windowtext\; background: #F6F7F8\;&quot;&gt;&lt;br&gt;&lt;/span&gt;&lt;span style=&quot;font-size: 
 12pt\; font-family: &#39;Arial&#39;\, sans-serif\;&quot;&gt;We welcome newcomers and old f
 aces we haven&amp;rsquo\;t seen in a while.&lt;/span&gt;&lt;/p&gt;
END:VEVENT
END:VCALENDAR

