BEGIN:VCALENDAR
VERSION:2.0
PRODID:IEEE vTools.Events//EN
CALSCALE:GREGORIAN
BEGIN:VTIMEZONE
TZID:Australia/Adelaide
BEGIN:DAYLIGHT
DTSTART:20241006T030000
TZOFFSETFROM:+0930
TZOFFSETTO:+1030
RRULE:FREQ=YEARLY;BYDAY=1SU;BYMONTH=10
TZNAME:ACDT
END:DAYLIGHT
BEGIN:STANDARD
DTSTART:20250406T020000
TZOFFSETFROM:+1030
TZOFFSETTO:+0930
RRULE:FREQ=YEARLY;BYDAY=1SU;BYMONTH=4
TZNAME:ACST
END:STANDARD
END:VTIMEZONE
BEGIN:VEVENT
DTSTAMP:20250408T070549Z
UID:3A831A0E-18DC-4A49-8B95-FF05E3B30F5F
DTSTART;TZID=Australia/Adelaide:20250205T121500
DTEND;TZID=Australia/Adelaide:20250205T141500
DESCRIPTION:France  and  the  UK  are  building Nuclear  reactors\,  German
 y  is shutting  them  down.    The  federal coalition  is  proposing  Nucl
 ear power  for  Australia.  How  does nuclear power fit in a future energy
  grid  in  Australia. Nuclear power is likely to be  a  significant  issue
   in  the  next  federal  election.  The  presentation  will  allow  the a
 udience to make a more informed decision on this matter.\n\nSpeaker(s): Ke
 ith\, \n\nRoom: Eng Aus Auditorium\, Bldg: floor 11\, 108 King William st\
 , Adelaide\, South Australia\, Australia\, 5000
LOCATION:Room: Eng Aus Auditorium\, Bldg: floor 11\, 108 King William st\, 
 Adelaide\, South Australia\, Australia\, 5000
ORGANIZER:Keith.Kikkert@iinet.net.au
SEQUENCE:5
SUMMARY:Nuclear Power for the Australian Energy Transition
URL;VALUE=URI:https://events.vtools.ieee.org/m/460991
X-ALT-DESC:Description: &lt;br /&gt;&lt;p&gt;&lt;!--StartFragment --&gt;&lt;/p&gt;\n&lt;p&gt;&lt;span style=
 &quot;font-family: CIDFontF1\; font-size: 13px\; color: #000000\;&quot;&gt;France &lt;/spa
 n&gt;&lt;span style=&quot;font-family: EditControl\; font-size: 13px\; color: #000000
 \;&quot;&gt; &lt;/span&gt;&lt;span style=&quot;font-family: CIDFontF1\; font-size: 13px\; color:
  #000000\;&quot;&gt;and &lt;/span&gt;&lt;span style=&quot;font-family: EditControl\; font-size: 
 13px\; color: #000000\;&quot;&gt; &lt;/span&gt;&lt;span style=&quot;font-family: CIDFontF1\; fon
 t-size: 13px\; color: #000000\;&quot;&gt;the &lt;/span&gt;&lt;span style=&quot;font-family: Edit
 Control\; font-size: 13px\; color: #000000\;&quot;&gt; &lt;/span&gt;&lt;span style=&quot;font-fa
 mily: CIDFontF1\; font-size: 13px\; color: #000000\;&quot;&gt;UK &lt;/span&gt;&lt;span styl
 e=&quot;font-family: EditControl\; font-size: 13px\; color: #000000\;&quot;&gt; &lt;/span&gt;
 &lt;span style=&quot;font-family: CIDFontF1\; font-size: 13px\; color: #000000\;&quot;&gt;
 are &lt;/span&gt;&lt;span style=&quot;font-family: EditControl\; font-size: 13px\; color
 : #000000\;&quot;&gt; &lt;/span&gt;&lt;span style=&quot;font-family: CIDFontF1\; font-size: 13px
 \; color: #000000\;&quot;&gt;building Nuclear &lt;/span&gt;&lt;span style=&quot;font-family: Edi
 tControl\; font-size: 13px\; color: #000000\;&quot;&gt; &lt;/span&gt;&lt;span style=&quot;font-f
 amily: CIDFontF1\; font-size: 13px\; color: #000000\;&quot;&gt;reactors\, &lt;/span&gt;&lt;
 span style=&quot;font-family: EditControl\; font-size: 13px\; color: #000000\;&quot;
 &gt; &lt;/span&gt;&lt;span style=&quot;font-family: CIDFontF1\; font-size: 13px\; color: #0
 00000\;&quot;&gt;Germany &lt;/span&gt;&lt;span style=&quot;font-family: EditControl\; font-size:
  13px\; color: #000000\;&quot;&gt; &lt;/span&gt;&lt;span style=&quot;font-family: CIDFontF1\; fo
 nt-size: 13px\; color: #000000\;&quot;&gt;is shutting &lt;/span&gt;&lt;span style=&quot;font-fam
 ily: EditControl\; font-size: 13px\; color: #000000\;&quot;&gt; &lt;/span&gt;&lt;span style
 =&quot;font-family: CIDFontF1\; font-size: 13px\; color: #000000\;&quot;&gt;them &lt;/span
 &gt;&lt;span style=&quot;font-family: EditControl\; font-size: 13px\; color: #000000\
 ;&quot;&gt; &lt;/span&gt;&lt;span style=&quot;font-family: CIDFontF1\; font-size: 13px\; color: 
 #000000\;&quot;&gt;down. &lt;/span&gt;&lt;span style=&quot;font-family: EditControl\; font-size:
  13px\; color: #000000\;&quot;&gt; &lt;/span&gt;&lt;span style=&quot;font-family: CIDFontF1\; fo
 nt-size: 13px\; color: #000000\;&quot;&gt; &lt;/span&gt;&lt;span style=&quot;font-family: EditCo
 ntrol\; font-size: 13px\; color: #000000\;&quot;&gt; &lt;/span&gt;&lt;span style=&quot;font-fami
 ly: CIDFontF1\; font-size: 13px\; color: #000000\;&quot;&gt;The &lt;/span&gt;&lt;span style
 =&quot;font-family: EditControl\; font-size: 13px\; color: #000000\;&quot;&gt; &lt;/span&gt;&lt;
 span style=&quot;font-family: CIDFontF1\; font-size: 13px\; color: #000000\;&quot;&gt;f
 ederal coalition &lt;/span&gt;&lt;span style=&quot;font-family: EditControl\; font-size:
  13px\; color: #000000\;&quot;&gt; &lt;/span&gt;&lt;span style=&quot;font-family: CIDFontF1\; fo
 nt-size: 13px\; color: #000000\;&quot;&gt;is &lt;/span&gt;&lt;span style=&quot;font-family: Edit
 Control\; font-size: 13px\; color: #000000\;&quot;&gt; &lt;/span&gt;&lt;span style=&quot;font-fa
 mily: CIDFontF1\; font-size: 13px\; color: #000000\;&quot;&gt;proposing &lt;/span&gt;&lt;sp
 an style=&quot;font-family: EditControl\; font-size: 13px\; color: #000000\;&quot;&gt; 
 &lt;/span&gt;&lt;span style=&quot;font-family: CIDFontF1\; font-size: 13px\; color: #000
 000\;&quot;&gt;Nuclear power &lt;/span&gt;&lt;span style=&quot;font-family: EditControl\; font-s
 ize: 13px\; color: #000000\;&quot;&gt; &lt;/span&gt;&lt;span style=&quot;font-family: CIDFontF1\
 ; font-size: 13px\; color: #000000\;&quot;&gt;for &lt;/span&gt;&lt;span style=&quot;font-family:
  EditControl\; font-size: 13px\; color: #000000\;&quot;&gt; &lt;/span&gt;&lt;span style=&quot;fo
 nt-family: CIDFontF1\; font-size: 13px\; color: #000000\;&quot;&gt;Australia. &lt;/sp
 an&gt;&lt;span style=&quot;font-family: EditControl\; font-size: 13px\; color: #00000
 0\;&quot;&gt; &lt;/span&gt;&lt;span style=&quot;font-family: CIDFontF1\; font-size: 13px\; color
 : #000000\;&quot;&gt;How &lt;/span&gt;&lt;span style=&quot;font-family: EditControl\; font-size:
  13px\; color: #000000\;&quot;&gt; &lt;/span&gt;&lt;span style=&quot;font-family: CIDFontF1\; fo
 nt-size: 13px\; color: #000000\;&quot;&gt;does nuclear power fit in a future energ
 y grid &lt;/span&gt;&lt;span style=&quot;font-family: EditControl\; font-size: 13px\; co
 lor: #000000\;&quot;&gt; &lt;/span&gt;&lt;span style=&quot;font-family: CIDFontF1\; font-size: 1
 3px\; color: #000000\;&quot;&gt;in &lt;/span&gt;&lt;span style=&quot;font-family: EditControl\; 
 font-size: 13px\; color: #000000\;&quot;&gt; &lt;/span&gt;&lt;span style=&quot;font-family: CIDF
 ontF1\; font-size: 13px\; color: #000000\;&quot;&gt;Australia.&amp;nbsp\;&lt;/span&gt;&lt;span 
 style=&quot;font-family: CIDFontF1\; font-size: 13px\; color: #000000\;&quot;&gt;Nuclea
 r power is likely to be &lt;/span&gt;&lt;span style=&quot;font-family: EditControl\; fon
 t-size: 13px\; color: #000000\;&quot;&gt; &lt;/span&gt;&lt;span style=&quot;font-family: CIDFont
 F1\; font-size: 13px\; color: #000000\;&quot;&gt;a &lt;/span&gt;&lt;span style=&quot;font-family
 : EditControl\; font-size: 13px\; color: #000000\;&quot;&gt; &lt;/span&gt;&lt;span style=&quot;f
 ont-family: CIDFontF1\; font-size: 13px\; color: #000000\;&quot;&gt;significant &lt;/
 span&gt;&lt;span style=&quot;font-family: EditControl\; font-size: 13px\; color: #000
 000\;&quot;&gt; &lt;/span&gt;&lt;span style=&quot;font-family: CIDFontF1\; font-size: 13px\; col
 or: #000000\;&quot;&gt;issue &lt;/span&gt;&lt;span style=&quot;font-family: EditControl\; font-s
 ize: 13px\; color: #000000\;&quot;&gt; &lt;/span&gt;&lt;span style=&quot;font-family: CIDFontF1\
 ; font-size: 13px\; color: #000000\;&quot;&gt;in &lt;/span&gt;&lt;span style=&quot;font-family: 
 EditControl\; font-size: 13px\; color: #000000\;&quot;&gt; &lt;/span&gt;&lt;span style=&quot;fon
 t-family: CIDFontF1\; font-size: 13px\; color: #000000\;&quot;&gt;the &lt;/span&gt;&lt;span
  style=&quot;font-family: EditControl\; font-size: 13px\; color: #000000\;&quot;&gt; &lt;/
 span&gt;&lt;span style=&quot;font-family: CIDFontF1\; font-size: 13px\; color: #00000
 0\;&quot;&gt;next &lt;/span&gt;&lt;span style=&quot;font-family: EditControl\; font-size: 13px\;
  color: #000000\;&quot;&gt; &lt;/span&gt;&lt;span style=&quot;font-family: CIDFontF1\; font-size
 : 13px\; color: #000000\;&quot;&gt;federal &lt;/span&gt;&lt;span style=&quot;font-family: EditCo
 ntrol\; font-size: 13px\; color: #000000\;&quot;&gt; &lt;/span&gt;&lt;span style=&quot;font-fami
 ly: CIDFontF1\; font-size: 13px\; color: #000000\;&quot;&gt;election. &lt;/span&gt;&lt;span
  style=&quot;font-family: EditControl\; font-size: 13px\; color: #000000\;&quot;&gt; &lt;/
 span&gt;&lt;span style=&quot;font-family: CIDFontF1\; font-size: 13px\; color: #00000
 0\;&quot;&gt;The &lt;/span&gt;&lt;span style=&quot;font-family: EditControl\; font-size: 13px\; 
 color: #000000\;&quot;&gt; &lt;/span&gt;&lt;span style=&quot;font-family: CIDFontF1\; font-size:
  13px\; color: #000000\;&quot;&gt;presentation &lt;/span&gt;&lt;span style=&quot;font-family: Ed
 itControl\; font-size: 13px\; color: #000000\;&quot;&gt; &lt;/span&gt;&lt;span style=&quot;font-
 family: CIDFontF1\; font-size: 13px\; color: #000000\;&quot;&gt;will &lt;/span&gt;&lt;span 
 style=&quot;font-family: EditControl\; font-size: 13px\; color: #000000\;&quot;&gt; &lt;/s
 pan&gt;&lt;span style=&quot;font-family: CIDFontF1\; font-size: 13px\; color: #000000
 \;&quot;&gt;allow &lt;/span&gt;&lt;span style=&quot;font-family: EditControl\; font-size: 13px\;
  color: #000000\;&quot;&gt; &lt;/span&gt;&lt;span style=&quot;font-family: CIDFontF1\; font-size
 : 13px\; color: #000000\;&quot;&gt;the audience to make a more informed decision o
 n this matter.&lt;/span&gt;&lt;span style=&quot;font-family: CIDFontF2\; font-size: 13px
 \; color: #000000\;&quot;&gt; &lt;/span&gt;&lt;/p&gt;
END:VEVENT
END:VCALENDAR

