BEGIN:VCALENDAR
VERSION:2.0
PRODID:IEEE vTools.Events//EN
CALSCALE:GREGORIAN
BEGIN:VTIMEZONE
TZID:Asia/Kuala_Lumpur
BEGIN:DAYLIGHT
DTSTART:20380119T111407
TZOFFSETFROM:+0800
TZOFFSETTO:+0800
RRULE:FREQ=YEARLY;BYDAY=3TU;BYMONTH=1
TZNAME:+08
END:DAYLIGHT
BEGIN:STANDARD
DTSTART:19820101T000000
TZOFFSETFROM:+0730
TZOFFSETTO:+0800
RRULE:FREQ=YEARLY;BYDAY=1FR;BYMONTH=1
TZNAME:+08
END:STANDARD
END:VTIMEZONE
BEGIN:VEVENT
DTSTAMP:20250108T021745Z
UID:D01FF23C-DAE2-4B01-B15C-C105A0D79262
DTSTART;TZID=Asia/Kuala_Lumpur:20241207T083000
DTEND;TZID=Asia/Kuala_Lumpur:20241207T140000
DESCRIPTION:The Electrical Power System Simulation Competition 2024 (EPSSCO
 M2024) was held on 7 December 2024 at Universiti Putra Malaysia\, providin
 g an engaging platform for undergraduate electrical engineering students t
 o showcase their simulation projects. With the theme &quot;Sustainable Microgri
 d with Smart Energy Management System\,&quot; the competition fostered innovati
 on and collaboration in the field of power and energy engineering. Open to
  students across Asia\, the event attracted eight teams from various unive
 rsities\, who presented their works to a panel of industry experts and aca
 demic scholars. EPSSCOM2024 facilitated knowledge sharing\, networking\, a
 nd discussions on sustainable energy solutions\, further enriching partici
 pants’ academic and professional experiences.\n\nSerdang\, Selangor\, Ma
 laysia\, 43400
LOCATION:Serdang\, Selangor\, Malaysia\, 43400
ORGANIZER:zuhai730@uitm.edu.my
SEQUENCE:11
SUMMARY:Electrical Power System Simulation Competition 2024 (EPSSCOM2024)
URL;VALUE=URI:https://events.vtools.ieee.org/m/461010
X-ALT-DESC:Description: &lt;br /&gt;&lt;div style=&quot;mso-element: frame\; mso-element-
 frame-hspace: 9.0pt\; mso-element-wrap: around\; mso-element-anchor-vertic
 al: paragraph\; mso-element-anchor-horizontal: margin\; mso-element-left: 
 center\; mso-element-top: 12.7pt\; mso-height-rule: exactly\;&quot;&gt;\n&lt;table ce
 llspacing=&quot;0&quot; cellpadding=&quot;0&quot; align=&quot;center&quot;&gt;\n&lt;tbody&gt;\n&lt;tr&gt;\n&lt;td style=&quot;p
 adding: 0cm 9.0pt 0cm 9.0pt\;&quot; align=&quot;left&quot; valign=&quot;top&quot;&gt;\n&lt;p class=&quot;MsoNo
 rmal&quot; style=&quot;text-align: justify\; mso-element: frame\; mso-element-frame-
 hspace: 9.0pt\; mso-element-wrap: around\; mso-element-anchor-vertical: pa
 ragraph\; mso-element-anchor-horizontal: margin\; mso-element-left: center
 \; mso-element-top: 12.7pt\; mso-height-rule: exactly\;&quot;&gt;The Electrical Po
 wer System Simulation Competition 2024 (EPSSCOM2024) was held on 7 Decembe
 r 2024 at Universiti Putra Malaysia\, providing an engaging platform for u
 ndergraduate electrical engineering students to showcase their simulation 
 projects. With the theme &quot;Sustainable Microgrid with Smart Energy Manageme
 nt System\,&quot; the competition fostered innovation and collaboration in the 
 field of power and energy engineering. Open to students across Asia\, the 
 event attracted eight teams from various universities\, who presented thei
 r works to a panel of industry experts and academic scholars. EPSSCOM2024 
 facilitated knowledge sharing\, networking\, and discussions on sustainabl
 e energy solutions\, further enriching participants&amp;rsquo\; academic and p
 rofessional experiences.&lt;/p&gt;\n&lt;p class=&quot;MsoNormal&quot; style=&quot;text-align: just
 ify\; mso-element: frame\; mso-element-frame-hspace: 9.0pt\; mso-element-w
 rap: around\; mso-element-anchor-vertical: paragraph\; mso-element-anchor-
 horizontal: margin\; mso-element-left: center\; mso-element-top: 12.7pt\; 
 mso-height-rule: exactly\;&quot;&gt;&lt;img src=&quot;https://events.vtools.ieee.org/vtool
 s_ui/media/display/cb8521fe-832f-4be7-84de-505cf59f5599&quot; width=&quot;556&quot; heigh
 t=&quot;311&quot;&gt;&lt;/p&gt;\n&lt;p class=&quot;MsoNormal&quot; style=&quot;text-align: justify\; mso-elemen
 t: frame\; mso-element-frame-hspace: 9.0pt\; mso-element-wrap: around\; ms
 o-element-anchor-vertical: paragraph\; mso-element-anchor-horizontal: marg
 in\; mso-element-left: center\; mso-element-top: 12.7pt\; mso-height-rule:
  exactly\;&quot;&gt;&lt;img src=&quot;https://events.vtools.ieee.org/vtools_ui/media/displ
 ay/13ba2c8f-45ff-4bb4-8359-d3ad401a8809&quot; width=&quot;557&quot; height=&quot;323&quot;&gt;&lt;/p&gt;\n&lt;p
  class=&quot;MsoNormal&quot; style=&quot;text-align: justify\; mso-element: frame\; mso-e
 lement-frame-hspace: 9.0pt\; mso-element-wrap: around\; mso-element-anchor
 -vertical: paragraph\; mso-element-anchor-horizontal: margin\; mso-element
 -left: center\; mso-element-top: 12.7pt\; mso-height-rule: exactly\;&quot;&gt;&amp;nbs
 p\;&lt;/p&gt;\n&lt;p class=&quot;MsoNormal&quot; style=&quot;text-align: justify\; mso-element: fr
 ame\; mso-element-frame-hspace: 9.0pt\; mso-element-wrap: around\; mso-ele
 ment-anchor-vertical: paragraph\; mso-element-anchor-horizontal: margin\; 
 mso-element-left: center\; mso-element-top: 12.7pt\; mso-height-rule: exac
 tly\;&quot;&gt;&amp;nbsp\;&lt;/p&gt;\n&lt;p class=&quot;MsoNormal&quot; style=&quot;text-align: justify\; mso-
 element: frame\; mso-element-frame-hspace: 9.0pt\; mso-element-wrap: aroun
 d\; mso-element-anchor-vertical: paragraph\; mso-element-anchor-horizontal
 : margin\; mso-element-left: center\; mso-element-top: 12.7pt\; mso-height
 -rule: exactly\;&quot;&gt;&amp;nbsp\;&lt;/p&gt;\n&lt;p class=&quot;MsoNormal&quot; style=&quot;text-align: jus
 tify\; mso-element: frame\; mso-element-frame-hspace: 9.0pt\; mso-element-
 wrap: around\; mso-element-anchor-vertical: paragraph\; mso-element-anchor
 -horizontal: margin\; mso-element-left: center\; mso-element-top: 12.7pt\;
  mso-height-rule: exactly\;&quot;&gt;&amp;nbsp\;&lt;/p&gt;\n&lt;/td&gt;\n&lt;/tr&gt;\n&lt;/tbody&gt;\n&lt;/table&gt;
 \n&lt;/div&gt;
END:VEVENT
END:VCALENDAR

