BEGIN:VCALENDAR
VERSION:2.0
PRODID:IEEE vTools.Events//EN
CALSCALE:GREGORIAN
BEGIN:VTIMEZONE
TZID:Asia/Kuala_Lumpur
BEGIN:DAYLIGHT
DTSTART:20380119T111407
TZOFFSETFROM:+0800
TZOFFSETTO:+0800
RRULE:FREQ=YEARLY;BYDAY=3TU;BYMONTH=1
TZNAME:+08
END:DAYLIGHT
BEGIN:STANDARD
DTSTART:19820101T000000
TZOFFSETFROM:+0730
TZOFFSETTO:+0800
RRULE:FREQ=YEARLY;BYDAY=1FR;BYMONTH=1
TZNAME:+08
END:STANDARD
END:VTIMEZONE
BEGIN:VEVENT
DTSTAMP:20250108T073253Z
UID:649BB079-53A3-48B0-BDF6-502296242FEE
DTSTART;TZID=Asia/Kuala_Lumpur:20240612T090000
DTEND;TZID=Asia/Kuala_Lumpur:20240612T140000
DESCRIPTION:IEEE PES Malaysia was invited to judge and sponsor an award for
  the Research and Innovation Engineering Day’ (RADIATE 2024)  organized 
 by the Faculty of Electrical Engineering and Technology of Unviersiti Tekn
 ikal Malaysia Melaka (UTEM). IEEE PES Malaysia was represented by Prof. Ga
 n Chin Kim.\n\nThe event was attended by 80 participants consisting of stu
 dents and about 20 lecturers (all are IEEE members). The IEEE PES judges p
 rojects related to the track of Power and Energy.\n\nDurian Tunggal\, Mela
 ka\, Malaysia\, 76100
LOCATION:Durian Tunggal\, Melaka\, Malaysia\, 76100
ORGANIZER:zuhai730@uitm.edu.my
SEQUENCE:8
SUMMARY:Universiti Teknikal Malaysia Research and Innovation Engineering Da
 y’ (RADIATE 2024)
URL;VALUE=URI:https://events.vtools.ieee.org/m/461096
X-ALT-DESC:Description: &lt;br /&gt;&lt;table class=&quot;MsoTableGrid&quot; style=&quot;border-col
 lapse: collapse\; mso-table-layout-alt: fixed\; border: none\; mso-border-
 alt: solid windowtext .5pt\; mso-yfti-tbllook: 1184\; mso-table-lspace: 9.
 0pt\; margin-left: 6.75pt\; mso-table-rspace: 9.0pt\; margin-right: 6.75pt
 \; mso-table-anchor-vertical: paragraph\; mso-table-anchor-horizontal: mar
 gin\; mso-table-left: center\; mso-table-top: 12.7pt\; mso-padding-alt: 0c
 m 5.4pt 0cm 5.4pt\;&quot; border=&quot;1&quot; width=&quot;709&quot; cellspacing=&quot;0&quot; cellpadding=&quot;0
 &quot; align=&quot;left&quot;&gt;\n&lt;tbody&gt;\n&lt;tr style=&quot;mso-yfti-irow: 0\; mso-yfti-firstrow:
  yes\; mso-yfti-lastrow: yes\;&quot;&gt;\n&lt;td style=&quot;width: 421.55pt\; border: sol
 id windowtext 1.0pt\; mso-border-alt: solid windowtext .5pt\; padding: 0cm
  5.4pt 0cm 5.4pt\;&quot; valign=&quot;top&quot; width=&quot;562&quot;&gt;\n&lt;p class=&quot;MsoNormal&quot; style=
 &quot;margin-bottom: 0cm\; line-height: normal\; mso-element: frame\; mso-eleme
 nt-frame-hspace: 9.0pt\; mso-element-wrap: around\; mso-element-anchor-ver
 tical: paragraph\; mso-element-anchor-horizontal: margin\; mso-element-lef
 t: center\; mso-element-top: 12.7pt\; mso-height-rule: exactly\;&quot;&gt;IEEE PES
  Malaysia was invited to judge and sponsor an award for the Research and I
 nnovation Engineering Day&amp;rsquo\; (RADIATE 2024) &lt;span style=&quot;mso-spacerun
 : yes\;&quot;&gt;&amp;nbsp\;&lt;/span&gt;organized by the Faculty of Electrical Engineering 
 and Technology of Unviersiti Teknikal Malaysia Melaka (UTEM). IEEE PES Mal
 aysia was represented by Prof. Gan Chin Kim.&lt;/p&gt;\n&lt;p class=&quot;MsoNormal&quot; sty
 le=&quot;margin-bottom: 0cm\; line-height: normal\; mso-element: frame\; mso-el
 ement-frame-hspace: 9.0pt\; mso-element-wrap: around\; mso-element-anchor-
 vertical: paragraph\; mso-element-anchor-horizontal: margin\; mso-element-
 left: center\; mso-element-top: 12.7pt\; mso-height-rule: exactly\;&quot;&gt;&lt;span
  style=&quot;font-size: 12.0pt\; mso-ascii-font-family: Calibri\; mso-fareast-f
 ont-family: Calibri\; mso-hansi-font-family: Calibri\; mso-bidi-font-famil
 y: Calibri\; color: black\; mso-themecolor: text1\;&quot;&gt;The event was attende
 d by 80 participants consisting of students and&amp;nbsp\;&lt;/span&gt;&lt;span style=&quot;
 font-size: 12.0pt\; mso-ascii-font-family: Calibri\; mso-fareast-font-fami
 ly: Calibri\; mso-hansi-font-family: Calibri\; mso-bidi-font-family: Calib
 ri\;&quot;&gt;about 20 lecturers (all are IEEE members)&lt;span style=&quot;color: black\;
  mso-themecolor: text1\;&quot;&gt;. The IEEE PES judges projects related to the tr
 ack of Power and Energy.&lt;/span&gt;&lt;/span&gt;&lt;/p&gt;\n&lt;p class=&quot;MsoNormal&quot; style=&quot;ma
 rgin-bottom: 0cm\; line-height: normal\; mso-element: frame\; mso-element-
 frame-hspace: 9.0pt\; mso-element-wrap: around\; mso-element-anchor-vertic
 al: paragraph\; mso-element-anchor-horizontal: margin\; mso-element-left: 
 center\; mso-element-top: 12.7pt\; mso-height-rule: exactly\;&quot;&gt;&lt;img src=&quot;h
 ttps://events.vtools.ieee.org/vtools_ui/media/display/8054eb75-03b0-4896-9
 fa1-978a649ec43f&quot; width=&quot;473&quot; height=&quot;355&quot;&gt;&lt;/p&gt;\n&lt;p class=&quot;MsoNormal&quot; styl
 e=&quot;margin-bottom: 0cm\; line-height: normal\; mso-element: frame\; mso-ele
 ment-frame-hspace: 9.0pt\; mso-element-wrap: around\; mso-element-anchor-v
 ertical: paragraph\; mso-element-anchor-horizontal: margin\; mso-element-l
 eft: center\; mso-element-top: 12.7pt\; mso-height-rule: exactly\;&quot;&gt;&amp;nbsp\
 ;&lt;/p&gt;\n&lt;/td&gt;\n&lt;/tr&gt;\n&lt;/tbody&gt;\n&lt;/table&gt;
END:VEVENT
END:VCALENDAR

