BEGIN:VCALENDAR
VERSION:2.0
PRODID:IEEE vTools.Events//EN
CALSCALE:GREGORIAN
BEGIN:VTIMEZONE
TZID:America/New_York
BEGIN:DAYLIGHT
DTSTART:20250309T030000
TZOFFSETFROM:-0500
TZOFFSETTO:-0400
RRULE:FREQ=YEARLY;BYDAY=2SU;BYMONTH=3
TZNAME:EDT
END:DAYLIGHT
BEGIN:STANDARD
DTSTART:20241103T010000
TZOFFSETFROM:-0400
TZOFFSETTO:-0500
RRULE:FREQ=YEARLY;BYDAY=1SU;BYMONTH=11
TZNAME:EST
END:STANDARD
END:VTIMEZONE
BEGIN:VEVENT
DTSTAMP:20250216T210720Z
UID:92E15C84-C113-4372-B63F-3C788E4E8F71
DTSTART;TZID=America/New_York:20250213T180000
DTEND;TZID=America/New_York:20250213T200000
DESCRIPTION:Family STEM Night brings families together for an evening of fu
 n\, hands-on STEM activities designed to spark curiosity and inspire young
  minds.\n\nVolunteers at Addison Elementary&#39;s Family STEM Night will assis
 t with setting up activity stations\, guiding students and families throug
 h hands-on STEM activities\, answering questions\, and ensuring a fun and 
 engaging experience for all participants. They’ll also help with cleanup
  at the end of the event.\n\nThis event is hosted by Addison Elementary an
 d is seeking volunteers from IEEE-Atlanta. From more information please co
 ntact Richardson.Melody@ieee.org.\n\nCo-sponsored by: Addison Elementary\n
 \n3055 Ebenezer Rd NE\, Marietta\, Georgia\, United States\, 30066
LOCATION:3055 Ebenezer Rd NE\, Marietta\, Georgia\, United States\, 30066
ORGANIZER:Richardson.Melody@gmail.com
SEQUENCE:15
SUMMARY:Addison Elementary&#39;s Family STEM Night
URL;VALUE=URI:https://events.vtools.ieee.org/m/461366
X-ALT-DESC:Description: &lt;br /&gt;&lt;p&gt;Family STEM Night brings families together
  for an evening of fun\, hands-on STEM activities designed to spark curios
 ity and inspire young minds.&lt;/p&gt;\n&lt;p&gt;&amp;nbsp\;&lt;/p&gt;\n&lt;p&gt;Volunteers at Addison
  Elementary&#39;s Family STEM Night will assist with setting up activity stati
 ons\, guiding students and families through hands-on STEM activities\, ans
 wering questions\, and ensuring a fun and engaging experience for all part
 icipants. They&amp;rsquo\;ll also help with cleanup at the end of the event.&lt;/
 p&gt;\n&lt;p&gt;&amp;nbsp\;&lt;/p&gt;\n&lt;p&gt;This event is hosted by Addison Elementary and is s
 eeking volunteers from IEEE-Atlanta.&amp;nbsp\; From more information please c
 ontact Richardson.Melody@ieee.org.&lt;/p&gt;
END:VEVENT
END:VCALENDAR

