BEGIN:VCALENDAR
VERSION:2.0
PRODID:IEEE vTools.Events//EN
CALSCALE:GREGORIAN
BEGIN:VTIMEZONE
TZID:Asia/Dhaka
BEGIN:DAYLIGHT
DTSTART:20380119T091407
TZOFFSETFROM:+0600
TZOFFSETTO:+0600
RRULE:FREQ=YEARLY;BYDAY=3TU;BYMONTH=1
TZNAME:+06
END:DAYLIGHT
BEGIN:STANDARD
DTSTART:20091231T230000
TZOFFSETFROM:+0700
TZOFFSETTO:+0600
RRULE:FREQ=YEARLY;BYDAY=-1TH;BYMONTH=12
TZNAME:+06
END:STANDARD
END:VTIMEZONE
BEGIN:VEVENT
DTSTAMP:20250903T080306Z
UID:1A9F8301-D2E2-47AB-AEFF-F42B9D9B83A8
DTSTART;TZID=Asia/Dhaka:20250112T120000
DTEND;TZID=Asia/Dhaka:20250112T130000
DESCRIPTION:🌟 The IEEE WIE JnU SBA is excited to present the Second Sess
 ion of the Comprehensive Workshop Series on Research titled &quot;Unlocking the
  Potential of Machine Learning: Research Approaches\, Techniques\, and Ins
 ights.” 🌟\nReady to dive into the fascinating world of machine learni
 ng? This session will give undergraduate students the tools\, techniques\,
  and insights to begin their thesis journey in this cutting-edge field.\n\
 nWhat You&#39;ll Gain:\n◼️ A deep understanding of machine learning resear
 ch approaches.\n◼️ Practical techniques to enhance your research capab
 ilities.\n◼️ Inspiring insights to shape your academic and professiona
 l path.\n\n[]\nProgram Details:\n📅 Date: 12 January 2025 (Sunday)\n⏰ 
 Time: 12:00 PM - 01:30 PM\n📍 Location:\nVirtual Classroom (5th Floor)\n
 Shahid Sajid Building\nJagannath University\, Dhaka.\n\nKeynote Speaker:\n
 A.F.M Naib Uddin\nSoftware Test Engineer Level 1\, Astha IT.\n🏅 Runner-
 up of Coding Fest 2024\, Macquarie Best UG Senior Project Award Winner (Un
 iversity of Sydney).\n🏅2nd Runner-Up of JnU Intra-University Poster Sho
 wcase Competition held on 14th CSE Day Celebration in JnU.\n\n🤝 Organiz
 ed by IEEE WIE JnU SBA\n✨ In Collaboration with IEEE JnU SB and IEEE CS 
 JnU SBC\n\n⚠ Don’t miss this golden opportunity to unlock the potentia
 l of machine learning and shape your thesis journey!\n👉 Register now: [
 https://forms.gle/hnPehDq32duP8JFFA](https://forms.gle/hnPehDq32duP8JFFA?f
 bclid=IwZXh0bgNhZW0CMTAAAR1EMSWcxRuSM5FFqojVe0qyVdzaEgjOWojx44kAxpytR9HATo
 VgzE2i5UU_aem_9A7_iCuThnHO_UCaKYtYdA)\n\nCo-sponsored by: Department of Co
 mputer Science and Engineering\, Jagannath University\, Dhaka\n\nSpeaker(s
 ): A F M Naib Uddin\n\nAgenda: \n- Introduction to Machine Learning Resear
 ch: Explore current trends\, challenges\, and opportunities in the field.\
 n- Identifying Promising Research Topics: Guidance on selecting impactful 
 and feasible thesis topics.\n- Building Your Research Roadmap: Step-by-ste
 p strategies to kickstart and structure your research journey.\n\nRoom: Vi
 rtual Classroom (5th Floor)\, Bldg: Shahid Sajid Building\, 9-10\, Chittar
 anjan Avenue\, Sadarghat\, Jagannath University\, Dhaka\, Dhaka\, Dhaka\, 
 Bangladesh\, 1100
LOCATION:Room: Virtual Classroom (5th Floor)\, Bldg: Shahid Sajid Building\
 , 9-10\, Chittaranjan Avenue\, Sadarghat\, Jagannath University\, Dhaka\, 
 Dhaka\, Dhaka\, Bangladesh\, 1100
ORGANIZER:selina@cse.jnu.ac.bd
SEQUENCE:27
SUMMARY:Unlocking the Potential of Machine Learning: Research Approaches\, 
 Techniques &amp; Insights
URL;VALUE=URI:https://events.vtools.ieee.org/m/461420
X-ALT-DESC:Description: &lt;br /&gt;&lt;p style=&quot;text-align: justify\;&quot;&gt;🌟 The &lt;sp
 an style=&quot;color: rgb(35\, 111\, 161)\;&quot;&gt;&lt;strong&gt;IEEE WIE JnU SBA&lt;/strong&gt;&lt;
 /span&gt; is excited to present the Second Session of the &lt;span style=&quot;color:
  rgb(35\, 111\, 161)\;&quot;&gt;&lt;strong&gt;Comprehensive Workshop Series on Research&lt;
 /strong&gt;&lt;/span&gt; titled &lt;span style=&quot;color: rgb(35\, 111\, 161)\;&quot;&gt;&lt;strong&gt;
 &quot;Unlocking the Potential of Machine Learning: Research Approaches\, Techni
 ques\, and Insights.&amp;rdquo\;&lt;/strong&gt; &lt;/span&gt;🌟&lt;br&gt;Ready to dive into th
 e fascinating world of machine learning? This session will give undergradu
 ate students the tools\, techniques\, and insights to begin their thesis j
 ourney in this cutting-edge field.&lt;br&gt;&lt;br&gt;&lt;span style=&quot;color: rgb(35\, 111
 \, 161)\;&quot;&gt;&lt;strong&gt;What You&#39;ll Gain:&lt;/strong&gt;&lt;/span&gt;&lt;br&gt;◼️ A deep unde
 rstanding of machine learning research approaches.&lt;br&gt;◼️ Practical tec
 hniques to enhance your research capabilities.&lt;br&gt;◼️ Inspiring insight
 s to shape your academic and professional path.&lt;/p&gt;\n&lt;p&gt;&lt;img style=&quot;displa
 y: block\; margin-left: auto\; margin-right: auto\;&quot; src=&quot;https://events.v
 tools.ieee.org/vtools_ui/media/display/86dc2f38-6058-40f3-9256-842eacaf207
 6&quot; alt=&quot;&quot; width=&quot;432&quot; height=&quot;216&quot;&gt;&lt;/p&gt;\n&lt;div&gt;&lt;strong&gt;&lt;span style=&quot;color: 
 rgb(35\, 111\, 161)\;&quot;&gt;Program Details:&lt;/span&gt;&lt;br&gt;📅 Date: &lt;/strong&gt;12 J
 anuary&amp;nbsp\; 2025 (Sunday)&lt;strong&gt;&lt;br&gt;⏰ Time: &lt;/strong&gt;12:00 PM - 01:30
  PM&lt;strong&gt;&lt;br&gt;📍 Location:&lt;/strong&gt;&lt;/div&gt;\n&lt;div&gt;Virtual Classroom (5th 
 Floor)&lt;/div&gt;\n&lt;div&gt;Shahid Sajid Building&lt;/div&gt;\n&lt;div&gt;Jagannath University\
 , Dhaka.&lt;strong&gt;&lt;br&gt;&lt;br&gt;&lt;span style=&quot;color: rgb(35\, 111\, 161)\;&quot;&gt;Keynote
  Speaker:&lt;/span&gt;&lt;br&gt;A.F.M Naib Uddin&lt;br&gt;&lt;/strong&gt;Software Test Engineer Le
 vel 1\, Astha IT.&lt;strong&gt;&lt;br&gt;&lt;/strong&gt;🏅 Runner-up of Coding Fest 2024\,
  Macquarie Best UG Senior Project Award Winner (University of Sydney).&lt;br&gt;
 🏅2nd Runner-Up of JnU Intra-University Poster Showcase Competition held
  on 14th CSE Day Celebration in JnU.&lt;strong&gt;&lt;br&gt;&lt;br&gt;&lt;/strong&gt;🤝 Organize
 d by IEEE WIE JnU SBA&lt;br&gt;✨ In Collaboration with IEEE JnU SB and IEEE CS
  JnU SBC&lt;br&gt;&lt;br&gt;⚠ Don&amp;rsquo\;t miss this golden opportunity to unlock th
 e potential of machine learning and shape your thesis journey!&lt;br&gt;👉 &lt;sp
 an style=&quot;color: rgb(35\, 111\, 161)\;&quot;&gt;Register now:&lt;/span&gt; &lt;span role=&quot;g
 ridcell&quot;&gt;&lt;a class=&quot;x1i10hfl xjbqb8w x1ejq31n xd10rxx x1sy0etr x17r0tee x97
 2fbf xcfux6l x1qhh985 xm0m39n x9f619 x1ypdohk xt0psk2 xe8uvvx xdj266r x11i
 5rnm xat24cr x1mh8g0r xexx8yu x4uap5 x18d9i69 xkhd6sd x16tdsg8 xggy1nq x1a
 2a7pz x1s688f x1heor9g x1bvjpef xujl8zx&quot; tabindex=&quot;-1&quot; role=&quot;link&quot; href=&quot;h
 ttps://forms.gle/hnPehDq32duP8JFFA?fbclid=IwZXh0bgNhZW0CMTAAAR1EMSWcxRuSM5
 FFqojVe0qyVdzaEgjOWojx44kAxpytR9HAToVgzE2i5UU_aem_9A7_iCuThnHO_UCaKYtYdA&quot; 
 target=&quot;_blank&quot; rel=&quot;nofollow noopener noreferrer&quot;&gt;https://forms.gle/hnPeh
 Dq32duP8JFFA&lt;/a&gt;&lt;/span&gt;&lt;/div&gt;&lt;br /&gt;&lt;br /&gt;Agenda: &lt;br /&gt;&lt;ol&gt;\n&lt;li&gt;&lt;strong&gt;I
 ntroduction to Machine Learning Research:&lt;/strong&gt; Explore current trends\
 , challenges\, and opportunities in the field.&lt;/li&gt;\n&lt;li&gt;&lt;strong&gt;Identifyi
 ng Promising Research Topics:&lt;/strong&gt; Guidance on selecting impactful and
  feasible thesis topics.&lt;/li&gt;\n&lt;li&gt;&lt;strong&gt;Building Your Research Roadmap:
 &lt;/strong&gt; Step-by-step strategies to kickstart and structure your research
  journey.&lt;/li&gt;\n&lt;/ol&gt;
END:VEVENT
END:VCALENDAR

