BEGIN:VCALENDAR
VERSION:2.0
PRODID:IEEE vTools.Events//EN
CALSCALE:GREGORIAN
BEGIN:VTIMEZONE
TZID:US/Michigan
BEGIN:DAYLIGHT
DTSTART:20250309T030000
TZOFFSETFROM:-0500
TZOFFSETTO:-0400
RRULE:FREQ=YEARLY;BYDAY=2SU;BYMONTH=3
TZNAME:EDT
END:DAYLIGHT
BEGIN:STANDARD
DTSTART:20241103T010000
TZOFFSETFROM:-0400
TZOFFSETTO:-0500
RRULE:FREQ=YEARLY;BYDAY=1SU;BYMONTH=11
TZNAME:EST
END:STANDARD
END:VTIMEZONE
BEGIN:VEVENT
DTSTAMP:20250118T233608Z
UID:0D2BF8F1-A995-4FBB-B141-77DEF2FBDB51
DTSTART;TZID=US/Michigan:20250116T173000
DTEND;TZID=US/Michigan:20250116T193000
DESCRIPTION:Southeastern Michigan IEEE EMC Chapter technical meeting.\n\nTo
  see the full registration page please see https://events.vtools.ieee.org/
 m/461490\n\nNOTE: This Meeting has been changed to Zoom Only\n\n[YouTube R
 ecording](https://youtu.be/T4Q7XTxqBjs)\n\n[][]\n\nSpeaker(s): Louis Feudi
 \, \n\nVirtual: https://events.vtools.ieee.org/m/461490
LOCATION:Virtual: https://events.vtools.ieee.org/m/461490
ORGANIZER:scott@emcsociety.org
SEQUENCE:22
SUMMARY:Design characteristics and verification of Chambers for testing to 
 CISPR 16
URL;VALUE=URI:https://events.vtools.ieee.org/m/461490
X-ALT-DESC:Description: &lt;br /&gt;&lt;p&gt;Southeastern Michigan IEEE EMC Chapter tec
 hnical meeting.&lt;/p&gt;\n&lt;p style=&quot;font-weight: 400\;&quot;&gt;To see the full registr
 ation page please see https://events.vtools.ieee.org/m/461490&lt;/p&gt;\n&lt;p&gt;&lt;spa
 n style=&quot;font-size: 24pt\; color: #0000ff\;&quot;&gt;NOTE:&amp;nbsp\; This Meeting has
  been changed to Zoom Only&lt;/span&gt;&lt;/p&gt;\n&lt;p&gt;&lt;a href=&quot;https://youtu.be/T4Q7XT
 xqBjs&quot;&gt;&lt;span style=&quot;font-size: 24pt\; color: #0000ff\;&quot;&gt;YouTube Recording&lt;
 /span&gt;&lt;/a&gt;&lt;/p&gt;\n&lt;p&gt;&lt;img src=&quot;http://www.emcsociety.org/big_iee.jpg&quot; alt=&quot;&quot;
 &gt;&lt;img src=&quot;http://www.emcsociety.org/emcsociety.jpg&quot; alt=&quot;&quot;&gt;&lt;/p&gt;
END:VEVENT
END:VCALENDAR

