BEGIN:VCALENDAR
VERSION:2.0
PRODID:IEEE vTools.Events//EN
CALSCALE:GREGORIAN
BEGIN:VTIMEZONE
TZID:America/Sao_Paulo
BEGIN:DAYLIGHT
DTSTART:20380119T001407
TZOFFSETFROM:-0300
TZOFFSETTO:-0300
RRULE:FREQ=YEARLY;BYDAY=3TU;BYMONTH=1
TZNAME:-03
END:DAYLIGHT
BEGIN:STANDARD
DTSTART:20190216T230000
TZOFFSETFROM:-0200
TZOFFSETTO:-0300
RRULE:FREQ=YEARLY;BYDAY=3SA;BYMONTH=2
TZNAME:-03
END:STANDARD
END:VTIMEZONE
BEGIN:VEVENT
DTSTAMP:20250120T023612Z
UID:C880AD5F-C460-4A24-ADA3-2FBD6F484582
DTSTART;TZID=America/Sao_Paulo:20250113T120000
DTEND;TZID=America/Sao_Paulo:20250113T130000
DESCRIPTION:[PT-BR]\n\nA segunda reunião geral do ano marca o início ofic
 ial do planejamento semestral do IEEE WIE UFC. Estruturado em duas etapas 
 principais - uma retrospectiva avaliativa e um momento dinâmico de análi
 se estratégica - o encontro tem como objetivo alinhar as ações do grupo
  para o semestre 2025.1.\n\nOs comitês de eventos\, projetos e secretaria
  farão uma breve avaliação do semestre passado\, destacando as metas al
 cançadas e não alcançadas\, tanto as planejadas quanto as não planejad
 as. Este momento proporcionará uma visão clara dos avanços e desafios\,
  facilitando o aprendizado coletivo. Além disso\, cada comitê participar
 á de uma dinâmica\, onde as integrantes serão divididas em grupos para 
 discutir a análise SWOT (forças\, oportunidades\, fraquezas e ameaças).
  Os resultados dessa análise serão apresentados\, incentivando o debate 
 e a definição de estratégias para fortalecer ações futuras.\n\nCom is
 so\, a reunião será essencial para o alinhamento das metas do WIE UFC\, 
 assegurando um planejamento estratégico que promova o crescimento e o imp
 acto do grupo ao longo do semestre.\n\n[EN]\n\nThe second general meeting 
 of the year marks the official start of the IEEE WIE UFC’s semester plan
 ning for 2025.1. Structured in two main stages - a retrospective evaluatio
 n and a dynamic strategic analysis session - the meeting aims to align the
  group’s actions for the upcoming semester.\n\nThe events\, projects\, a
 nd secretariat committees will provide a brief evaluation of the past seme
 ster\, highlighting the goals achieved and those not reached\, both planne
 d and unplanned. This session will offer a clear view of the progress and 
 challenges\, facilitating collective learning. Additionally\, each committ
 ee will take part in a dynamic activity where members will be divided into
  groups to discuss the SWOT analysis (strengths\, opportunities\, weakness
 es\, and threats). The results of this analysis will be presented\, encour
 aging debate and the development of strategies to strengthen future action
 s.\n\nThus\, the meeting will be essential for aligning WIE UFC’s goals\
 , ensuring a strategic plan that promotes the group’s growth and impact 
 throughout the semester.\n\nAgenda: \n13:00 - 13:05 | Integração inicial
 \n\n- Atividade &quot;Se meu dia fosse uma previsão do tempo...&quot; para &quot;qubrar 
 o gelo&quot; e promover a integração.\n\n13:05 - 13:23 | Retrospectiva avalia
 tiva e dinâmica SWOT - Comitê de Secretaria\n\n- 13:05 - 13:10 | Retrosp
 ectiva avaliativa (5min)\n- 13:10 - 13:20 | Dinâmica SWOT - Grupos aleat
 órios (10min)\n- 13:20 - 13:23 | Apresentação da tabela SWOT (3min)\n\n
 13:23 - 13:41 | Retrospectiva avaliativa e dinâmica SWOT - Comitê de Pro
 jetos\n\n- 13:23 - 13:28 | Retrospectiva avaliativa (5min)\n- 13:28 - 13:3
 8 | Dinâmica SWOT - Grupos aleatórios (10min)\n- 13:38 - 13:41 | Apresen
 tação da tabela SWOT (3min)\n\n13:41 - 13:59 | Retrospectiva avaliativa 
 e dinâmica SWOT - Comitê de Eventos\n\n- 13:41 - 13:46 | Retrospectiva a
 valiativa (5min)\n- 13:46 - 13:56 | Dinâmica SWOT - Grupos aleatórios (1
 0min)\n- 13:56 - 13:59 | Apresentação da tabela SWOT (3min)\n\n13:59 - 1
 4:00 | Foto final\n\n- Registro do momento com uma foto para finalizar a r
 eunião!\n\nRoom: 2\, Bldg: Departamento de Engenharia Química - UFC\, Ca
 mpus do Pici\, BL. 709\, Av. Mister Hull - Pici\, Fortaleza\, Fortaleza\, 
 Ceara\, Brazil\, 60455-760
LOCATION:Room: 2\, Bldg: Departamento de Engenharia Química - UFC\, Campus
  do Pici\, BL. 709\, Av. Mister Hull - Pici\, Fortaleza\, Fortaleza\, Cear
 a\, Brazil\, 60455-760
ORGANIZER:wie@ufc.br
SEQUENCE:39
SUMMARY:Segunda Reunião Geral - Planejamento | 2025
URL;VALUE=URI:https://events.vtools.ieee.org/m/461764
X-ALT-DESC:Description: &lt;br /&gt;&lt;p&gt;[PT-BR]&lt;/p&gt;\n&lt;p&gt;A segunda reuni&amp;atilde\;o 
 geral do ano marca o &lt;strong&gt;in&amp;iacute\;cio oficial do planejamento semest
 ral do IEEE WIE UFC&lt;/strong&gt;. Estruturado em duas etapas principais - uma 
 retrospectiva avaliativa e um momento din&amp;acirc\;mico de an&amp;aacute\;lise e
 strat&amp;eacute\;gica - o encontro tem como objetivo alinhar as a&amp;ccedil\;&amp;ot
 ilde\;es do grupo para o semestre 2025.1.&lt;/p&gt;\n&lt;p&gt;Os comit&amp;ecirc\;s de &lt;st
 rong&gt;eventos\, projetos e secretaria&lt;/strong&gt; far&amp;atilde\;o uma breve aval
 ia&amp;ccedil\;&amp;atilde\;o do semestre passado\, destacando as metas alcan&amp;cced
 il\;adas e n&amp;atilde\;o alcan&amp;ccedil\;adas\, tanto as planejadas quanto as 
 n&amp;atilde\;o planejadas. Este momento proporcionar&amp;aacute\; uma vis&amp;atilde\
 ;o clara dos avan&amp;ccedil\;os e desafios\, facilitando o aprendizado coleti
 vo. Al&amp;eacute\;m disso\, cada comit&amp;ecirc\; participar&amp;aacute\; de uma din
 &amp;acirc\;mica\, onde as integrantes ser&amp;atilde\;o divididas em grupos para 
 discutir a an&amp;aacute\;lise SWOT (for&amp;ccedil\;as\, oportunidades\, fraqueza
 s e amea&amp;ccedil\;as). Os resultados dessa an&amp;aacute\;lise ser&amp;atilde\;o ap
 resentados\, incentivando o debate e a defini&amp;ccedil\;&amp;atilde\;o de estrat
 &amp;eacute\;gias para fortalecer a&amp;ccedil\;&amp;otilde\;es futuras.&lt;/p&gt;\n&lt;p&gt;Com i
 sso\, a reuni&amp;atilde\;o ser&amp;aacute\; essencial para o alinhamento das meta
 s do WIE UFC\, assegurando um planejamento estrat&amp;eacute\;gico que promova
  o crescimento e o impacto do grupo ao longo do semestre.&lt;/p&gt;\n&lt;p&gt;&amp;nbsp\;&lt;
 /p&gt;\n&lt;p&gt;[EN]&lt;/p&gt;\n&lt;p&gt;The second general meeting of the year marks the &lt;str
 ong&gt;official start of the IEEE WIE UFC&amp;rsquo\;s semester planning for 2025
 .1&lt;/strong&gt;. Structured in two main stages - a retrospective evaluation an
 d a dynamic strategic analysis session - the meeting aims to align the gro
 up&amp;rsquo\;s actions for the upcoming semester.&lt;/p&gt;\n&lt;p&gt;The &lt;strong&gt;events\
 , projects\, and secretariat&lt;/strong&gt; committees will provide a brief eval
 uation of the past semester\, highlighting the goals achieved and those no
 t reached\, both planned and unplanned. This session will offer a clear vi
 ew of the progress and challenges\, facilitating collective learning. Addi
 tionally\, each committee will take part in a dynamic activity where membe
 rs will be divided into groups to discuss the SWOT analysis (strengths\, o
 pportunities\, weaknesses\, and threats). The results of this analysis wil
 l be presented\, encouraging debate and the development of strategies to s
 trengthen future actions.&lt;/p&gt;\n&lt;p&gt;Thus\, the meeting will be essential for
  aligning WIE UFC&amp;rsquo\;s goals\, ensuring a strategic plan that promotes
  the group&amp;rsquo\;s growth and impact throughout the semester.&lt;/p&gt;&lt;br /&gt;&lt;b
 r /&gt;Agenda: &lt;br /&gt;&lt;p&gt;&lt;strong&gt;13:00 - 13:05 | Integra&amp;ccedil\;&amp;atilde\;o in
 icial&lt;/strong&gt;&lt;/p&gt;\n&lt;ul&gt;\n&lt;li&gt;Atividade &quot;Se meu dia fosse uma previs&amp;atild
 e\;o do tempo...&quot; para &quot;qubrar o gelo&quot; e promover a integra&amp;ccedil\;&amp;atild
 e\;o.&lt;/li&gt;\n&lt;/ul&gt;\n&lt;p&gt;&lt;strong&gt;13:05 - 13:23 | Retrospectiva avaliativa e d
 in&amp;acirc\;mica SWOT - Comit&amp;ecirc\; de Secretaria&lt;/strong&gt;&lt;/p&gt;\n&lt;ul&gt;\n&lt;li&gt;
 &lt;strong&gt;13:05 - 13:10&lt;/strong&gt; | Retrospectiva avaliativa (5min)&lt;/li&gt;\n&lt;li
 &gt;&lt;strong&gt;13:10 - 13:20&lt;/strong&gt; | Din&amp;acirc\;mica SWOT - Grupos aleat&amp;oacu
 te\;rios (10min)&lt;/li&gt;\n&lt;li&gt;&lt;strong&gt;13:20 - 13:23&lt;/strong&gt; | Apresenta&amp;cced
 il\;&amp;atilde\;o da tabela SWOT (3min)&lt;/li&gt;\n&lt;/ul&gt;\n&lt;p&gt;&lt;strong&gt;13:23 - 13:41
  | Retrospectiva avaliativa e din&amp;acirc\;mica SWOT - Comit&amp;ecirc\; de Proj
 etos&lt;/strong&gt;&lt;/p&gt;\n&lt;ul&gt;\n&lt;li&gt;&lt;strong&gt;13:23 - 13:28&lt;/strong&gt; | Retrospectiv
 a avaliativa (5min)&lt;/li&gt;\n&lt;li&gt;&lt;strong&gt;13:28 - 13:38&lt;/strong&gt; | Din&amp;acirc\;
 mica SWOT - Grupos aleat&amp;oacute\;rios (10min)&lt;/li&gt;\n&lt;li&gt;&lt;strong&gt;13:38 - 13
 :41&lt;/strong&gt; | Apresenta&amp;ccedil\;&amp;atilde\;o da tabela SWOT (3min)&lt;/li&gt;\n&lt;/
 ul&gt;\n&lt;p&gt;&lt;strong&gt;13:41 - 13:59 | Retrospectiva avaliativa e din&amp;acirc\;mica
  SWOT - Comit&amp;ecirc\; de Eventos&lt;/strong&gt;&lt;/p&gt;\n&lt;ul&gt;\n&lt;li&gt;&lt;strong&gt;13:41 - 1
 3:46&lt;/strong&gt; | Retrospectiva avaliativa (5min)&lt;/li&gt;\n&lt;li&gt;&lt;strong&gt;13:46 - 
 13:56&lt;/strong&gt; | Din&amp;acirc\;mica SWOT - Grupos aleat&amp;oacute\;rios (10min)&lt;
 /li&gt;\n&lt;li&gt;&lt;strong&gt;13:56 - 13:59&lt;/strong&gt; | Apresenta&amp;ccedil\;&amp;atilde\;o da
  tabela SWOT (3min)&lt;/li&gt;\n&lt;/ul&gt;\n&lt;p&gt;&lt;strong&gt;13:59 - 14:00 | Foto final&lt;/st
 rong&gt;&lt;/p&gt;\n&lt;ul&gt;\n&lt;li&gt;Registro do momento com uma foto para finalizar a reu
 ni&amp;atilde\;o!&lt;/li&gt;\n&lt;/ul&gt;\n&lt;p&gt;&amp;nbsp\;&lt;/p&gt;
END:VEVENT
END:VCALENDAR

