BEGIN:VCALENDAR
VERSION:2.0
PRODID:IEEE vTools.Events//EN
CALSCALE:GREGORIAN
BEGIN:VTIMEZONE
TZID:America/Denver
BEGIN:DAYLIGHT
DTSTART:20250309T030000
TZOFFSETFROM:-0700
TZOFFSETTO:-0600
RRULE:FREQ=YEARLY;BYDAY=2SU;BYMONTH=3
TZNAME:MDT
END:DAYLIGHT
BEGIN:STANDARD
DTSTART:20251102T010000
TZOFFSETFROM:-0600
TZOFFSETTO:-0700
RRULE:FREQ=YEARLY;BYDAY=1SU;BYMONTH=11
TZNAME:MST
END:STANDARD
END:VTIMEZONE
BEGIN:VEVENT
DTSTAMP:20250616T072731Z
UID:EA89612E-B490-4466-8D45-5CE053463102
DTSTART;TZID=America/Denver:20250521T190000
DTEND;TZID=America/Denver:20250521T210000
DESCRIPTION:May NH Section ExCom meeting\n\nVirtual: https://events.vtools.
 ieee.org/m/461767
LOCATION:Virtual: https://events.vtools.ieee.org/m/461767
ORGANIZER:bbancroft@ieee.org
SEQUENCE:13
SUMMARY:ExCom NH Section May 21\, 7pm
URL;VALUE=URI:https://events.vtools.ieee.org/m/461767
X-ALT-DESC:Description: &lt;br /&gt;&lt;p class=&quot;MsoNormal&quot;&gt;&lt;span style=&quot;font-family
 : &#39;Times New Roman&#39;\,serif\; mso-fareast-font-family: &#39;Times New Roman&#39;\;&quot;
 &gt;May NH Section ExCom meeting&lt;/span&gt;&lt;/p&gt;
END:VEVENT
END:VCALENDAR

