BEGIN:VCALENDAR
VERSION:2.0
PRODID:IEEE vTools.Events//EN
CALSCALE:GREGORIAN
BEGIN:VTIMEZONE
TZID:America/New_York
BEGIN:DAYLIGHT
DTSTART:20250309T030000
TZOFFSETFROM:-0500
TZOFFSETTO:-0400
RRULE:FREQ=YEARLY;BYDAY=2SU;BYMONTH=3
TZNAME:EDT
END:DAYLIGHT
BEGIN:STANDARD
DTSTART:20241103T010000
TZOFFSETFROM:-0400
TZOFFSETTO:-0500
RRULE:FREQ=YEARLY;BYDAY=1SU;BYMONTH=11
TZNAME:EST
END:STANDARD
END:VTIMEZONE
BEGIN:VEVENT
DTSTAMP:20250126T222823Z
UID:38D84B2C-5DEB-474F-9012-75F0E71E1135
DTSTART;TZID=America/New_York:20250122T160000
DTEND;TZID=America/New_York:20250122T170000
DESCRIPTION:Happy New Year everyone and welcome to the first LMAG meeting o
 f 2025.\n\nAccording to the Doodle poll distributed the second week of thi
 s month the majority selected Wednesdays at 4 pm Eastern Time for our meet
 ing. Continuing the tradition of my predecessors\, it will be held during 
 the third week of the month. WebEx Links have already been generated for t
 he next 6 months.\n\nAgenda: \n- Roll Call\n- Last Meeting November 18 - m
 inutes approval.\n- Additions to Agenda (New Business)?\n\nCoordinator Rep
 ort:\n\n- Still getting up to Speed with Life Member Committee (LMC) and R
 7 procedures\n- Am attending the IEEE Operations Committee meeting in Toro
 nto Feb 7 to 9.\nMay learn info to pass on at our next meeting\n- 2025 Lif
 e Members AgeTech Conference will be June 11-13 at Tufts University\, Bost
 on\n\n[https://lifemembersconference.ieee.org](https://lifemembersconferen
 ce.ieee.org/)\n\n- Thursday\, 23 January 2025 3:00 - 4:30 PM ET: WEBINAR -
  Aging and Longevity: IEEE AgeTech Activities\nGo here [https://engagestan
 dards.ieee.org/agetech-webinar-register.html](https://enotice.mmsend.com/l
 ink.cfm?r=2M-XmZCWrBGSR8iIWm0IMg~~&amp;pe=0jv9lFfrNnakiODFORYCz8iaZ2CCiB1jtdUV
 DuvP1Tia59Kn17bMPUla1GvjUpqKea5OdG1J01sqpVzJEuSvSQ~~&amp;t=61RfsgLpzgsuRQYiZOe
 nnA~~) to register.\n- From last meeting: “remind the region Sections an
 d LMAGs officers to be preparing for full participation in the nomination 
 process for 2025 LMC awards”\n- John Harris noted\, at last meeting\, th
 at the nomination for Canada LMAG award is due next March\, and the Region
 al and Group nominations are due in April.\n- MGA will distribute a set of
  Word documents to support the process. I haven’t seen those yet.\n\nOpe
 n discussions (Updates):\n\n- LMC - John\n- Vancouver - Carl\n- Southern A
 lberta - Bill\n- Northern Canada - Jim\n- Winnipeg - Elham\n- London - Mur
 ray\n- Hamilton-K-W - Dwight (preferred email?)\n- Toronto - Vijay\n- Pete
 rborough - Sean\n- Kingston - Doug\n- Ottawa - Wolfram\n- Montreal - Anade
 r\n- Canada Atlantic - Rod\n\nIf you haven’t already\, please send me a 
 quick summary of your report.\n\nNew Business\n\nNext meeting - Wednesday\
 , February 19\, 2024\, 4 pm EST\n\nEnd\n\nVirtual: https://events.vtools.i
 eee.org/m/462093
LOCATION:Virtual: https://events.vtools.ieee.org/m/462093
ORGANIZER:wolfram.lunscher@ieee.org
SEQUENCE:9
SUMMARY:Monthly R7 LMAG Chairs Meeting - January 2025
URL;VALUE=URI:https://events.vtools.ieee.org/m/462093
X-ALT-DESC:Description: &lt;br /&gt;&lt;p&gt;Happy New Year everyone and welcome to the
  first LMAG meeting of 2025.&lt;/p&gt;\n&lt;p&gt;According to the Doodle poll distribu
 ted the second week of this month the majority selected Wednesdays at 4 pm
  Eastern Time for our meeting.&amp;nbsp\;Continuing the tradition of my predec
 essors\, it will be held during the third week of the month. WebEx Links h
 ave already been generated for the next&amp;nbsp\;6 months.&lt;/p&gt;\n&lt;p&gt;&amp;nbsp\;&lt;/p
 &gt;&lt;br /&gt;&lt;br /&gt;Agenda: &lt;br /&gt;&lt;ul&gt;\n&lt;li&gt;Roll Call&lt;/li&gt;\n&lt;li&gt;Last Meeting Nove
 mber 18 - minutes approval.&lt;/li&gt;\n&lt;li&gt;Additions to Agenda (New Business)?&lt;
 /li&gt;\n&lt;/ul&gt;\n&lt;p&gt;&lt;span style=&quot;text-decoration: underline\;&quot;&gt;Coordinator Rep
 ort&lt;/span&gt;:&lt;/p&gt;\n&lt;ul&gt;\n&lt;li&gt;Still getting up to Speed with Life Member Comm
 ittee (LMC) and R7 procedures&lt;/li&gt;\n&lt;li&gt;Am attending the IEEE Operations C
 ommittee meeting in Toronto Feb 7 to 9.&lt;span class=&quot;Apple-converted-space&quot;
 &gt;&amp;nbsp\;&lt;br&gt;&lt;/span&gt;May learn info to pass on at our next meeting&lt;/li&gt;\n&lt;li
 &gt;2025 Life Members AgeTech Conference will be June 11-13 at Tufts Universi
 ty\, Boston&lt;/li&gt;\n&lt;/ul&gt;\n&lt;p&gt;&lt;span class=&quot;Apple-converted-space&quot;&gt;&amp;nbsp\;&amp;nb
 sp\; &amp;nbsp\; &amp;nbsp\; &amp;nbsp\; &lt;/span&gt;&lt;a href=&quot;https://lifemembersconference
 .ieee.org/&quot;&gt;https://lifemembersconference.ieee.org&lt;/a&gt;&lt;/p&gt;\n&lt;ul&gt;\n&lt;li&gt;Thur
 sday\, 23 January 2025 3:00 - 4:30 PM ET: WEBINAR - Aging and Longevity: I
 EEE AgeTech Activities&lt;br&gt;Go here &lt;a href=&quot;https://enotice.mmsend.com/link
 .cfm?r=2M-XmZCWrBGSR8iIWm0IMg~~&amp;amp\;pe=0jv9lFfrNnakiODFORYCz8iaZ2CCiB1jtd
 UVDuvP1Tia59Kn17bMPUla1GvjUpqKea5OdG1J01sqpVzJEuSvSQ~~&amp;amp\;t=61RfsgLpzgsu
 RQYiZOennA~~&quot;&gt;https://engagestandards.ieee.org/agetech-webinar-register.ht
 ml&lt;/a&gt; to register.&lt;/li&gt;\n&lt;li&gt;From last meeting: &amp;ldquo\;remind the region
  Sections and LMAGs officers to be preparing for full participation in the
  nomination process for 2025 LMC awards&amp;rdquo\;\n&lt;ul&gt;\n&lt;li&gt;John Harris not
 ed\, at last meeting\, that the nomination for Canada LMAG award is due ne
 xt March\, and the Regional and Group nominations are due in April.&lt;/li&gt;\n
 &lt;li&gt;MGA will distribute a set of Word documents to support the process. I 
 haven&amp;rsquo\;t seen those yet.&lt;/li&gt;\n&lt;/ul&gt;\n&lt;/li&gt;\n&lt;/ul&gt;\n&lt;p&gt;&lt;span style=&quot;
 text-decoration: underline\;&quot;&gt;Open discussions (Updates)&lt;/span&gt;:&lt;/p&gt;\n&lt;ul&gt;
 \n&lt;li&gt;LMC - John&lt;/li&gt;\n&lt;li&gt;Vancouver - Carl&lt;/li&gt;\n&lt;li&gt;Southern Alberta - B
 ill&lt;/li&gt;\n&lt;li&gt;Northern Canada - Jim&lt;/li&gt;\n&lt;li&gt;Winnipeg - Elham&lt;/li&gt;\n&lt;li&gt;L
 ondon - Murray&lt;/li&gt;\n&lt;li&gt;Hamilton-K-W - Dwight (preferred email?)&lt;/li&gt;\n&lt;l
 i&gt;Toronto - Vijay&lt;/li&gt;\n&lt;li&gt;Peterborough - Sean&lt;/li&gt;\n&lt;li&gt;Kingston - Doug&lt;
 /li&gt;\n&lt;li&gt;Ottawa - Wolfram&lt;/li&gt;\n&lt;li&gt;Montreal - Anader&lt;/li&gt;\n&lt;li&gt;Canada At
 lantic - Rod&lt;br&gt;&lt;br&gt;If you haven&amp;rsquo\;t already\, please send me a quick
  summary of your report.&lt;/li&gt;\n&lt;/ul&gt;\n&lt;p&gt;&lt;span style=&quot;text-decoration: und
 erline\;&quot;&gt;New Business&lt;/span&gt;&lt;/p&gt;\n&lt;p&gt;&lt;span style=&quot;text-decoration: underl
 ine\;&quot;&gt;Next meeting&lt;/span&gt; - Wednesday\, February 19\, 2024\, 4 pm EST&lt;/p&gt;
 \n&lt;p&gt;&lt;strong&gt;End&lt;/strong&gt;&lt;/p&gt;
END:VEVENT
END:VCALENDAR

