BEGIN:VCALENDAR
VERSION:2.0
PRODID:IEEE vTools.Events//EN
CALSCALE:GREGORIAN
BEGIN:VTIMEZONE
TZID:Asia/Kolkata
BEGIN:STANDARD
DTSTART:19451014T230000
TZOFFSETFROM:+0630
TZOFFSETTO:+0530
TZNAME:IST
END:STANDARD
END:VTIMEZONE
BEGIN:VEVENT
DTSTAMP:20250117T103034Z
UID:C3197D78-97CA-4EE1-80AE-E5B9B82BD342
DTSTART;TZID=Asia/Kolkata:20250113T170000
DTEND;TZID=Asia/Kolkata:20250113T193000
DESCRIPTION:The Team Lead Interviews 2025 were held on January 13th\, 2025\
 , from 5:00 PM to 7:30 PM. The interviews were organized to select capable
  and enthusiastic leaders for various domains. All council members were pr
 esent to conduct the interviews\, ensuring a fair and systematic evaluatio
 n process. Candidates were interviewed as per the order in which they subm
 itted their forms\, creating a seamless and organized schedule.\n\nObjecti
 ves:\n\nTo evaluate the leadership potential and domain expertise of the c
 andidates.\n\nTo select team leads for specific domains\, including:\n\nWe
 b Development Team Lead\n\nProgramming Team Lead\n\nDesign Team Lead\n\nPu
 blic Relations Team Lead\n\nMNP Team Lead\n\nOperations Team Lead\n\nTo as
 sess how well candidates understood their chosen domains and their ability
  to contribute effectively.\n\nTo ensure that selected team leads align wi
 th the council’s vision and objectives.\n\nRoom: CR-8\, Bldg: Academic B
 lock\, Jaypee University Of Information Technology\, Solan\, Himachal Prad
 esh\, India\, 173234
LOCATION:Room: CR-8\, Bldg: Academic Block\, Jaypee University Of Informati
 on Technology\, Solan\, Himachal Pradesh\, India\, 173234
ORGANIZER:ieee.juit@juitsolan.in
SEQUENCE:4
SUMMARY:Team Lead Interviews 
URL;VALUE=URI:https://events.vtools.ieee.org/m/462392
X-ALT-DESC:Description: &lt;br /&gt;&lt;p class=&quot;MsoNormal&quot; style=&quot;line-height: 115%
 \;&quot;&gt;&lt;span lang=&quot;EN-US&quot; style=&quot;font-size: 12.0pt\; line-height: 115%\; font
 -family: &#39;Times New Roman&#39;\,&#39;serif&#39;\; mso-fareast-font-family: &#39;Times New 
 Roman&#39;\;&quot;&gt;The Team Lead Interviews 2025 were held on &lt;strong style=&quot;mso-bi
 di-font-weight: normal\;&quot;&gt;January 13th\, 2025&lt;/strong&gt;\, from &lt;strong styl
 e=&quot;mso-bidi-font-weight: normal\;&quot;&gt;5:00 PM to 7:30 PM&lt;/strong&gt;. The interv
 iews were organized to select capable and enthusiastic leaders for various
  domains. All council members were present to conduct the interviews\, ens
 uring a fair and systematic evaluation process. Candidates were interviewe
 d as per the order in which they submitted their forms\, creating a seamle
 ss and organized schedule.&lt;/span&gt;&lt;/p&gt;\n&lt;p class=&quot;MsoNormal&quot; style=&quot;line-he
 ight: 115%\;&quot;&gt;&lt;strong style=&quot;mso-bidi-font-weight: normal\;&quot;&gt;&lt;span lang=&quot;E
 N-US&quot; style=&quot;font-size: 12.0pt\; line-height: 115%\; font-family: &#39;Times N
 ew Roman&#39;\,&#39;serif&#39;\; mso-fareast-font-family: &#39;Times New Roman&#39;\;&quot;&gt;Objecti
 ves:&lt;/span&gt;&lt;/strong&gt;&lt;/p&gt;\n&lt;p&gt;&lt;span lang=&quot;EN-US&quot; style=&quot;font-size: 12.0pt\;
  line-height: 115%\; font-family: &#39;Times New Roman&#39;\,&#39;serif&#39;\; mso-fareast
 -font-family: &#39;Times New Roman&#39;\;&quot;&gt;&lt;span style=&quot;mso-list: Ignore\;&quot;&gt;&lt;span 
 style=&quot;font: 7.0pt &#39;Times New Roman&#39;\;&quot;&gt;&amp;nbsp\; &amp;nbsp\;&lt;/span&gt;&lt;/span&gt;&lt;/spa
 n&gt;&lt;!--[endif]--&gt;&lt;span lang=&quot;EN-US&quot; style=&quot;font-size: 12.0pt\; line-height:
  115%\; font-family: &#39;Times New Roman&#39;\,&#39;serif&#39;\; mso-fareast-font-family:
  &#39;Times New Roman&#39;\;&quot;&gt;To evaluate the leadership potential and domain expe
 rtise of the candidates.&lt;/span&gt;&lt;/p&gt;\n&lt;p&gt;&lt;span lang=&quot;EN-US&quot; style=&quot;font-siz
 e: 12.0pt\; line-height: 115%\; font-family: &#39;Times New Roman&#39;\,&#39;serif&#39;\; 
 mso-fareast-font-family: &#39;Times New Roman&#39;\;&quot;&gt;&lt;span style=&quot;mso-list: Ignor
 e\;&quot;&gt;&lt;span style=&quot;font: 7.0pt &#39;Times New Roman&#39;\;&quot;&gt;&amp;nbsp\; &amp;nbsp\; &amp;nbsp\;
  &lt;/span&gt;&lt;/span&gt;&lt;/span&gt;&lt;!--[endif]--&gt;&lt;span lang=&quot;EN-US&quot; style=&quot;font-size: 1
 2.0pt\; line-height: 115%\; font-family: &#39;Times New Roman&#39;\,&#39;serif&#39;\; mso-
 fareast-font-family: &#39;Times New Roman&#39;\;&quot;&gt;To select team leads for specifi
 c domains\, including:&lt;/span&gt;&lt;/p&gt;\n&lt;p&gt;&lt;span lang=&quot;EN-US&quot; style=&quot;font-size:
  12.0pt\; line-height: 115%\; font-family: &#39;Times New Roman&#39;\,&#39;serif&#39;\; ms
 o-fareast-font-family: &#39;Times New Roman&#39;\;&quot;&gt;&lt;span style=&quot;mso-list: Ignore\
 ;&quot;&gt;&lt;span style=&quot;font: 7.0pt &#39;Times New Roman&#39;\;&quot;&gt;&lt;strong&gt;&amp;nbsp\; &amp;nbsp\; &amp;
 nbsp\; &amp;nbsp\;&lt;/strong&gt;&lt;/span&gt;&lt;/span&gt;&lt;/span&gt;&lt;span lang=&quot;EN-US&quot; style=&quot;font
 -size: 12.0pt\; line-height: 115%\; font-family: &#39;Times New Roman&#39;\,&#39;serif
 &#39;\; mso-fareast-font-family: &#39;Times New Roman&#39;\;&quot;&gt;Web Development Team Lea
 d&lt;/span&gt;&lt;/p&gt;\n&lt;p&gt;&lt;span lang=&quot;EN-US&quot; style=&quot;font-size: 12.0pt\; line-height
 : 115%\; font-family: &#39;Times New Roman&#39;\,&#39;serif&#39;\; mso-fareast-font-family
 : &#39;Times New Roman&#39;\;&quot;&gt;&lt;span style=&quot;mso-list: Ignore\;&quot;&gt;&lt;span style=&quot;font-
 style: normal\; font-variant: normal\; font-size-adjust: none\; font-kerni
 ng: auto\; font-optical-sizing: auto\; font-feature-settings: normal\; fon
 t-variation-settings: normal\; font-stretch: normal\; font-size: 7pt\; lin
 e-height: normal\; font-family: &#39;Times New Roman&#39;\;&quot;&gt;&amp;nbsp\; &amp;nbsp\; &amp;nbsp
 \; &amp;nbsp\;&lt;/span&gt;&lt;/span&gt;&lt;/span&gt;&lt;!--[endif]--&gt;&lt;span lang=&quot;EN-US&quot; style=&quot;fon
 t-size: 12.0pt\; line-height: 115%\; font-family: &#39;Times New Roman&#39;\,&#39;seri
 f&#39;\; mso-fareast-font-family: &#39;Times New Roman&#39;\;&quot;&gt;Programming Team Lead&lt;/
 span&gt;&lt;/p&gt;\n&lt;p&gt;&lt;span lang=&quot;EN-US&quot; style=&quot;font-size: 12.0pt\; line-height: 1
 15%\; font-family: &#39;Times New Roman&#39;\,&#39;serif&#39;\; mso-fareast-font-family: &#39;
 Times New Roman&#39;\;&quot;&gt;&lt;span style=&quot;mso-list: Ignore\;&quot;&gt;&lt;span style=&quot;font-sty
 le: normal\; font-variant: normal\; font-size-adjust: none\; font-kerning:
  auto\; font-optical-sizing: auto\; font-feature-settings: normal\; font-v
 ariation-settings: normal\; font-stretch: normal\; font-size: 7pt\; line-h
 eight: normal\; font-family: &#39;Times New Roman&#39;\;&quot;&gt;&amp;nbsp\; &amp;nbsp\; &amp;nbsp\; 
 &amp;nbsp\;&lt;/span&gt;&lt;/span&gt;&lt;/span&gt;&lt;!--[endif]--&gt;&lt;span lang=&quot;EN-US&quot; style=&quot;font-s
 ize: 12.0pt\; line-height: 115%\; font-family: &#39;Times New Roman&#39;\,&#39;serif&#39;\
 ; mso-fareast-font-family: &#39;Times New Roman&#39;\;&quot;&gt;Design Team Lead&lt;/span&gt;&lt;/p
 &gt;\n&lt;p&gt;&lt;span lang=&quot;EN-US&quot; style=&quot;font-size: 12.0pt\; line-height: 115%\; fo
 nt-family: &#39;Times New Roman&#39;\,&#39;serif&#39;\; mso-fareast-font-family: &#39;Times Ne
 w Roman&#39;\;&quot;&gt;&lt;span style=&quot;mso-list: Ignore\;&quot;&gt;&lt;span style=&quot;font-style: norm
 al\; font-variant: normal\; font-size-adjust: none\; font-kerning: auto\; 
 font-optical-sizing: auto\; font-feature-settings: normal\; font-variation
 -settings: normal\; font-stretch: normal\; font-size: 7pt\; line-height: n
 ormal\; font-family: &#39;Times New Roman&#39;\;&quot;&gt;&amp;nbsp\; &amp;nbsp\; &amp;nbsp\; &amp;nbsp\;&lt;
 /span&gt;&lt;/span&gt;&lt;/span&gt;&lt;!--[endif]--&gt;&lt;span lang=&quot;EN-US&quot; style=&quot;font-size: 12.
 0pt\; line-height: 115%\; font-family: &#39;Times New Roman&#39;\,&#39;serif&#39;\; mso-fa
 reast-font-family: &#39;Times New Roman&#39;\;&quot;&gt;Public Relations Team Lead&lt;/span&gt;&lt;
 /p&gt;\n&lt;p&gt;&lt;span lang=&quot;EN-US&quot; style=&quot;font-size: 12.0pt\; line-height: 115%\; 
 font-family: &#39;Times New Roman&#39;\,&#39;serif&#39;\; mso-fareast-font-family: &#39;Times 
 New Roman&#39;\;&quot;&gt;&lt;span style=&quot;mso-list: Ignore\;&quot;&gt;&lt;span style=&quot;font-style: no
 rmal\; font-variant: normal\; font-size-adjust: none\; font-kerning: auto\
 ; font-optical-sizing: auto\; font-feature-settings: normal\; font-variati
 on-settings: normal\; font-stretch: normal\; font-size: 7pt\; line-height:
  normal\; font-family: &#39;Times New Roman&#39;\;&quot;&gt;&amp;nbsp\; &amp;nbsp\; &amp;nbsp\; &amp;nbsp\
 ;&lt;/span&gt;&lt;/span&gt;&lt;/span&gt;&lt;!--[endif]--&gt;&lt;span lang=&quot;EN-US&quot; style=&quot;font-size: 1
 2.0pt\; line-height: 115%\; font-family: &#39;Times New Roman&#39;\,&#39;serif&#39;\; mso-
 fareast-font-family: &#39;Times New Roman&#39;\;&quot;&gt;MNP Team Lead&lt;/span&gt;&lt;/p&gt;\n&lt;p&gt;&lt;sp
 an lang=&quot;EN-US&quot; style=&quot;font-size: 12.0pt\; line-height: 115%\; font-family
 : &#39;Times New Roman&#39;\,&#39;serif&#39;\; mso-fareast-font-family: &#39;Times New Roman&#39;\
 ;&quot;&gt;&lt;span style=&quot;mso-list: Ignore\;&quot;&gt;&lt;span style=&quot;font-style: normal\; font
 -variant: normal\; font-size-adjust: none\; font-kerning: auto\; font-opti
 cal-sizing: auto\; font-feature-settings: normal\; font-variation-settings
 : normal\; font-stretch: normal\; font-size: 7pt\; line-height: normal\; f
 ont-family: &#39;Times New Roman&#39;\;&quot;&gt;&amp;nbsp\; &amp;nbsp\; &amp;nbsp\; &amp;nbsp\;&lt;/span&gt;&lt;/s
 pan&gt;&lt;/span&gt;&lt;!--[endif]--&gt;&lt;span lang=&quot;EN-US&quot; style=&quot;font-size: 12.0pt\; lin
 e-height: 115%\; font-family: &#39;Times New Roman&#39;\,&#39;serif&#39;\; mso-fareast-fon
 t-family: &#39;Times New Roman&#39;\;&quot;&gt;Operations Team Lead&lt;/span&gt;&lt;/p&gt;\n&lt;p&gt;&lt;span l
 ang=&quot;EN-US&quot; style=&quot;font-size: 12.0pt\; line-height: 115%\; font-family: &#39;T
 imes New Roman&#39;\,&#39;serif&#39;\; mso-fareast-font-family: &#39;Times New Roman&#39;\;&quot;&gt;&lt;
 span style=&quot;mso-list: Ignore\;&quot;&gt;&lt;span style=&quot;font: 7.0pt &#39;Times New Roman&#39;
 \;&quot;&gt;&amp;nbsp\; &amp;nbsp\; &amp;nbsp\; &lt;/span&gt;&lt;/span&gt;&lt;/span&gt;&lt;!--[endif]--&gt;&lt;span lang=
 &quot;EN-US&quot; style=&quot;font-size: 12.0pt\; line-height: 115%\; font-family: &#39;Times
  New Roman&#39;\,&#39;serif&#39;\; mso-fareast-font-family: &#39;Times New Roman&#39;\;&quot;&gt;To as
 sess how well candidates understood their chosen domains and their ability
  to contribute effectively.&lt;/span&gt;&lt;/p&gt;\n&lt;p&gt;&lt;span lang=&quot;EN-US&quot; style=&quot;font-
 size: 12.0pt\; line-height: 115%\; font-family: &#39;Times New Roman&#39;\,&#39;serif&#39;
 \; mso-fareast-font-family: &#39;Times New Roman&#39;\;&quot;&gt;&lt;span style=&quot;mso-list: Ig
 nore\;&quot;&gt;&lt;span style=&quot;font: 7.0pt &#39;Times New Roman&#39;\;&quot;&gt;&amp;nbsp\; &lt;/span&gt;&lt;/spa
 n&gt;&lt;/span&gt;&lt;!--[endif]--&gt;&lt;span lang=&quot;EN-US&quot; style=&quot;font-size: 12.0pt\; line-
 height: 115%\; font-family: &#39;Times New Roman&#39;\,&#39;serif&#39;\; mso-fareast-font-
 family: &#39;Times New Roman&#39;\;&quot;&gt;To ensure that selected team leads align with
  the council&amp;rsquo\;s vision and objectives.&lt;/span&gt;&lt;/p&gt;\n&lt;p class=&quot;MsoNorm
 al&quot; style=&quot;margin-left: 72.0pt\; line-height: 115%\;&quot;&gt;&lt;span lang=&quot;EN-US&quot; s
 tyle=&quot;font-size: 12.0pt\; line-height: 115%\; font-family: &#39;Times New Roma
 n&#39;\,&#39;serif&#39;\; mso-fareast-font-family: &#39;Times New Roman&#39;\;&quot;&gt;&amp;nbsp\;&lt;/span&gt;
 &lt;/p&gt;\n&lt;p class=&quot;MsoNormal&quot; style=&quot;line-height: 115%\;&quot;&gt;&lt;span lang=&quot;EN-US&quot; 
 style=&quot;font-size: 12.0pt\; line-height: 115%\; font-family: &#39;Times New Rom
 an&#39;\,&#39;serif&#39;\; mso-fareast-font-family: &#39;Times New Roman&#39;\;&quot;&gt;&lt;img src=&quot;htt
 ps://events.vtools.ieee.org/vtools_ui/media/display/c0b5e2c8-c6e6-4e96-939
 6-c46c5e9fd258&quot; width=&quot;171&quot; height=&quot;149&quot;&gt; &amp;nbsp\; &amp;nbsp\; &lt;img src=&quot;https:
 //events.vtools.ieee.org/vtools_ui/media/display/8e97e594-53e0-4576-a587-5
 341fba709dc&quot; width=&quot;170&quot; height=&quot;137&quot;&gt;&lt;/span&gt;&lt;/p&gt;\n&lt;p class=&quot;MsoNormal&quot; st
 yle=&quot;line-height: 115%\;&quot;&gt;&lt;span lang=&quot;EN-US&quot; style=&quot;font-size: 12.0pt\; li
 ne-height: 115%\; font-family: &#39;Times New Roman&#39;\,&#39;serif&#39;\; mso-fareast-fo
 nt-family: &#39;Times New Roman&#39;\;&quot;&gt;&amp;nbsp\;&lt;/span&gt;&lt;/p&gt;
END:VEVENT
END:VCALENDAR

