BEGIN:VCALENDAR
VERSION:2.0
PRODID:IEEE vTools.Events//EN
CALSCALE:GREGORIAN
BEGIN:VTIMEZONE
TZID:America/Los_Angeles
BEGIN:DAYLIGHT
DTSTART:20250309T030000
TZOFFSETFROM:-0800
TZOFFSETTO:-0700
RRULE:FREQ=YEARLY;BYDAY=2SU;BYMONTH=3
TZNAME:PDT
END:DAYLIGHT
BEGIN:STANDARD
DTSTART:20251102T010000
TZOFFSETFROM:-0700
TZOFFSETTO:-0800
RRULE:FREQ=YEARLY;BYDAY=1SU;BYMONTH=11
TZNAME:PST
END:STANDARD
END:VTIMEZONE
BEGIN:VEVENT
DTSTAMP:20250211T031438Z
UID:C132D0DD-72F7-48B8-BAC5-72D9CFCBCF01
DTSTART;TZID=America/Los_Angeles:20250322T170000
DTEND;TZID=America/Los_Angeles:20250322T210000
DESCRIPTION:[]Join us for a celebration of innovation\, creativity\, and cu
 tting-edge technology at the Okanagan Innovation and Technology Expo! This
  annual event brings together bright minds from the engineering\, technolo
 gy\, and entrepreneurial communities to explore the &quot;Timeline of Innovatio
 n&quot;—a journey through groundbreaking ideas and their evolution.\n\nFeatur
 ing keynote addresses from industry pioneers\, engaging student and indust
 ry booths\, and a dynamic booth competition\, this event is designed to in
 spire collaboration and showcase advancements from across British Columbia
  and beyond. Attendees will have the chance to connect with visionaries\, 
 learn from industry leaders\, and experience the future of technology firs
 thand.\n\nWhether you&#39;re a student\, professional\, or enthusiast\, the Ok
 anagan Innovation and Technology Expo offers something for everyone. Don&#39;t
  miss the opportunity to network\, innovate\, and celebrate the spirit of 
 technological progress.\n\nAgenda: \n5:00 PM – 5:30 PM\nOpening Ceremony
 \nWelcome remarks and an introduction to the event theme: &quot;Timeline of Inn
 ovation.&quot;\n\n5:30 PM – 6:00 PM\nKeynote Speaker 1\nA thought leader shar
 es insights on the journey of innovation and the future of technology.\n\n
 6:00 PM – 6:30 PM\nMingle &amp; Booth Tour\nExplore student and industry boo
 ths showcasing cutting-edge projects and developments.\n\n6:30 PM – 7:00
  PM\nSpeaker Series\nPresentations by a leading professor and a standout s
 tudent innovator.\n\n7:00 PM – 8:00 PM\nBooth Competition &amp; Catering\nEx
 perience hands-on demonstrations and interactive exhibits\, and enjoy cate
 red refreshments.\n\n8:00 PM – 8:30 PM\nCompetition Winners Announcement
 \nCelebrate the best booths as the winners are revealed\, with prizes awar
 ded to the top three teams.\n\n8:30 PM – 9:00 PM\nKeynote Speaker 2\nA r
 enowned industry professional closes the evening with an inspiring talk.\n
 \n9:00 PM – Onward\nNetworking &amp; Wrap-Up\nContinue conversations\, forge
  connections\, and wrap up the event.\n\nBldg: KF Centre for Excellence\, 
 5800 Lapointe Dr\, Kelowna\, British Columbia\, Canada\, V1X 7V5
LOCATION:Bldg: KF Centre for Excellence\, 5800 Lapointe Dr\, Kelowna\, Brit
 ish Columbia\, Canada\, V1X 7V5
ORGANIZER:okgn.ieee@gmail.com
SEQUENCE:26
SUMMARY:Okanagan Innovation &amp; Technology Expo
URL;VALUE=URI:https://events.vtools.ieee.org/m/462607
X-ALT-DESC:Description: &lt;br /&gt;&lt;p&gt;&lt;img src=&quot;https://events.vtools.ieee.org/v
 tools_ui/media/display/c56d0939-0f9b-40e5-a909-ef5bdaa90aff&quot; alt=&quot;&quot; width=
 &quot;214&quot; height=&quot;214&quot;&gt;Join us for a celebration of innovation\, creativity\, 
 and cutting-edge technology at the Okanagan Innovation and Technology Expo
 ! This annual event brings together bright minds from the engineering\, te
 chnology\, and entrepreneurial communities to explore the &lt;strong&gt;&quot;Timelin
 e of Innovation&quot;&lt;/strong&gt;&amp;mdash\;a journey through groundbreaking ideas an
 d their evolution.&lt;/p&gt;\n&lt;p&gt;Featuring keynote addresses from industry pione
 ers\, engaging student and industry booths\, and a dynamic booth competiti
 on\, this event is designed to inspire collaboration and showcase advancem
 ents from across British Columbia and beyond. Attendees will have the chan
 ce to connect with visionaries\, learn from industry leaders\, and experie
 nce the future of technology firsthand.&lt;/p&gt;\n&lt;p&gt;Whether you&#39;re a student\,
  professional\, or enthusiast\, the Okanagan Innovation and Technology Exp
 o offers something for everyone. Don&#39;t miss the opportunity to network\, i
 nnovate\, and celebrate the spirit of technological progress.&lt;/p&gt;&lt;br /&gt;&lt;br
  /&gt;Agenda: &lt;br /&gt;&lt;p&gt;&lt;strong&gt;5:00 PM &amp;ndash\; 5:30 PM&lt;/strong&gt;&lt;br&gt;&lt;strong&gt;O
 pening Ceremony&lt;/strong&gt;&lt;br&gt;Welcome remarks and an introduction to the eve
 nt theme: &quot;Timeline of Innovation.&quot;&lt;/p&gt;\n&lt;p&gt;&lt;strong&gt;5:30 PM &amp;ndash\; 6:00 
 PM&lt;/strong&gt;&lt;br&gt;&lt;strong&gt;Keynote Speaker 1&lt;/strong&gt;&lt;br&gt;A thought leader shar
 es insights on the journey of innovation and the future of technology.&lt;/p&gt;
 \n&lt;p&gt;&lt;strong&gt;6:00 PM &amp;ndash\; 6:30 PM&lt;/strong&gt;&lt;br&gt;&lt;strong&gt;Mingle &amp;amp\; Bo
 oth Tour&lt;/strong&gt;&lt;br&gt;Explore student and industry booths showcasing cuttin
 g-edge projects and developments.&lt;/p&gt;\n&lt;p&gt;&lt;strong&gt;6:30 PM &amp;ndash\; 7:00 PM
 &lt;/strong&gt;&lt;br&gt;&lt;strong&gt;Speaker Series&lt;/strong&gt;&lt;br&gt;Presentations by a leading
  professor and a standout student innovator.&lt;/p&gt;\n&lt;p&gt;&lt;strong&gt;7:00 PM &amp;ndas
 h\; 8:00 PM&lt;/strong&gt;&lt;br&gt;&lt;strong&gt;Booth Competition &amp;amp\; Catering&lt;/strong&gt;
 &lt;br&gt;Experience hands-on demonstrations and interactive exhibits\, and enjo
 y catered refreshments.&lt;/p&gt;\n&lt;p&gt;&lt;strong&gt;8:00 PM &amp;ndash\; 8:30 PM&lt;/strong&gt;&lt;
 br&gt;&lt;strong&gt;Competition Winners Announcement&lt;/strong&gt;&lt;br&gt;Celebrate the best
  booths as the winners are revealed\, with prizes awarded to the top three
  teams.&lt;/p&gt;\n&lt;p&gt;&lt;strong&gt;8:30 PM &amp;ndash\; 9:00 PM&lt;/strong&gt;&lt;br&gt;&lt;strong&gt;Keyno
 te Speaker 2&lt;/strong&gt;&lt;br&gt;A renowned industry professional closes the eveni
 ng with an inspiring talk.&lt;/p&gt;\n&lt;p&gt;&lt;strong&gt;9:00 PM &amp;ndash\; Onward&lt;/strong
 &gt;&lt;br&gt;&lt;strong&gt;Networking &amp;amp\; Wrap-Up&lt;/strong&gt;&lt;br&gt;Continue conversations\
 , forge connections\, and wrap up the event.&lt;/p&gt;
END:VEVENT
END:VCALENDAR

