BEGIN:VCALENDAR
VERSION:2.0
PRODID:IEEE vTools.Events//EN
CALSCALE:GREGORIAN
BEGIN:VTIMEZONE
TZID:Asia/Kolkata
BEGIN:STANDARD
DTSTART:19451014T230000
TZOFFSETFROM:+0630
TZOFFSETTO:+0530
TZNAME:IST
END:STANDARD
END:VTIMEZONE
BEGIN:VEVENT
DTSTAMP:20251008T145445Z
UID:8C2B14D3-3339-4731-A26F-40A0D787CD79
DTSTART;TZID=Asia/Kolkata:20250122T160000
DTEND;TZID=Asia/Kolkata:20250122T180500
DESCRIPTION:Topic: RAG with Gemini\nDate: 22-01-24 (Wednesday)\nTime: 4:00 
 PM\nVenue: Phase-I Computer Lab \,First floor - Computer Engineering Depar
 tment Sarvajanik College of Engineering and Technology (SCET)\n\nWhat to E
 xpect?\n- Learn about RAG (Retrieval-Augmented Generation) on Gemini.\n- E
 xplore its real-world applications and impact.\n- Gain insights from a Goo
 gle Developer Expert.\n\nSpeaker:\nJay Thakkar\,\n-Google Developer Expert
 \n-TensorFlow User group Organizer \, Surat\nContact: +91 97146 39423\n\n
 📌 Free Entry\n💻 Open to all tech enthusiasts!\n\nBldg: Computer Depa
 rtment\, Dr.R.K Desai Marg\, SURAT\, Gujarat\, India\, 395001
LOCATION:Bldg: Computer Department\, Dr.R.K Desai Marg\, SURAT\, Gujarat\, 
 India\, 395001
ORGANIZER:vandana.joshi@scet.ac.in
SEQUENCE:2
SUMMARY:RAG with Gemini 
URL;VALUE=URI:https://events.vtools.ieee.org/m/462728
X-ALT-DESC:Description: &lt;br /&gt;&lt;p&gt;Topic: RAG with Gemini &amp;nbsp\;&lt;br&gt;Date: 22
 -01-24 (Wednesday) &amp;nbsp\;&lt;br&gt;Time: 4:00 PM &amp;nbsp\;&lt;br&gt;Venue: Phase-I Comp
 uter Lab \,First floor - Computer Engineering Department Sarvajanik Colleg
 e of Engineering and Technology (SCET) &amp;nbsp\;&lt;/p&gt;\n&lt;p&gt;What to Expect? &amp;nb
 sp\;&lt;br&gt;- Learn about RAG (Retrieval-Augmented Generation) on Gemini. &amp;nbs
 p\;&lt;br&gt;- Explore its real-world applications and impact. &amp;nbsp\;&lt;br&gt;- Gain
  insights from a Google Developer Expert. &amp;nbsp\;&lt;/p&gt;\n&lt;p&gt;Speaker: &amp;nbsp\;
 &lt;br&gt;Jay Thakkar\,&amp;nbsp\;&lt;br&gt;-Google Developer Expert &amp;nbsp\;&lt;br&gt;-TensorFlo
 w User group Organizer \, Surat&amp;nbsp\;&lt;br&gt;Contact: +91 97146 39423&lt;/p&gt;\n&lt;p
 &gt;📌 Free Entry &amp;nbsp\;&lt;br&gt;💻 Open to all tech enthusiasts!&amp;nbsp\;&lt;/p&gt;
END:VEVENT
END:VCALENDAR

