BEGIN:VCALENDAR
VERSION:2.0
PRODID:IEEE vTools.Events//EN
CALSCALE:GREGORIAN
BEGIN:VTIMEZONE
TZID:Asia/Kuala_Lumpur
BEGIN:DAYLIGHT
DTSTART:20380119T111407
TZOFFSETFROM:+0800
TZOFFSETTO:+0800
RRULE:FREQ=YEARLY;BYDAY=3TU;BYMONTH=1
TZNAME:+08
END:DAYLIGHT
BEGIN:STANDARD
DTSTART:19820101T000000
TZOFFSETFROM:+0730
TZOFFSETTO:+0800
RRULE:FREQ=YEARLY;BYDAY=1FR;BYMONTH=1
TZNAME:+08
END:STANDARD
END:VTIMEZONE
BEGIN:VEVENT
DTSTAMP:20250121T051932Z
UID:BA01F831-143B-41F4-9B84-7B3EEB28FE30
DTSTART;TZID=Asia/Kuala_Lumpur:20241208T080000
DTEND;TZID=Asia/Kuala_Lumpur:20241208T170000
DESCRIPTION:\n\nSMK Bandar Putra 2\, Jalan Putra 3\, Kulai\, Malaysia\, Joh
 or Bahru\, Johor\, Malaysia\, 81000
LOCATION:SMK Bandar Putra 2\, Jalan Putra 3\, Kulai\, Malaysia\, Johor Bahr
 u\, Johor\, Malaysia\, 81000
ORGANIZER:aishahmunim@gmail.com
SEQUENCE:17
SUMMARY:Academic Service Learning with SMK Bandar Putra 2\, Kulai\, Johor M
 alaysia
URL;VALUE=URI:https://events.vtools.ieee.org/m/462900
X-ALT-DESC:Description: &lt;br /&gt;&lt;p&gt;&lt;img src=&quot;https://events.vtools.ieee.org/v
 tools_ui/media/display/63508971-8972-4941-b442-8bba17a8c7aa&quot;&gt;&lt;/p&gt;
END:VEVENT
END:VCALENDAR

