BEGIN:VCALENDAR
VERSION:2.0
PRODID:IEEE vTools.Events//EN
CALSCALE:GREGORIAN
BEGIN:VTIMEZONE
TZID:Asia/Jakarta
BEGIN:STANDARD
DTSTART:19631231T233000
TZOFFSETFROM:+0730
TZOFFSETTO:+0700
TZNAME:WIB
END:STANDARD
END:VTIMEZONE
BEGIN:VEVENT
DTSTAMP:20250124T034943Z
UID:6ED3C9FA-931E-4EF1-98E0-3BC133F42BF5
DTSTART;TZID=Asia/Jakarta:20240920T000000
DTEND;TZID=Asia/Jakarta:20240920T120000
DESCRIPTION:The focus is the “Sosialisasi Student Banch UNPAD” which de
 liberates by Arjon Turnip\, Ph.D from Universitas Padjadjaran.\n\nUniversi
 tas Padjadjaran\, Jl. Raya Bandung Sumedang KM.21\, Hegarmanah\, Kec. Jati
 nangor\, Kabupaten Sumedang\, Jawa Barat\, Indonesia
LOCATION:Universitas Padjadjaran\, Jl. Raya Bandung Sumedang KM.21\, Hegarm
 anah\, Kec. Jatinangor\, Kabupaten Sumedang\, Jawa Barat\, Indonesia
ORGANIZER:turnip@unpad.ac.id
SEQUENCE:3
SUMMARY:Sosialisasi IEEE Student Branch Universitas Padjadjaran
URL;VALUE=URI:https://events.vtools.ieee.org/m/463368
X-ALT-DESC:Description: &lt;br /&gt;&lt;p class=&quot;MsoNormal&quot; style=&quot;text-align: left\
 ;&quot; align=&quot;left&quot;&gt;&lt;strong style=&quot;mso-bidi-font-weight: normal\;&quot;&gt;&lt;span lang=
 &quot;EN-US&quot; style=&quot;font-size: 12.0pt\; font-family: &#39;Times New Roman&#39;\,serif\;
  mso-ansi-language: EN-US\;&quot;&gt;The focus is the &lt;/span&gt;&lt;/strong&gt;&lt;strong styl
 e=&quot;mso-bidi-font-weight: normal\;&quot;&gt;&lt;span lang=&quot;IN&quot; style=&quot;font-size: 12.0p
 t\; font-family: &#39;Times New Roman&#39;\,serif\;&quot;&gt;&amp;ldquo\;&lt;/span&gt;&lt;/strong&gt;&lt;stro
 ng style=&quot;mso-bidi-font-weight: normal\;&quot;&gt;&lt;span lang=&quot;EN-US&quot; style=&quot;font-s
 ize: 12.0pt\; font-family: &#39;Times New Roman&#39;\,serif\; mso-ansi-language: E
 N-US\;&quot;&gt;Sosialisasi Student Banch UNPAD&lt;/span&gt;&lt;/strong&gt;&lt;strong style=&quot;mso-
 bidi-font-weight: normal\;&quot;&gt;&lt;span lang=&quot;IN&quot; style=&quot;font-size: 12.0pt\; fon
 t-family: &#39;Times New Roman&#39;\,serif\;&quot;&gt;&amp;rdquo\; &lt;/span&gt;&lt;/strong&gt;&lt;strong sty
 le=&quot;mso-bidi-font-weight: normal\;&quot;&gt;&lt;span lang=&quot;EN-US&quot; style=&quot;font-size: 1
 2.0pt\; font-family: &#39;Times New Roman&#39;\,serif\; mso-ansi-language: EN-US\;
 &quot;&gt;which deliberates by &lt;/span&gt;&lt;/strong&gt;&lt;strong style=&quot;mso-bidi-font-weight
 : normal\;&quot;&gt;&lt;span lang=&quot;IN&quot; style=&quot;font-size: 12.0pt\; font-family: &#39;Times
  New Roman&#39;\,serif\;&quot;&gt;Arjon Turnip\, Ph.D &lt;/span&gt;&lt;/strong&gt;&lt;strong style=&quot;m
 so-bidi-font-weight: normal\;&quot;&gt;&lt;span lang=&quot;EN-US&quot; style=&quot;font-size: 12.0pt
 \; font-family: &#39;Times New Roman&#39;\,serif\; mso-ansi-language: EN-US\;&quot;&gt;fro
 m Universitas Padjadjaran&lt;/span&gt;&lt;/strong&gt;&lt;strong style=&quot;mso-bidi-font-weig
 ht: normal\;&quot;&gt;&lt;span lang=&quot;IN&quot; style=&quot;font-size: 12.0pt\; font-family: &#39;Tim
 es New Roman&#39;\,serif\;&quot;&gt;.&lt;/span&gt;&lt;/strong&gt;&lt;/p&gt;\n&lt;p class=&quot;MsoNormal&quot; style=
 &quot;text-align: left\;&quot; align=&quot;left&quot;&gt;&lt;strong style=&quot;mso-bidi-font-weight: nor
 mal\;&quot;&gt;&lt;span lang=&quot;IN&quot; style=&quot;font-size: 12.0pt\; font-family: &#39;Times New 
 Roman&#39;\,serif\;&quot;&gt;&lt;img src=&quot;https://events.vtools.ieee.org/vtools_ui/media/
 display/bda30689-55a2-4106-aed9-df8b8a56939a&quot;&gt;&lt;/span&gt;&lt;/strong&gt;&lt;/p&gt;
END:VEVENT
END:VCALENDAR

