BEGIN:VCALENDAR
VERSION:2.0
PRODID:IEEE vTools.Events//EN
CALSCALE:GREGORIAN
BEGIN:VTIMEZONE
TZID:America/Montreal
BEGIN:DAYLIGHT
DTSTART:20170312T030000
TZOFFSETFROM:-0500
TZOFFSETTO:-0400
RRULE:FREQ=YEARLY;BYDAY=2SU;BYMONTH=3
TZNAME:EDT
END:DAYLIGHT
BEGIN:STANDARD
DTSTART:20171105T010000
TZOFFSETFROM:-0400
TZOFFSETTO:-0500
RRULE:FREQ=YEARLY;BYDAY=1SU;BYMONTH=11
TZNAME:EST
END:STANDARD
END:VTIMEZONE
BEGIN:VEVENT
DTSTAMP:20170911T114136Z
UID:2F29767C-711F-11E7-8752-0050568D2FB3
DTSTART;TZID=America/Montreal:20170912T173000
DTEND;TZID=America/Montreal:20170912T193000
DESCRIPTION:The IEEE Consumer Electronics Chapter at Montreal Section is pl
 eased to announce a panel discussion to examine how Artificial Intelligenc
 e (AI) may impact Consumer Electronics (CE).\n\nThe CE industry sector inc
 ludes emerging technologies for enabling smart homes\, autonomous vehicles
 \, wearables\, augmented reality and virtual reality. Montreal is now reco
 gnized as a world leader in the area of Artificial Intelligence. So\, this
  is the perfect time for local leading experts in this exciting\, growing 
 field\, to share important insights and perspectives. The discussion will 
 include\, but will not be limited to\, the following topics:\n\n-\nWhat is
 sues and challenges need to be assessed when bringing AI to consumer elect
 ronics?\n\n-\nWhat will be the impact of AI on consumers?\n\n-\nHow will a
  consumer secure his personal data?\n\n-\nWhat are the benefits from these
  new products and services?\n\nPanelists:\n\n-\nGabriel Duford\, SVP Devel
 opment and Technology and Co-founder at Element AI\n\n-\nErdem Özcan\, Co
 -founder and Head of Research at Automat.ai\n\n- Gilles Boulianne\, Direct
 or\, Speech and Text Team at CRIM\n\nModerator: Mehrsan Javan\, CTO at SPO
 RTLOGiQ.\n\nRegistration is free\, but places are limited. Please\, click 
 below to reserve your seat!\n\nCo-sponsored by IEEE Montreal Section and W
 eWork.\n\n- WeWork is a community of creators that aims to help companies 
 grow by providing them with not just beautiful space\, but also the benefi
 ts\, amenities\, and professional community they need to focus on their bu
 siness. Visit [our website](https://www.wework.com/l/montreal--QC) to set 
 up a tour today!\n- WeWork offre à son réseau international de créateur
 s l’espace de travail\, la communauté\, et les services dont ils ont be
 soin afin qu&#39;ils s&#39;épanouissent non seulement dans leur travail\, mais au
 ssi dans leur vie. [Cliquez ici](https://www.wework.com/l/montreal--QC) po
 ur visiter nos espaces dès maintenant!\n\nCo-sponsored by: WeWork and IEE
 E Montreal Section\n\nSpeaker(s): Panelists\, Moderator\, Panelists\, Mode
 rator\n\nAgenda: \n5:30 p.m. - 6:00 p.m. Registration\, Networking &amp; Refre
 shments\n\n6:00 p.m. - 6:45 p.m. Panel discussion\n\n6:45 p.m. - 7:30 p.m.
  Networking\n\nRoom: 4th Floor\, 3 Place Ville Marie \, WeWork\, Montreal\
 , Quebec\, Canada\, H3B 2E3 
LOCATION:Room: 4th Floor\, 3 Place Ville Marie \, WeWork\, Montreal\, Quebe
 c\, Canada\, H3B 2E3 
ORGANIZER:ce.montreal@ieee.org
SEQUENCE:61
SUMMARY:Artificial Intelligence in Consumer Electronics
URL;VALUE=URI:https://events.vtools.ieee.org/m/46353
X-ALT-DESC:Description: &lt;br /&gt;&lt;p dir=&quot;ltr&quot;&gt;The IEEE Consumer Electronics Ch
 apter at Montreal Section is pleased to announce a panel discussion to exa
 mine how Artificial Intelligence (AI) may impact Consumer Electronics (CE)
 .&lt;/p&gt;\n&lt;p dir=&quot;ltr&quot;&gt;The CE industry sector includes emerging technologies 
 for enabling smart homes\, autonomous vehicles\, wearables\, augmented rea
 lity and virtual reality. Montreal is now recognized as a world leader in 
 the area of Artificial Intelligence. So\, this is the perfect time for loc
 al leading experts in this exciting\, growing field\, to share important i
 nsights and perspectives. The discussion will include\, but will not be li
 mited to\, the following topics:&lt;/p&gt;\n&lt;ul&gt;\n&lt;li dir=&quot;ltr&quot;&gt;\n&lt;p dir=&quot;ltr&quot;&gt;W
 hat issues and challenges need to be assessed when bringing AI to consumer
  electronics? &amp;nbsp\;&lt;/p&gt;\n&lt;/li&gt;\n&lt;li dir=&quot;ltr&quot;&gt;\n&lt;p dir=&quot;ltr&quot;&gt;What will b
 e the impact of AI on consumers?&lt;/p&gt;\n&lt;/li&gt;\n&lt;li dir=&quot;ltr&quot;&gt;\n&lt;p dir=&quot;ltr&quot;&gt;
 How will a consumer secure his personal data?&lt;/p&gt;\n&lt;/li&gt;\n&lt;li dir=&quot;ltr&quot;&gt;\n
 &lt;p dir=&quot;ltr&quot;&gt;What are the benefits from these new products and services?&lt;/
 p&gt;\n&lt;/li&gt;\n&lt;/ul&gt;\n&lt;p dir=&quot;ltr&quot;&gt;&amp;nbsp\;&lt;/p&gt;\n&lt;p dir=&quot;ltr&quot;&gt;Panelists:&lt;/p&gt;\n&lt;
 ul&gt;\n&lt;li dir=&quot;ltr&quot;&gt;\n&lt;p dir=&quot;ltr&quot;&gt;Gabriel Duford\,&amp;nbsp\;SVP Development a
 nd Technology and Co-founder at Element AI&lt;/p&gt;\n&lt;/li&gt;\n&lt;li dir=&quot;ltr&quot;&gt;\n&lt;p 
 dir=&quot;ltr&quot;&gt;Erdem &amp;Ouml\;zcan\, Co-founder and Head of Research at Automat.a
 i&lt;/p&gt;\n&lt;/li&gt;\n&lt;li dir=&quot;ltr&quot;&gt;Gilles Boulianne\, Director\, Speech and Text 
 Team at CRIM&lt;/li&gt;\n&lt;/ul&gt;\n&lt;p dir=&quot;ltr&quot;&gt;&amp;nbsp\;&lt;/p&gt;\n&lt;p dir=&quot;ltr&quot;&gt;Moderator
 : Mehrsan Javan\, CTO at SPORTLOGiQ.&lt;/p&gt;\n&lt;p dir=&quot;ltr&quot;&gt;&lt;strong&gt;Registratio
 n is free\, but places are limited. Please\, click below to reserve your s
 eat!&lt;/strong&gt;&lt;/p&gt;\n&lt;p dir=&quot;ltr&quot;&gt;&amp;nbsp\;&lt;/p&gt;\n&lt;p dir=&quot;ltr&quot;&gt;Co-sponsored by 
 IEEE Montreal Section and WeWork.&lt;/p&gt;\n&lt;ul&gt;\n&lt;li&gt;&lt;em&gt;&lt;span style=&quot;font-siz
 e: 10pt\;&quot;&gt;WeWork is a community of creators that aims to help companies g
 row by providing them with not just beautiful space\, but also the benefit
 s\, amenities\, and professional community they need to focus on their bus
 iness. Visit &lt;a href=&quot;https://www.wework.com/l/montreal--QC&quot; target=&quot;_blan
 k&quot; rel=&quot;noopener&quot; data-saferedirecturl=&quot;https://www.google.com/url?hl=en&amp;a
 mp\;q=https://www.wework.com/l/montreal--QC&amp;amp\;source=gmail&amp;amp\;ust=150
 2016000032000&amp;amp\;usg=AFQjCNHVa4UboyLf6gqJiIoMFCse67BHCg&quot;&gt;our website&lt;/a&gt;
  to set up a tour today!&lt;/span&gt;&lt;/em&gt;&lt;/li&gt;\n&lt;li&gt;&lt;em&gt;&lt;span style=&quot;font-size:
  10pt\;&quot;&gt;WeWork offre &amp;agrave\; son r&amp;eacute\;seau international de cr&amp;eac
 ute\;ateurs l&amp;rsquo\;espace de travail\, la communaut&amp;eacute\;\, et les se
 rvices dont ils ont besoin afin qu&#39;ils s&#39;&amp;eacute\;panouissent non seulemen
 t dans leur travail\, mais aussi dans leur vie. &lt;a href=&quot;https://www.wewor
 k.com/l/montreal--QC&quot; target=&quot;_blank&quot; rel=&quot;noopener&quot; data-saferedirecturl=
 &quot;https://www.google.com/url?hl=en&amp;amp\;q=https://www.wework.com/l/montreal
 --QC&amp;amp\;source=gmail&amp;amp\;ust=1502016000032000&amp;amp\;usg=AFQjCNHVa4UboyLf
 6gqJiIoMFCse67BHCg&quot;&gt;Cliquez ici&lt;/a&gt; pour visiter nos espaces d&amp;egrave\;s m
 aintenant!&lt;/span&gt;&lt;/em&gt;&lt;/li&gt;\n&lt;/ul&gt;&lt;br /&gt;&lt;br /&gt;Agenda: &lt;br /&gt;&lt;p dir=&quot;ltr&quot;&gt;&lt;
 strong&gt;5:30 p.m. - 6:00 p.m.&lt;/strong&gt; Registration\, Networking &amp;amp\; Ref
 reshments&lt;/p&gt;\n&lt;p dir=&quot;ltr&quot;&gt;&lt;strong&gt;6:00 p.m. - 6:45 p.m.&lt;/strong&gt; Panel d
 iscussion&lt;/p&gt;\n&lt;p dir=&quot;ltr&quot;&gt;&lt;strong&gt;6:45 p.m. - 7:30 p.m.&lt;/strong&gt; Network
 ing&lt;/p&gt;
END:VEVENT
END:VCALENDAR

