BEGIN:VCALENDAR
VERSION:2.0
PRODID:IEEE vTools.Events//EN
CALSCALE:GREGORIAN
BEGIN:VTIMEZONE
TZID:America/New_York
BEGIN:DAYLIGHT
DTSTART:20250309T030000
TZOFFSETFROM:-0500
TZOFFSETTO:-0400
RRULE:FREQ=YEARLY;BYDAY=2SU;BYMONTH=3
TZNAME:EDT
END:DAYLIGHT
BEGIN:STANDARD
DTSTART:20241103T010000
TZOFFSETFROM:-0400
TZOFFSETTO:-0500
RRULE:FREQ=YEARLY;BYDAY=1SU;BYMONTH=11
TZNAME:EST
END:STANDARD
END:VTIMEZONE
BEGIN:VEVENT
DTSTAMP:20250126T204031Z
UID:9DD47558-D0E9-4CD1-B9A7-61C5E792815D
DTSTART;TZID=America/New_York:20250204T180000
DTEND;TZID=America/New_York:20250204T183000
DESCRIPTION:Discuss Goals\, Strategies\, and collaborative way forward.\n\n
 Agenda: \n📌 2025 Membership Goals for IEEE Region 2\n✅ Increase Membe
 rship by 10-15% – Focused on student transitions\, early-career professi
 onals\, and industry engagement.\n✅ Enhance Member Retention – Strengt
 hening engagement through mentorship programs\, technical events\, and ind
 ustry partnerships.\n✅ Expand Affinity Groups &amp; Chapters – Increasing 
 support for Women in Engineering (WIE)\, Young Professionals (YP)\, and IE
 EE Senior Member elevation.\n✅ Boost Event Participation – Encouraging
  at least a 20% growth in event attendance through hybrid and industry-spo
 nsored events.\n✅ Increase participation in the IEEE Region 2 Awards Pro
 gram – Recognize and celebrate outstanding members\, volunteers\, and te
 chnical achievements within your section.\n\nVirtual: https://events.vtool
 s.ieee.org/m/463848
LOCATION:Virtual: https://events.vtools.ieee.org/m/463848
ORGANIZER:ceo@gblinnovstratllc.com
SEQUENCE:3
SUMMARY:IEEE R2 Membership Development Growth &amp; Retainment Strategies Sync
URL;VALUE=URI:https://events.vtools.ieee.org/m/463848
X-ALT-DESC:Description: &lt;br /&gt;&lt;p&gt;Discuss Goals\, Strategies\, and collabora
 tive way forward.&lt;/p&gt;&lt;br /&gt;&lt;br /&gt;Agenda: &lt;br /&gt;&lt;div style=&quot;border: 0px\; f
 ont-style: normal\; font-variant-ligatures: normal\; font-variant-caps: no
 rmal\; font-variant-numeric: inherit\; font-variant-east-asian: inherit\; 
 font-variant-alternates: inherit\; font-variant-position: inherit\; font-v
 ariant-emoji: inherit\; font-weight: 400\; font-stretch: inherit\; font-si
 ze: 12pt\; line-height: inherit\; font-family: Aptos\, Aptos_EmbeddedFont\
 , Aptos_MSFontService\, Calibri\, Helvetica\, sans-serif\, serif\, EmojiFo
 nt\; font-optical-sizing: inherit\; font-size-adjust: inherit\; font-kerni
 ng: inherit\; font-feature-settings: inherit\; font-variation-settings: in
 herit\; margin: 0px\; padding: 0px\; vertical-align: baseline\; color: bla
 ck !important\; letter-spacing: normal\; orphans: 2\; text-align: start\; 
 text-indent: 0px\; text-transform: none\; widows: 2\; word-spacing: 0px\; 
 -webkit-text-stroke-width: 0px\; white-space: normal\; background-color: r
 gb(255\, 255\, 255)\; text-decoration-thickness: initial\; text-decoration
 -style: initial\; text-decoration-color: initial\; direction: ltr\;&quot;&gt;&lt;stro
 ng data-olk-copy-source=&quot;MessageBody&quot;&gt;📌 2025 Membership Goals for IEEE 
 Region 2&lt;/strong&gt;&lt;/div&gt;\n&lt;div style=&quot;border: 0px\; font-style: normal\; fo
 nt-variant-ligatures: normal\; font-variant-caps: normal\; font-variant-nu
 meric: inherit\; font-variant-east-asian: inherit\; font-variant-alternate
 s: inherit\; font-variant-position: inherit\; font-variant-emoji: inherit\
 ; font-weight: 400\; font-stretch: inherit\; font-size: 12pt\; line-height
 : inherit\; font-family: Aptos\, Aptos_EmbeddedFont\, Aptos_MSFontService\
 , Calibri\, Helvetica\, sans-serif\, serif\, EmojiFont\; font-optical-sizi
 ng: inherit\; font-size-adjust: inherit\; font-kerning: inherit\; font-fea
 ture-settings: inherit\; font-variation-settings: inherit\; margin: 1em 0p
 x\; padding: 0px\; vertical-align: baseline\; color: black !important\; le
 tter-spacing: normal\; orphans: 2\; text-align: start\; text-indent: 0px\;
  text-transform: none\; widows: 2\; word-spacing: 0px\; -webkit-text-strok
 e-width: 0px\; white-space: normal\; background-color: rgb(255\, 255\, 255
 )\; text-decoration-thickness: initial\; text-decoration-style: initial\; 
 text-decoration-color: initial\; direction: ltr\;&quot;&gt;✅&amp;nbsp\;&lt;strong&gt;Incre
 ase Membership by 10-15%&lt;/strong&gt;&amp;nbsp\;&amp;ndash\; Focused on student transi
 tions\, early-career professionals\, and industry engagement.&lt;br&gt;✅&amp;nbsp\
 ;&lt;strong&gt;Enhance Member Retention&lt;/strong&gt;&amp;nbsp\;&amp;ndash\; Strengthening en
 gagement through mentorship programs\, technical events\, and industry par
 tnerships.&lt;br&gt;✅&amp;nbsp\;&lt;strong&gt;Expand Affinity Groups &amp;amp\; Chapters&lt;/st
 rong&gt;&amp;nbsp\;&amp;ndash\; Increasing support for Women in Engineering (WIE)\, Y
 oung Professionals (YP)\, and IEEE Senior Member elevation.&lt;br&gt;✅&amp;nbsp\;&lt;
 strong&gt;Boost Event Participation&lt;/strong&gt;&amp;nbsp\;&amp;ndash\; Encouraging&amp;nbsp\
 ;&lt;strong&gt;at least a 20% growth&lt;/strong&gt;&amp;nbsp\;in event attendance through 
 hybrid and industry-sponsored events.&lt;/div&gt;\n&lt;div style=&quot;border: 0px\; fon
 t-style: normal\; font-variant-ligatures: normal\; font-variant-caps: norm
 al\; font-variant-numeric: inherit\; font-variant-east-asian: inherit\; fo
 nt-variant-alternates: inherit\; font-variant-position: inherit\; font-var
 iant-emoji: inherit\; font-weight: 400\; font-stretch: inherit\; font-size
 : 12pt\; line-height: inherit\; font-family: Aptos\, Aptos_EmbeddedFont\, 
 Aptos_MSFontService\, Calibri\, Helvetica\, sans-serif\, serif\, EmojiFont
 \; font-optical-sizing: inherit\; font-size-adjust: inherit\; font-kerning
 : inherit\; font-feature-settings: inherit\; font-variation-settings: inhe
 rit\; margin: 1em 0px\; padding: 0px\; vertical-align: baseline\; color: b
 lack !important\; letter-spacing: normal\; orphans: 2\; text-align: start\
 ; text-indent: 0px\; text-transform: none\; widows: 2\; word-spacing: 0px\
 ; -webkit-text-stroke-width: 0px\; white-space: normal\; background-color:
  rgb(255\, 255\, 255)\; text-decoration-thickness: initial\; text-decorati
 on-style: initial\; text-decoration-color: initial\; direction: ltr\;&quot;&gt;&lt;st
 rong&gt;✅ Increase participation in the IEEE Region 2 Awards Program&lt;/stron
 g&gt; &amp;ndash\; Recognize and celebrate outstanding members\, volunteers\, and
  technical achievements within your section.&lt;/div&gt;
END:VEVENT
END:VCALENDAR

