BEGIN:VCALENDAR
VERSION:2.0
PRODID:IEEE vTools.Events//EN
CALSCALE:GREGORIAN
BEGIN:VTIMEZONE
TZID:America/Mexico_City
BEGIN:STANDARD
DTSTART:20221030T010000
TZOFFSETFROM:-0500
TZOFFSETTO:-0600
TZNAME:CST
END:STANDARD
END:VTIMEZONE
BEGIN:VEVENT
DTSTAMP:20260313T204146Z
UID:8E89728A-3FCB-4BA4-8F41-B6C7F885BD01
DTSTART;TZID=America/Mexico_City:20250825T103000
DTEND;TZID=America/Mexico_City:20250905T123000
DESCRIPTION:Information from the student branch of invitation to join as IE
 EE members.\n\nCo-sponsored by: Dr. Héctor Ricardo Hernández de León\n\
 nCarretera Panamericana #1080\, Tuxtla Gutiérrez\, Chiapas\, Mexico\, 290
 50
LOCATION:Carretera Panamericana #1080\, Tuxtla Gutiérrez\, Chiapas\, Mexic
 o\, 29050
ORGANIZER:sb.tecnmittg@ieee.org
SEQUENCE:8
SUMMARY:Dissemination of the IEEE student branch to new ITTG engineering st
 udents
URL;VALUE=URI:https://events.vtools.ieee.org/m/463982
X-ALT-DESC:Description: &lt;br /&gt;&lt;p&gt;Information from the student branch of inv
 itation to join as IEEE members.&lt;/p&gt;
END:VEVENT
END:VCALENDAR

