BEGIN:VCALENDAR
VERSION:2.0
PRODID:IEEE vTools.Events//EN
CALSCALE:GREGORIAN
BEGIN:VTIMEZONE
TZID:America/Mexico_City
BEGIN:STANDARD
DTSTART:20221030T010000
TZOFFSETFROM:-0500
TZOFFSETTO:-0600
TZNAME:CST
END:STANDARD
END:VTIMEZONE
BEGIN:VEVENT
DTSTAMP:20260313T204024Z
UID:906E74FE-F4D6-4590-B461-74A276131764
DTSTART;TZID=America/Mexico_City:20251007T093000
DTEND;TZID=America/Mexico_City:20251007T153000
DESCRIPTION:IEEE day commemoration at the ITTG.\n\nCo-sponsored by: Dr. Hé
 ctor Ricardo Hernández de León\n\nTuxtla Gutiérrez\, Chiapas\, Mexico\,
  29050
LOCATION:Tuxtla Gutiérrez\, Chiapas\, Mexico\, 29050
ORGANIZER:sb.tecnmittg@ieee.org
SEQUENCE:6
SUMMARY:IEEE DAY
URL;VALUE=URI:https://events.vtools.ieee.org/m/463984
X-ALT-DESC:Description: &lt;br /&gt;&lt;p&gt;IEEE day commemoration at the ITTG.&lt;/p&gt;
END:VEVENT
END:VCALENDAR

