BEGIN:VCALENDAR
VERSION:2.0
PRODID:IEEE vTools.Events//EN
CALSCALE:GREGORIAN
BEGIN:VTIMEZONE
TZID:America/Sao_Paulo
BEGIN:DAYLIGHT
DTSTART:20380119T001407
TZOFFSETFROM:-0300
TZOFFSETTO:-0300
RRULE:FREQ=YEARLY;BYDAY=3TU;BYMONTH=1
TZNAME:-03
END:DAYLIGHT
BEGIN:STANDARD
DTSTART:20190216T230000
TZOFFSETFROM:-0200
TZOFFSETTO:-0300
RRULE:FREQ=YEARLY;BYDAY=3SA;BYMONTH=2
TZNAME:-03
END:STANDARD
END:VTIMEZONE
BEGIN:VEVENT
DTSTAMP:20250128T012836Z
UID:7E36E054-BEAA-4654-ACC3-CBEDF943919D
DTSTART;TZID=America/Sao_Paulo:20241104T143000
DTEND;TZID=America/Sao_Paulo:20241104T153000
DESCRIPTION:This work presents the development and assembly of a low-cost V
 ibrating Sample Magnetometer (VSM)\, a crucial tool for measuring the magn
 etisation of materials\, with an emphasis on magnetic powders and thin fil
 ms. The VSM operates based on Faraday&#39;s law of induction\, detecting varia
 tions in magnetic flux caused by the vertical movement of the sample in a 
 uniform magnetic field. The project was divided into two main parts: the m
 echanical structure\, made with accessible materials\, and the electronic 
 system for automating measurements. Automation was implemented through Lab
 VIEW software\, enabling successful hysteresis curve measurements. The goa
 l is to provide a reliable and affordable VSM for magnetic characterisatio
 n in laboratories. Preliminary results show reliable hysteresis curves obt
 ained in a standard YIG sample\n\nRecife\, Pernambuco\, Brazil
LOCATION:Recife\, Pernambuco\, Brazil
ORGANIZER:magchapterufpe@gmail.com
SEQUENCE:6
SUMMARY:Construction of a low cost Vibrating sample magnetometer 
URL;VALUE=URI:https://events.vtools.ieee.org/m/464043
X-ALT-DESC:Description: &lt;br /&gt;&lt;h1 class=&quot;_ap3a _aaco _aacu _aacx _aad7 _aad
 e&quot; dir=&quot;auto&quot;&gt;This work presents the development and assembly of a low-cos
 t Vibrating Sample Magnetometer (VSM)\, a crucial tool for measuring the m
 agnetisation of materials\, with an emphasis on magnetic powders and thin 
 films. The VSM operates based on Faraday&#39;s law of induction\, detecting va
 riations in magnetic flux caused by the vertical movement of the sample in
  a uniform magnetic field. The project was divided into two main parts: th
 e mechanical structure\, made with accessible materials\, and the electron
 ic system for automating measurements. Automation was implemented through 
 LabVIEW software\, enabling successful hysteresis curve measurements. The 
 goal is to provide a reliable and affordable VSM for magnetic characterisa
 tion in laboratories. Preliminary results show reliable hysteresis curves 
 obtained in a standard YIG sample&lt;/h1&gt;
END:VEVENT
END:VCALENDAR

