BEGIN:VCALENDAR
VERSION:2.0
PRODID:IEEE vTools.Events//EN
CALSCALE:GREGORIAN
BEGIN:VTIMEZONE
TZID:America/New_York
BEGIN:DAYLIGHT
DTSTART:20250309T030000
TZOFFSETFROM:-0500
TZOFFSETTO:-0400
RRULE:FREQ=YEARLY;BYDAY=2SU;BYMONTH=3
TZNAME:EDT
END:DAYLIGHT
BEGIN:STANDARD
DTSTART:20241103T010000
TZOFFSETFROM:-0400
TZOFFSETTO:-0500
RRULE:FREQ=YEARLY;BYDAY=1SU;BYMONTH=11
TZNAME:EST
END:STANDARD
END:VTIMEZONE
BEGIN:VEVENT
DTSTAMP:20250222T210607Z
UID:EE67E016-46AC-4AE8-A004-79EFC54444AF
DTSTART;TZID=America/New_York:20250222T130000
DTEND;TZID=America/New_York:20250222T140000
DESCRIPTION:The Region 3 Senior Membership Team invites eligible Region 3 I
 EEE members to attend our orientation session on Saturday\, February 22\, 
 2025\, at 1 PM EST. This event will address any questions about the senior
  member elevation process and provide guidance on completing your Senior M
 ember nomination package. Candidates will be interviewed asynchronously fo
 llowing this event\, with a final submission date of March 9\, 2025. Any r
 equests received at the end of the registration period (01/28/2025 through
  02/21/2025) will be deferred until the following Round Up Event in May 20
 25.\n\nEligibility:\n\nTo participate\, you must:\n\n- Be an IEEE member i
 n good standing with a minimum of ten years of professional or academic ac
 hievements.\n- For details on senior membership criteria\, visit the [IEEE
  Senior Membership page](https://www.ieee.org/membership/senior/).\n\nEven
 t Purpose:\n\nThis event aims to support qualified Region 3 IEEE members i
 n their journey to Senior Member status by offering nomination and referen
 ce assistance. Connect with Senior Members in Region 3 to make the elevati
 on process seamless and enjoyable.\n\nHow to Begin:\n\nContact Anthony Per
 ales\, Region 3 Senior Member Coordinator Co-chair\, at r3-smec@lg2020.org
 . Provide the following:\n\n- Your resume (using the Region 3 Senior Membe
 r Resume Template)\,\n- IEEE member number\,\n- IEEE section\, and\n- Emai
 l address.\n\nParticipants will be matched with offline references and int
 erviews (if required) to complete the nomination process asynchronously.\n
 \nImportant Details:\n\n- Advance Registration Required: You must confirm 
 your participation with r3-smec@lg2020.org. Send your name\, section\, ema
 il\, member number\, and a resume formatted for senior membership.\n\n- Re
 sources:\n\n- Senior Member Resume Template: [[Access Here](https://docs.g
 oogle.com/document/d/1-e889H-Oq-cmoePxT-Yk8Ixw1gknk4Pg/edit?usp=sharing&amp;ou
 id=104258780535273904988&amp;rtpof=true&amp;sd=true)][(IEEE R3 SSC SMEC - Senior M
 ember Resume Template - 2023 - FirstName_LastName_IEEE#12345678.docx - Goo
 gle Docs](https://docs.google.com/document/d/1-e889H-Oq-cmoePxT-Yk8Ixw1gkn
 k4Pg/edit?usp=sharing&amp;ouid=104258780535273904988&amp;rtpof=true&amp;sd=true))\n\n-
  Senior Member Participant Guide: [[Download Here](https://drive.google.co
 m/file/d/1-TSfUtf5ntV66V32eUvcF7plR8Pburab/view?usp=sharing)]([IEEE R3 SSC
  SMEC - 2024 Participant Guide - September 2024.pdf - Google Drive](https:
 //drive.google.com/file/d/1-TSfUtf5ntV66V32eUvcF7plR8Pburab/view?usp=shari
 ng))\n\nWe look forward to your participation and celebrating your elevati
 on to Senior Member status together!\n\nJOIN THE EXCLUSIVE MEMBERSHIP FOR 
 THE HIGHEST POSITION IN IEEE THAT YOU CAN APPLY FOR. REGISTER TODAY!!\n\nS
 peaker(s): Anthony\, Anthony\n\nAgenda: \n1:00 pm—1:15 pm: We will start
  with an opening session focusing on explaining our process for supporting
  your nomination to become a senior member.\n\n1:15 pm - 1:45 pm: Q&amp;A Sess
 ion\n\n1:45 pm—2:00 pm: The day concludes with closing remarks\, which m
 ay be adjusted based on participant engagement.\n\nVirtual: https://events
 .vtools.ieee.org/m/464047
LOCATION:Virtual: https://events.vtools.ieee.org/m/464047
ORGANIZER:atlanta-smec@lg2020.org
SEQUENCE:81
SUMMARY:Join us for a Region-Wide Senior Membership Asynchronous Event in R
 egion 3
URL;VALUE=URI:https://events.vtools.ieee.org/m/464047
X-ALT-DESC:Description: &lt;br /&gt;&lt;div class=&quot;flex-shrink-0 flex flex-col relat
 ive items-end&quot;&gt;\n&lt;div&gt;\n&lt;div class=&quot;pt-0&quot;&gt;\n&lt;div class=&quot;gizmo-bot-avatar f
 lex h-8 w-8 items-center justify-center overflow-hidden rounded-full&quot;&gt;&amp;nbs
 p\;&lt;/div&gt;\n&lt;/div&gt;\n&lt;/div&gt;\n&lt;/div&gt;\n&lt;div class=&quot;group/conversation-turn rel
 ative flex w-full min-w-0 flex-col agent-turn&quot;&gt;\n&lt;div class=&quot;flex-col gap-
 1 md:gap-3&quot;&gt;\n&lt;div class=&quot;flex max-w-full flex-col flex-grow&quot;&gt;\n&lt;div class
 =&quot;min-h-8 text-message flex w-full flex-col items-end gap-2 whitespace-nor
 mal break-words [.text-message+&amp;amp\;]:mt-5&quot; dir=&quot;auto&quot; data-message-autho
 r-role=&quot;assistant&quot; data-message-id=&quot;65565bbd-648e-489c-b0f7-8b6a43177aa7&quot; 
 data-message-model-slug=&quot;gpt-4o&quot;&gt;\n&lt;div class=&quot;flex w-full flex-col gap-1 
 empty:hidden first:pt-[3px]&quot;&gt;\n&lt;div class=&quot;markdown prose w-full break-wor
 ds dark:prose-invert light&quot;&gt;\n&lt;p&gt;The Region 3 Senior Membership Team invit
 es eligible Region 3 IEEE members to &lt;span style=&quot;box-sizing: border-box\;
  margin: 0px\; padding: 0px\;&quot;&gt;attend our orientation session on&amp;nbsp\;&lt;st
 rong&gt;Saturday\, F&lt;/strong&gt;&lt;strong&gt;ebruary 22\, 2025\,&lt;/strong&gt;&lt;strong&gt;&amp;nbs
 p\;at 1 PM EST&lt;/strong&gt;. This event will address any questions about the s
 enior member elevation process and provide guidance on completing your Sen
 ior Member nomination package. Candidates will be interviewed asynchronous
 ly following this event\, with a final submission date&lt;/span&gt; of &lt;strong&gt;M
 arch 9\, 2025&lt;/strong&gt;. Any requests received at the end of the registrati
 on period (01/28/2025 through 02/21/2025) will be deferred until the follo
 wing Round Up Event in May 2025.&amp;nbsp\;&lt;/p&gt;\n&lt;h3&gt;Eligibility:&lt;/h3&gt;\n&lt;p&gt;To 
 participate\, you must:&lt;/p&gt;\n&lt;ul&gt;\n&lt;li&gt;Be an IEEE member in good standing 
 with a minimum of ten years of professional or academic achievements.&lt;/li&gt;
 \n&lt;li&gt;For details on senior membership criteria\, visit the &lt;a href=&quot;https
 ://www.ieee.org/membership/senior/&quot; target=&quot;_new&quot; rel=&quot;noopener&quot;&gt;IEEE Seni
 or Membership page&lt;/a&gt;.&lt;/li&gt;\n&lt;/ul&gt;\n&lt;h3&gt;Event Purpose:&lt;/h3&gt;\n&lt;p&gt;This even
 t aims to support qualified Region 3 IEEE members in their journey to Seni
 or Member status by offering nomination and reference assistance. Connect 
 with Senior Members in Region 3 to make the elevation process seamless and
  enjoyable.&lt;/p&gt;\n&lt;h3&gt;How to Begin:&lt;/h3&gt;\n&lt;p&gt;Contact&amp;nbsp\;&lt;strong&gt;Anthony 
 Perales&lt;/strong&gt;\, Region 3 Senior Member Coordinator Co-chair\, at&amp;nbsp\;
 &lt;strong&gt;&lt;a href=&quot;mailto:r3-smec@lg2020.org&quot;&gt;r3-smec@lg2020.org&lt;/a&gt;&lt;/strong
 &gt;. Provide the following:&lt;/p&gt;\n&lt;ul&gt;\n&lt;li&gt;Your resume (using the Region 3 S
 enior Member Resume Template)\,&lt;/li&gt;\n&lt;li&gt;IEEE member number\,&lt;/li&gt;\n&lt;li&gt;I
 EEE section\, and&lt;/li&gt;\n&lt;li&gt;Email address.&lt;/li&gt;\n&lt;/ul&gt;\n&lt;p&gt;Participants wi
 ll be matched with offline references and interviews (if required) to comp
 lete the nomination process asynchronously.&lt;/p&gt;\n&lt;/div&gt;\n&lt;/div&gt;\n&lt;/div&gt;\n&lt;
 /div&gt;\n&lt;/div&gt;\n&lt;/div&gt;\n&lt;p class=&quot;MsoNormal&quot;&gt;&lt;strong&gt;Important Details:&lt;/st
 rong&gt;&lt;/p&gt;\n&lt;p class=&quot;MsoNormal&quot;&gt;-&amp;nbsp\;&lt;strong&gt;Advance Registration Requi
 red:&lt;/strong&gt; You must confirm your participation with &lt;a href=&quot;mailto:r3-
 smec@lg2020.org&quot;&gt;r3-smec@lg2020.org&lt;/a&gt;. Send your name\, section\, email\
 , member number\, and a resume formatted for senior membership.&lt;/p&gt;\n&lt;p cl
 ass=&quot;MsoNormal&quot;&gt;- &lt;strong&gt;Resources:&lt;/strong&gt;&lt;/p&gt;\n&lt;p class=&quot;MsoNormal&quot;&gt;&lt;s
 pan style=&quot;mso-spacerun: yes\;&quot;&gt;&amp;nbsp\; &lt;/span&gt;- &lt;strong&gt;Senior Member Res
 ume Template:&lt;/strong&gt; [&lt;a title=&quot;Senior Member Resume Template&quot; href=&quot;htt
 ps://docs.google.com/document/d/1-e889H-Oq-cmoePxT-Yk8Ixw1gknk4Pg/edit?usp
 =sharing&amp;amp\;ouid=104258780535273904988&amp;amp\;rtpof=true&amp;amp\;sd=true&quot; tar
 get=&quot;_blank&quot; rel=&quot;noopener&quot;&gt;Access Here&lt;/a&gt;]&lt;a href=&quot;https://docs.google.c
 om/document/d/1-e889H-Oq-cmoePxT-Yk8Ixw1gknk4Pg/edit?usp=sharing&amp;amp\;ouid
 =104258780535273904988&amp;amp\;rtpof=true&amp;amp\;sd=true&quot;&gt;(IEEE R3 SSC SMEC - S
 enior Member Resume Template - 2023 - FirstName_LastName_IEEE#12345678.doc
 x - Google Docs&lt;/a&gt;)&lt;/p&gt;\n&lt;p class=&quot;MsoNormal&quot;&gt;&lt;span style=&quot;mso-spacerun: 
 yes\;&quot;&gt;&amp;nbsp\; &lt;/span&gt;- &lt;strong&gt;Senior Member Participant Guide:&lt;/strong&gt; 
 [&lt;a title=&quot;Senior Member Participant Guide&quot; href=&quot;https://drive.google.com
 /file/d/1-TSfUtf5ntV66V32eUvcF7plR8Pburab/view?usp=sharing&quot;&gt;Download Here&lt;
 /a&gt;](&lt;a href=&quot;https://drive.google.com/file/d/1-TSfUtf5ntV66V32eUvcF7plR8P
 burab/view?usp=sharing&quot;&gt;IEEE R3 SSC SMEC - 2024 Participant Guide - Septem
 ber 2024.pdf - Google Drive&lt;/a&gt;)&lt;/p&gt;\n&lt;p class=&quot;MsoNormal&quot;&gt;&amp;nbsp\;&lt;/p&gt;\n&lt;p
  class=&quot;MsoNormal&quot;&gt;We look forward to your participation and celebrating y
 our elevation to Senior Member status together!&lt;/p&gt;\n&lt;p class=&quot;MsoNormal&quot; 
 style=&quot;text-align: center\;&quot;&gt;&lt;span style=&quot;font-size: 12.0pt\; line-height:
  115%\; font-family: &#39;Aptos&#39;\,sans-serif\; mso-ascii-theme-font: minor-lat
 in\; mso-fareast-font-family: Aptos\; mso-fareast-theme-font: minor-latin\
 ; mso-hansi-theme-font: minor-latin\; mso-bidi-font-family: &#39;Times New Rom
 an&#39;\; mso-bidi-theme-font: minor-bidi\; mso-ansi-language: EN-US\; mso-far
 east-language: EN-US\; mso-bidi-language: AR-SA\;&quot;&gt;&lt;span style=&quot;mso-spacer
 un: yes\;&quot;&gt;&amp;nbsp\;&lt;/span&gt;&lt;strong&gt;&lt;em&gt;&lt;span style=&quot;font-family: &#39;Aptos&#39;\,sa
 ns-serif\; mso-ascii-theme-font: minor-latin\; mso-hansi-theme-font: minor
 -latin\; mso-bidi-font-family: &#39;Times New Roman&#39;\; mso-bidi-theme-font: mi
 nor-bidi\; color: #ba372a\;&quot;&gt;JOIN THE EXCLUSIVE MEMBERSHIP FOR THE HIGHEST
  POSITION IN IEEE THAT YOU CAN APPLY FOR. REGISTER TODAY!!&lt;/span&gt;&lt;/em&gt;&lt;/st
 rong&gt;&lt;span style=&quot;color: #ba372a\;&quot;&gt;&amp;nbsp\;&lt;/span&gt;&lt;/span&gt;&lt;/p&gt;\n&lt;p class=&quot;M
 soNormal&quot;&gt;&amp;nbsp\;&lt;/p&gt;&lt;br /&gt;&lt;br /&gt;Agenda: &lt;br /&gt;&lt;p&gt;1:00 pm&amp;mdash\;1:15 pm: 
 We will start with an opening session focusing on explaining our process f
 or supporting your nomination to become a senior member.&amp;nbsp\;&lt;/p&gt;\n&lt;p&gt;1:
 15 pm - 1:45 pm: Q&amp;amp\;A Session&amp;nbsp\;&lt;br&gt;&lt;br&gt;1:45 pm&amp;mdash\;2:00 pm: Th
 e day concludes with closing remarks\, which may be adjusted based on part
 icipant engagement.&lt;/p&gt;
END:VEVENT
END:VCALENDAR

