BEGIN:VCALENDAR
VERSION:2.0
PRODID:IEEE vTools.Events//EN
CALSCALE:GREGORIAN
BEGIN:VTIMEZONE
TZID:America/New_York
BEGIN:DAYLIGHT
DTSTART:20250309T030000
TZOFFSETFROM:-0500
TZOFFSETTO:-0400
RRULE:FREQ=YEARLY;BYDAY=2SU;BYMONTH=3
TZNAME:EDT
END:DAYLIGHT
BEGIN:STANDARD
DTSTART:20251102T010000
TZOFFSETFROM:-0400
TZOFFSETTO:-0500
RRULE:FREQ=YEARLY;BYDAY=1SU;BYMONTH=11
TZNAME:EST
END:STANDARD
END:VTIMEZONE
BEGIN:VEVENT
DTSTAMP:20250128T211719Z
UID:64A60B2A-042C-4DE0-AF11-B4D0CBBB7E8F
DTSTART;TZID=America/New_York:20250313T120000
DTEND;TZID=America/New_York:20250313T130000
DESCRIPTION:Dr. Kukkai Hozumi\, a post-doc researcher at the University of 
 Scranton\, will be giving a technical presentation on the Earth&#39;s ionosphe
 re.\n\nBldg: Loyola Science Center - The University of Scranton\, Scranton
 \, Pennsylvania\, United States
LOCATION:Bldg: Loyola Science Center - The University of Scranton\, Scranto
 n\, Pennsylvania\, United States
ORGANIZER:wandrew.berger@scranton.edu
SEQUENCE:11
SUMMARY:SCIENCE IN ACTION – Decoding the Ionosphere 
URL;VALUE=URI:https://events.vtools.ieee.org/m/464240
X-ALT-DESC:Description: &lt;br /&gt;&lt;p&gt;Dr. Kukkai Hozumi\, a post-doc researcher 
 at the University of Scranton\, will be giving a technical presentation on
  the Earth&#39;s ionosphere.&lt;/p&gt;
END:VEVENT
END:VCALENDAR

