BEGIN:VCALENDAR
VERSION:2.0
PRODID:IEEE vTools.Events//EN
CALSCALE:GREGORIAN
BEGIN:VTIMEZONE
TZID:America/New_York
BEGIN:DAYLIGHT
DTSTART:20240310T030000
TZOFFSETFROM:-0500
TZOFFSETTO:-0400
RRULE:FREQ=YEARLY;BYDAY=2SU;BYMONTH=3
TZNAME:EDT
END:DAYLIGHT
BEGIN:STANDARD
DTSTART:20231105T010000
TZOFFSETFROM:-0400
TZOFFSETTO:-0500
RRULE:FREQ=YEARLY;BYDAY=1SU;BYMONTH=11
TZNAME:EST
END:STANDARD
END:VTIMEZONE
BEGIN:VEVENT
DTSTAMP:20250430T172034Z
UID:A6D95596-37B4-4D0B-81C9-4356A3E29ABA
DTSTART;TZID=America/New_York:20240208T170000
DTEND;TZID=America/New_York:20240208T190000
DESCRIPTION:This is a networking event with Altria for students to get thei
 r resumes reviewed and practice interview questions.\n\nRichmond\, Virgini
 a\, United States
LOCATION:Richmond\, Virginia\, United States
ORGANIZER:smithj59@vcu.edu
SEQUENCE:9
SUMMARY:Speed Networking Event with Altria
URL;VALUE=URI:https://events.vtools.ieee.org/m/464288
X-ALT-DESC:Description: &lt;br /&gt;&lt;p&gt;This is a networking event with Altria for
  students to get their resumes reviewed and practice interview questions.&lt;
 /p&gt;
END:VEVENT
END:VCALENDAR

