BEGIN:VCALENDAR
VERSION:2.0
PRODID:IEEE vTools.Events//EN
CALSCALE:GREGORIAN
BEGIN:VTIMEZONE
TZID:America/Chicago
BEGIN:DAYLIGHT
DTSTART:20250309T030000
TZOFFSETFROM:-0600
TZOFFSETTO:-0500
RRULE:FREQ=YEARLY;BYDAY=2SU;BYMONTH=3
TZNAME:CDT
END:DAYLIGHT
BEGIN:STANDARD
DTSTART:20241103T010000
TZOFFSETFROM:-0500
TZOFFSETTO:-0600
RRULE:FREQ=YEARLY;BYDAY=1SU;BYMONTH=11
TZNAME:CST
END:STANDARD
END:VTIMEZONE
BEGIN:VEVENT
DTSTAMP:20250225T183727Z
UID:8AA8E4F7-7C70-49F6-AFBD-614B96CBE891
DTSTART;TZID=America/Chicago:20250221T160000
DTEND;TZID=America/Chicago:20250221T200000
DESCRIPTION:***Registration is now FREE for both in-person and online atten
 dees***\n\nWe are excited to announce the kick-off of our IEEE Twin Cities
  Section Sensors Council Chapter! Join us as we launch a new chapter of co
 llaboration\, innovation\, and growth in our community.\n\n1. Opening Rema
 rks: Ahmed Naumaan\, Twin Cities Section Chair (15 minutes)\n\n2. Keynote 
 addresses by two IEEE Sensor Council Distinguished Lecturers\n\n- Keynote 
 Speaker: Prof. Hyejin Moon\, Associate Professor (60 minutes)\nMechanical 
 &amp; Aerospace Engineering\, University of Texas at Arlington\nTopic: Digital
  Microfluidics as Chemical and Biological Sensing Platform\n\n- Keynote Sp
 eaker: Prof. Thomas Thundat\, Distinguished Professor (60 minutes)\nChemic
 al and Biological Engineering\, University at Buffalo\, Buffalo NY\nTopic:
  Molecular antenna for real-time chemical sensing with selectivity\n\n3. N
 ext Steps for IEEE Twin Cities Section Sensors Council: Prof. Patricia Kha
 shayar (15 minutes)\nIEEE TC Section Sensors Council Chapter Chair\n\n4. I
 EEE WIE and the new TC affinity group: Christina Schober\nIEEE Director\, 
 Division V and IEEE TC WIE Treasurer\n\n5. Reception (with appetizers and 
 drinks)\n\nWe can’t wait to celebrate with you and kick off an amazing n
 ew journey together.\n\nRegistration\n\nThis event features both in-person
  and online attendance.\n\nIn-Person Attendance\n\nThere will be a recepti
 on for in-person attendees.\n\n*Update* There is no charge for in-person a
 ttendance.\n\nOnline Attendance\n\nThere is no charge for online attendanc
 e.\n\nCo-sponsored by: Twin Cities Section\n\nAgenda: \nSchedule:\n\n1. Op
 ening Remarks: Ahmed Naumaan\, Twin Cities Section Chair (15 minutes)\n\n2
 . Keynote addresses by two IEEE Sensor Council Distinguished Lecturers\n\n
 - Keynote Speaker: Prof. Hyejin Moon\, Associate Professor (60 minutes)\nM
 echanical &amp; Aerospace Engineering\, University of Texas at Arlington\nTopi
 c: Digital Microfluidics as Chemical and Biological Sensing Platform\n\n- 
 Keynote Speaker: Prof. Thomas Thundat\, Distinguished Professor (60 minute
 s)\nChemical and Biological Engineering\, University at Buffalo\, Buffalo 
 NY\nTopic: Molecular antenna for real-time chemical sensing with selectivi
 ty\n\n3. Next Steps for IEEE Twin Cities Section Sensors Council: Prof. Pa
 tricia Khashayar (15 minutes)\nIEEE TC Section Sensors Council Chapter Cha
 ir\n\n4. IEEE WIE and the new TC affinity group: Christina Schober\nIEEE D
 irector\, Division V and IEEE TC WIE Treasurer\n\n5. Reception (with appet
 izers and drinks)\n\nRoom: 402\, Bldg: Walter Library\, 117 Pleasant St. S
 E\, 402 Walter Library\, Minneapolis\, Minnesota\, United States\, 55455\,
  Virtual: https://events.vtools.ieee.org/m/464303
LOCATION:Room: 402\, Bldg: Walter Library\, 117 Pleasant St. SE\, 402 Walte
 r Library\, Minneapolis\, Minnesota\, United States\, 55455\, Virtual: htt
 ps://events.vtools.ieee.org/m/464303
ORGANIZER:pkhashay@umn.edu
SEQUENCE:27
SUMMARY:Design Your Future: TC Sensors Council Chapter Kickoff - FREE atten
 dance
URL;VALUE=URI:https://events.vtools.ieee.org/m/464303
X-ALT-DESC:Description: &lt;br /&gt;&lt;p&gt;&lt;strong&gt;***Registration is now FREE for bo
 th in-person and online attendees***&lt;/strong&gt;&lt;/p&gt;\n&lt;p&gt;We are excited to an
 nounce the kick-off of our IEEE Twin Cities Section Sensors Council Chapte
 r! Join us as we launch a new chapter of collaboration\, innovation\, and 
 growth in our community.&lt;/p&gt;\n&lt;p&gt;&amp;nbsp\;&lt;/p&gt;\n&lt;p&gt;1. &lt;strong&gt;Opening Remark
 s: Ahmed Naumaan&lt;/strong&gt;\, Twin Cities Section Chair (15 minutes)&lt;/p&gt;\n&lt;p
 &gt;2. &lt;strong&gt;Keynote addresses by two&amp;nbsp\;IEEE Sensor Council Distinguish
 ed Lecturers&lt;/strong&gt;&lt;/p&gt;\n&lt;p&gt;&lt;strong&gt;- Keynote Speaker: Prof. Hyejin Moon
 &lt;/strong&gt;\, Associate Professor (60 minutes)&lt;br&gt;Mechanical &amp;amp\; Aerospac
 e Engineering\, University of Texas at Arlington&amp;nbsp\;&lt;br&gt;&lt;strong&gt;Topic: 
 Digital Microfluidics as Chemical and Biological Sensing Platform&lt;/strong&gt;
 &amp;nbsp\;&lt;/p&gt;\n&lt;p&gt;&lt;strong&gt;- Keynote Speaker: Prof. Thomas Thundat&lt;/strong&gt;\,
  Distinguished Professor (60 minutes)&lt;br&gt;Chemical and Biological Engineeri
 ng\, University at Buffalo\, Buffalo NY&amp;nbsp\;&lt;br&gt;T&lt;strong&gt;opic: Molecular
  antenna for real-time chemical sensing with selectivity&lt;/strong&gt;&amp;nbsp\;&lt;/
 p&gt;\n&lt;p&gt;3. &lt;strong&gt;Next Steps for IEEE Twin Cities Section Sensors Council:
  Prof. Patricia Khashayar&lt;/strong&gt; (15 minutes)&lt;br&gt;IEEE TC Section Sensors
  Council Chapter Chair&amp;nbsp\;&lt;/p&gt;\n&lt;p&gt;4. &lt;strong&gt;IEEE WIE and the new TC a
 ffinity group: Christina Schober&lt;/strong&gt;&lt;br&gt;IEEE Director\, Division V an
 d IEEE TC WIE Treasurer&lt;/p&gt;\n&lt;p&gt;5. &lt;strong&gt;Reception (with appetizers and 
 drinks)&lt;/strong&gt;&lt;/p&gt;\n&lt;p&gt;We can&amp;rsquo\;t wait to celebrate with you and ki
 ck off an amazing new journey together.&lt;/p&gt;\n&lt;p&gt;&amp;nbsp\;&lt;/p&gt;\n&lt;p&gt;&lt;strong&gt;Re
 gistration&lt;/strong&gt;&lt;/p&gt;\n&lt;p&gt;This event features both in-person and online 
 attendance.&lt;/p&gt;\n&lt;p&gt;&lt;strong&gt;In-Person Attendance&lt;/strong&gt;&lt;/p&gt;\n&lt;p&gt;There wi
 ll be a reception for in-person attendees.&lt;/p&gt;\n&lt;p style=&quot;padding-left: 40
 px\;&quot;&gt;&lt;strong&gt;*Update*&lt;/strong&gt; There is &lt;strong&gt;no charge&lt;/strong&gt; for in
 -person attendance.&lt;/p&gt;\n&lt;p&gt;&lt;strong&gt;Online Attendance&lt;/strong&gt;&lt;/p&gt;\n&lt;p&gt;The
 re is no charge for online attendance.&lt;/p&gt;\n&lt;p&gt;&amp;nbsp\;&lt;/p&gt;\n&lt;p&gt;&amp;nbsp\;&lt;/p&gt;
 &lt;br /&gt;&lt;br /&gt;Agenda: &lt;br /&gt;&lt;p&gt;&lt;strong&gt;Schedule:&lt;/strong&gt;&lt;/p&gt;\n&lt;p&gt;1. &lt;strong
 &gt;Opening Remarks: Ahmed Naumaan&lt;/strong&gt;\, Twin Cities Section Chair (15 m
 inutes)&lt;/p&gt;\n&lt;p&gt;2. &lt;strong&gt;Keynote addresses by two&amp;nbsp\;IEEE Sensor Coun
 cil Distinguished Lecturers&lt;/strong&gt;&lt;/p&gt;\n&lt;p&gt;&lt;strong&gt;- Keynote Speaker: Pr
 of. Hyejin Moon&lt;/strong&gt;\, Associate Professor (60 minutes)&lt;br&gt;Mechanical 
 &amp;amp\; Aerospace Engineering\, University of Texas at Arlington&amp;nbsp\;&lt;br&gt;
 &lt;strong&gt;Topic: Digital Microfluidics as Chemical and Biological Sensing Pl
 atform&lt;/strong&gt;&amp;nbsp\;&lt;/p&gt;\n&lt;p&gt;&lt;strong&gt;- Keynote Speaker: Prof. Thomas Thu
 ndat&lt;/strong&gt;\, Distinguished Professor (60 minutes)&lt;br&gt;Chemical and Biolo
 gical Engineering\, University at Buffalo\, Buffalo NY&amp;nbsp\;&lt;br&gt;T&lt;strong&gt;
 opic: Molecular antenna for real-time chemical sensing with selectivity&lt;/s
 trong&gt;&amp;nbsp\;&lt;/p&gt;\n&lt;p&gt;3. &lt;strong&gt;Next Steps for IEEE Twin Cities Section S
 ensors Council: Prof. Patricia Khashayar&lt;/strong&gt; (15 minutes)&lt;br&gt;IEEE TC 
 Section Sensors Council Chapter Chair&amp;nbsp\;&lt;/p&gt;\n&lt;p&gt;4. &lt;strong&gt;IEEE WIE a
 nd the new TC affinity group: Christina Schober&lt;/strong&gt;&lt;br&gt;IEEE Director\
 , Division V and IEEE TC WIE Treasurer&lt;/p&gt;\n&lt;p&gt;5. &lt;strong&gt;Reception (with 
 appetizers and drinks)&lt;/strong&gt;&lt;/p&gt;\n&lt;p&gt;&amp;nbsp\;&lt;/p&gt;
END:VEVENT
END:VCALENDAR

