BEGIN:VCALENDAR
VERSION:2.0
PRODID:IEEE vTools.Events//EN
CALSCALE:GREGORIAN
BEGIN:VTIMEZONE
TZID:America/La_Paz
BEGIN:DAYLIGHT
DTSTART:20380118T231407
TZOFFSETFROM:-0400
TZOFFSETTO:-0400
RRULE:FREQ=YEARLY;BYDAY=3MO;BYMONTH=1
TZNAME:-04
END:DAYLIGHT
BEGIN:STANDARD
DTSTART:19320320T233236
TZOFFSETFROM:-0427
TZOFFSETTO:-0400
RRULE:FREQ=YEARLY;BYDAY=3SU;BYMONTH=3
TZNAME:-04
END:STANDARD
END:VTIMEZONE
BEGIN:VEVENT
DTSTAMP:20250211T220417Z
UID:65152AA1-9E26-445F-9C40-CADF16DD1FA1
DTSTART;TZID=America/La_Paz:20250204T190000
DTEND;TZID=America/La_Paz:20250208T203000
DESCRIPTION:[]\n\nEste curso está diseñado para proporcionar una comprens
 ión sólida de los principios y herramientas esenciales de la metrología
  industrial\, fundamentales para garantizar la precisión y calidad en los
  procesos de producción. A través de lecciones teóricas y prácticas\, 
 los participantes aprenderán a utilizar instrumentos de medición\, reali
 zar calibraciones y aplicarlos en proyectos\n\nObjetivos del curso:\n\n- I
 ntroducir a los participantes en los conceptos clave de la metrología ind
 ustrial.\n- Conocer y dominar el uso de herramientas de medición de preci
 sión como micrómetros y calibradores\n- Comprender la importancia de la 
 trazabilidad y calibración de equipos.\n- Aplicar técnicas de medición 
 y control para optimizar la calidad en la producción.\n\nDirigido a:\n\n-
  Profesionales de la industria\, técnicos e ingenieros.\n- Estudiantes de
  ingeniería que están comenzando su carrera\, ya que es especialmente ú
 til para materias de laboratorio y proyectos prácticos.\n\nSpeaker(s): Iv
 an Estephano Puña Vargas\n\nAgenda: \nPROGRAMA ANALÍTICO\n\n1. MEDICIÓN
 \, UNIDADES Y SISTEMAS DE MEDIDA\n\nInterpreta las unidades de medida con 
 sus respectivos sistemas\, relacionando las equivalencias y conversiones d
 e unidades de peso\, longitud y superficie\, registrando adecuadamente dat
 os obtenidos.\n\n2. INSTRUMENTOS DE MEDICIÓN Y VERIFICACIÓN\n\nDiferenci
 a los conceptos de medición y verificación\, utilizando convenientemente
  instrumentos y medidores que se aplican en trabajos mecánicos.\n\n3. CAL
 IBRADOR O VERNIER\n\nDesarrolla técnicas y métodos de lectura del calibr
 ador en milímetros y en pulgadas.\n\n4. TORNILLO MICROMÉTRICO\n\nDesarro
 lla técnicas y métodos de lectura del tornillo micrométrico en milímet
 ros y en pulgadas.\n\nAVANCE PEDAGÓGICO\n\n04/02/2025	PRIMERA CLASE: (1\,
  2)\n06/02/2025	SEGUNDA CLASE: (3)\n08/02/2025	TERCERA CLASE: (4)\n\nVirtu
 al: https://events.vtools.ieee.org/m/464333
LOCATION:Virtual: https://events.vtools.ieee.org/m/464333
ORGANIZER:kevinmagne64@gmail.com
SEQUENCE:16
SUMMARY:Metrologia Industrial
URL;VALUE=URI:https://events.vtools.ieee.org/m/464333
X-ALT-DESC:Description: &lt;br /&gt;&lt;p style=&quot;text-align: center\;&quot;&gt;&lt;img src=&quot;htt
 ps://events.vtools.ieee.org/vtools_ui/media/display/2ff97a0a-f54b-4f9a-ab7
 1-c33eb4676c07&quot; alt=&quot;&quot; width=&quot;458&quot; height=&quot;648&quot;&gt;&lt;/p&gt;\n&lt;p&gt;&lt;span style=&quot;font
 -family: &#39;times new roman&#39;\, times\, serif\;&quot;&gt;Este curso est&amp;aacute\; dise
 &amp;ntilde\;ado para proporcionar una comprensi&amp;oacute\;n s&amp;oacute\;lida de l
 os principios y herramientas esenciales de la metrolog&amp;iacute\;a industria
 l\, fundamentales para garantizar la precisi&amp;oacute\;n y calidad en los pr
 ocesos de producci&amp;oacute\;n. A trav&amp;eacute\;s de lecciones te&amp;oacute\;ric
 as y pr&amp;aacute\;cticas\, los participantes aprender&amp;aacute\;n a utilizar i
 nstrumentos de medici&amp;oacute\;n\, realizar calibraciones y aplicarlos en p
 royectos&lt;/span&gt;&lt;/p&gt;\n&lt;p&gt;&lt;span style=&quot;font-family: &#39;times new roman&#39;\, time
 s\, serif\;&quot;&gt;Objetivos del curso:&lt;/span&gt;&lt;/p&gt;\n&lt;ul&gt;\n&lt;li style=&quot;font-family
 : &#39;times new roman&#39;\, times\, serif\;&quot;&gt;&lt;span style=&quot;font-family: &#39;times ne
 w roman&#39;\, times\, serif\;&quot;&gt;Introducir a los participantes en los concepto
 s clave de la metrolog&amp;iacute\;a industrial.&lt;/span&gt;&lt;/li&gt;\n&lt;li style=&quot;font-
 family: &#39;times new roman&#39;\, times\, serif\;&quot;&gt;&lt;span style=&quot;font-family: &#39;ti
 mes new roman&#39;\, times\, serif\;&quot;&gt;Conocer y dominar el uso de herramientas
  de medici&amp;oacute\;n de precisi&amp;oacute\;n como micr&amp;oacute\;metros y calib
 radores&lt;/span&gt;&lt;/li&gt;\n&lt;li style=&quot;font-family: &#39;times new roman&#39;\, times\, s
 erif\;&quot;&gt;&lt;span style=&quot;font-family: &#39;times new roman&#39;\, times\, serif\;&quot;&gt;Com
 prender la importancia de la trazabilidad y calibraci&amp;oacute\;n de equipos
 .&lt;/span&gt;&lt;/li&gt;\n&lt;li style=&quot;font-family: &#39;times new roman&#39;\, times\, serif\;
 &quot;&gt;&lt;span style=&quot;font-family: &#39;times new roman&#39;\, times\, serif\;&quot;&gt;Aplicar t
 &amp;eacute\;cnicas de medici&amp;oacute\;n y control para optimizar la calidad en
  la producci&amp;oacute\;n.&lt;/span&gt;&lt;/li&gt;\n&lt;/ul&gt;\n&lt;p&gt;&lt;span style=&quot;font-family: &#39;
 times new roman&#39;\, times\, serif\;&quot;&gt;Dirigido a:&lt;/span&gt;&lt;/p&gt;\n&lt;ul&gt;\n&lt;li styl
 e=&quot;font-family: &#39;times new roman&#39;\, times\, serif\;&quot;&gt;&lt;span style=&quot;font-fam
 ily: &#39;times new roman&#39;\, times\, serif\;&quot;&gt;Profesionales de la industria\, 
 t&amp;eacute\;cnicos e ingenieros.&lt;/span&gt;&lt;/li&gt;\n&lt;li style=&quot;font-family: &#39;times
  new roman&#39;\, times\, serif\;&quot;&gt;&lt;span style=&quot;font-family: &#39;times new roman&#39;
 \, times\, serif\;&quot;&gt;Estudiantes de ingenier&amp;iacute\;a que est&amp;aacute\;n co
 menzando su carrera\, ya que es especialmente &amp;uacute\;til para materias d
 e laboratorio y proyectos pr&amp;aacute\;cticos.&lt;/span&gt;&lt;/li&gt;\n&lt;/ul&gt;&lt;br /&gt;&lt;br /
 &gt;Agenda: &lt;br /&gt;&lt;p&gt;&lt;span style=&quot;font-family: &#39;times new roman&#39;\, times\, se
 rif\;&quot;&gt;PROGRAMA ANAL&amp;Iacute\;TICO&lt;/span&gt;&lt;/p&gt;\n&lt;p&gt;&lt;span style=&quot;font-family:
  &#39;times new roman&#39;\, times\, serif\;&quot;&gt;1. MEDICI&amp;Oacute\;N\, UNIDADES Y SIS
 TEMAS DE MEDIDA&amp;nbsp\;&lt;/span&gt;&lt;/p&gt;\n&lt;p style=&quot;padding-left: 40px\;&quot;&gt;&lt;span s
 tyle=&quot;font-family: &#39;times new roman&#39;\, times\, serif\;&quot;&gt;Interpreta las uni
 dades de medida con sus respectivos sistemas\, relacionando las equivalenc
 ias y conversiones de unidades de peso\, longitud y superficie\, registran
 do adecuadamente datos obtenidos.&lt;/span&gt;&lt;/p&gt;\n&lt;p&gt;&lt;span style=&quot;font-family:
  &#39;times new roman&#39;\, times\, serif\;&quot;&gt;2. INSTRUMENTOS DE MEDICI&amp;Oacute\;N 
 Y VERIFICACI&amp;Oacute\;N&lt;/span&gt;&lt;/p&gt;\n&lt;p style=&quot;padding-left: 40px\;&quot;&gt;&lt;span s
 tyle=&quot;font-family: &#39;times new roman&#39;\, times\, serif\;&quot;&gt;Diferencia los con
 ceptos de medici&amp;oacute\;n y verificaci&amp;oacute\;n\, utilizando conveniente
 mente instrumentos y medidores que se aplican en trabajos mec&amp;aacute\;nico
 s.&lt;/span&gt;&lt;/p&gt;\n&lt;p&gt;&lt;span style=&quot;font-family: &#39;times new roman&#39;\, times\, se
 rif\;&quot;&gt;3. CALIBRADOR O VERNIER&lt;/span&gt;&lt;/p&gt;\n&lt;p style=&quot;padding-left: 40px\;&quot;
 &gt;&lt;span style=&quot;font-family: &#39;times new roman&#39;\, times\, serif\;&quot;&gt;Desarrolla
  t&amp;eacute\;cnicas y m&amp;eacute\;todos de lectura del calibrador en mil&amp;iacut
 e\;metros y en pulgadas.&lt;/span&gt;&lt;/p&gt;\n&lt;p&gt;&lt;span style=&quot;font-family: &#39;times n
 ew roman&#39;\, times\, serif\;&quot;&gt;4. TORNILLO MICROM&amp;Eacute\;TRICO&lt;/span&gt;&lt;/p&gt;\n
 &lt;p style=&quot;padding-left: 40px\;&quot;&gt;&lt;span style=&quot;font-family: &#39;times new roman
 &#39;\, times\, serif\;&quot;&gt;Desarrolla t&amp;eacute\;cnicas y m&amp;eacute\;todos de lect
 ura del tornillo microm&amp;eacute\;trico en mil&amp;iacute\;metros y en pulgadas.
 &lt;/span&gt;&lt;/p&gt;\n&lt;p&gt;&lt;span style=&quot;font-family: &#39;times new roman&#39;\, times\, seri
 f\;&quot;&gt;AVANCE PEDAG&amp;Oacute\;GICO&lt;/span&gt;&lt;/p&gt;\n&lt;table style=&quot;border-collapse: 
 collapse\; width: 34.9328%\; border-width: 1px\; margin-left: auto\; margi
 n-right: auto\;&quot; border=&quot;1&quot;&gt;&lt;colgroup&gt;&lt;col style=&quot;width: 35.5258%\;&quot;&gt;&lt;col 
 style=&quot;width: 64.4742%\;&quot;&gt;&lt;/colgroup&gt;\n&lt;tbody&gt;\n&lt;tr&gt;\n&lt;td style=&quot;text-alig
 n: center\;&quot;&gt;&lt;span style=&quot;font-family: &#39;times new roman&#39;\, times\, serif\;
 &quot;&gt;04/02/2025&lt;/span&gt;&lt;/td&gt;\n&lt;td style=&quot;text-align: center\;&quot;&gt;&lt;span style=&quot;fo
 nt-family: &#39;times new roman&#39;\, times\, serif\;&quot;&gt;PRIMERA CLASE: (1\, 2)&lt;/sp
 an&gt;&lt;/td&gt;\n&lt;/tr&gt;\n&lt;tr&gt;\n&lt;td style=&quot;text-align: center\;&quot;&gt;&lt;span style=&quot;font-
 family: &#39;times new roman&#39;\, times\, serif\;&quot;&gt;06/02/2025&lt;/span&gt;&lt;/td&gt;\n&lt;td s
 tyle=&quot;text-align: center\;&quot;&gt;&lt;span style=&quot;font-family: &#39;times new roman&#39;\, 
 times\, serif\;&quot;&gt;SEGUNDA CLASE: (3)&lt;/span&gt;&lt;/td&gt;\n&lt;/tr&gt;\n&lt;tr&gt;\n&lt;td style=&quot;t
 ext-align: center\;&quot;&gt;&lt;span style=&quot;font-family: &#39;times new roman&#39;\, times\,
  serif\;&quot;&gt;08/02/2025&lt;/span&gt;&lt;/td&gt;\n&lt;td style=&quot;text-align: center\;&quot;&gt;&lt;span s
 tyle=&quot;font-family: &#39;times new roman&#39;\, times\, serif\;&quot;&gt;TERCERA CLASE: (4)
 &lt;/span&gt;&lt;/td&gt;\n&lt;/tr&gt;\n&lt;/tbody&gt;\n&lt;/table&gt;\n&lt;p&gt;&amp;nbsp\;&lt;/p&gt;
END:VEVENT
END:VCALENDAR

