BEGIN:VCALENDAR
VERSION:2.0
PRODID:IEEE vTools.Events//EN
CALSCALE:GREGORIAN
BEGIN:VTIMEZONE
TZID:US/Pacific
BEGIN:DAYLIGHT
DTSTART:20170312T030000
TZOFFSETFROM:-0800
TZOFFSETTO:-0700
RRULE:FREQ=YEARLY;BYDAY=2SU;BYMONTH=3
TZNAME:PDT
END:DAYLIGHT
BEGIN:STANDARD
DTSTART:20171105T010000
TZOFFSETFROM:-0700
TZOFFSETTO:-0800
RRULE:FREQ=YEARLY;BYDAY=1SU;BYMONTH=11
TZNAME:PST
END:STANDARD
END:VTIMEZONE
BEGIN:VEVENT
DTSTAMP:20171005T051013Z
UID:7FCC11B2-7679-11E7-8752-0050568D2FB3
DTSTART;TZID=US/Pacific:20171007T083000
DTEND;TZID=US/Pacific:20171007T150000
DESCRIPTION:Cyber attacks on corporations\, governmental agencies and indiv
 iduals are becoming increasingly widespread and regular\, as well as more 
 complex. In honor of National Cyber Security Awareness Month\, LMU is once
  again hosting The Fourth Annual Cybersecurity Summit that brings together
  government officials\, private business executives and cybersecurity expe
 rts to discuss the current and emerging threats that exist in today’s so
 phisticated cyber environment\, and the technological advancements being m
 ade to countermeasure and manage these risks.\n\n[Image] http://cs.utdalla
 s.edu/ichi2015/ https://www.ieee.org/membership_services/membership/women/
 women_logo.html http://hubcars.net/loyola-marymount-university-college-of-
 business [Image result for SoCal Aerospace Council logo]\n\nCo-sponsored b
 y: Dr. Mehrdad Sharbaf-IEEE CLAS Computer Society Chair\, Adjunct Professo
 r LMU\n\nSpeaker(s): \, \, \, \n\nAgenda: \nPlease Join us for The Fourth 
 Annual Cybersecurity Summit hosted at Loyola Marymount University in honor
  of the National Month of Cybersecurity Awareness.\n\nRegistration\, Netwo
 rking\, Vendors Setup 8:30 am 9:30 am\n\nOpening Ceremony\n\nWelcome Keyno
 te Message Time: 9:30 am\n\nDr. Mehrdad S. Sharbaf\, IEEE Coastal Los Ange
 les Computer Society- Chair\, Adjunct Professor LMU\n\n[Mehrdad Sharbaf]\n
 \nDistinguished Guest Speaker State Keith Tresh Commander California Cyber
  Security Integration Center-California Governor’s Office of Emergency S
 ervices- Time 9:45 am\n\n[Image result for keith tresh]\n\nDistinguished G
 uest Speaker Mark Weatherford SVP &amp; Chief Cybersecurity Strategist at vArm
 our Time: 10:15 am\n\n[Image result]\n\nDistinguished Guest Speaker Reuben
  Wilson Director of Law &amp; Policy Mayor Eric Garcetti Office of Public Safe
 ty Time: 10:45 am\n\n[Image result for reuben wilson law policy]\n\nDistin
 guished Guest Speaker David Rusting System Wide Chief Information Security
  Officer University of California\, Office of the President\, Time 11:15 p
 m\n\n[Image result for david rusting]\n\nBreak\, Lunch\, Refreshment\, Ven
 dors\, and Networking Time: 11:45 am -1:00 pm\n\nDistinguished Guest Speak
 er William Perry System Wide Chief Information Security Officer California
  State University\, Office of the Chancellor\, Time 1:00 pm\n\n[Image resu
 lt for williamperry ciso](https://www.linkedin.com/in/william-perry-6a00bb
 7)\n\nPanel Discussion In Cyber Security Topic with distinguish guest spea
 kers(Q &amp; A) Time: 1:30 pm-3:00 pm\n\nModerator: Dr. Mehrdad Sharbaf\n\nAdj
 ourned Ceremony Time: 3:00 pm\n\nResources for Cyber Security Awareness:\n
 \n[- Department of Homeland Security’s cyber security tips](https://www.
 dhs.gov/topic/cybersecurity)\n\n[- U.S. Computer Emergency Readiness Team]
 (https://www.us-cert.gov/ncas/tips)\n\n[- Stay Safe Online website](https:
 //staysafeonline.org/)\n\n[- More on National Cyber Security Awareness Mon
 th](https://www.dhs.gov/national-cyber-security-awareness-month)\n\n- [dri
 ving cybersecurity awareness home! - AFCEA International](http://www.afcea
 .org/site/sites/default/files/files/AFC_WhitePaper2015_R3_SPREADS_lowres.p
 df)\n\nRoom: Hilton-100\, Bldg: Hilton Center of Business\, 1 LMU Drive\, 
 Los Angeles\, California\, United States\, 90045
LOCATION:Room: Hilton-100\, Bldg: Hilton Center of Business\, 1 LMU Drive\,
  Los Angeles\, California\, United States\, 90045
ORGANIZER:msharbaf@lmu.edu
SEQUENCE:31
SUMMARY:FOURTH ANNUAL LOS ANGELES CYBER SECURITY SUMMIT 2017-SILICON BEACH
URL;VALUE=URI:https://events.vtools.ieee.org/m/46438
X-ALT-DESC:Description: &lt;br /&gt;&lt;p&gt;&lt;span style=&quot;font-size: 14pt\;&quot;&gt;&lt;strong&gt;Cy
 ber attacks on corporations\, governmental agencies and individuals are be
 coming increasingly widespread and regular\, as well as more complex. In h
 onor of National Cyber Security Awareness Month\, LMU is once again hostin
 g The Fourth Annual Cybersecurity Summit that brings together government o
 fficials\, private business executives and cybersecurity experts to discus
 s the current and emerging threats that exist in today&amp;rsquo\;s sophistica
 ted cyber environment\, and the technological advancements being made to c
 ountermeasure and manage these risks.&lt;/strong&gt;&lt;/span&gt;&lt;/p&gt;\n&lt;p&gt;&lt;img class=&quot;
 aligncenter&quot; src=&quot;https://webinabox.vtools.ieee.org/wibp_home/image/335&quot; a
 lt=&quot;Image&quot; width=&quot;135&quot; height=&quot;93&quot; /&gt;&amp;nbsp\; &amp;nbsp\;&amp;nbsp\;&lt;a class=&quot;irc_m
 il&quot; href=&quot;http://cs.utdallas.edu/ichi2015/&quot; rel=&quot;nofollow&quot; data-noload=&quot;&quot; 
 data-ved=&quot;0CAcQjRxqFQoTCIKJm9O76sYCFdBNiAodekEBnw&quot;&gt;&lt;img class=&quot;irc_mi&quot; src
 =&quot;https://s.evbuc.com/https_proxy?url=http%3A%2F%2Fcs.utdallas.edu%2Fichi2
 015%2Fwp-content%2Fuploads%2F2013%2F10%2FComputerSocietyLogo-RGB-stacked.g
 if&amp;amp\;sig=ADR2i7-D_qW-SPl37vDoYn3cEsKOmXqVRQ&quot; alt=&quot;&quot; width=&quot;200&quot; height=
 &quot;72&quot; /&gt;&lt;/a&gt;&amp;nbsp\; &amp;nbsp\;&lt;a class=&quot;irc_mil&quot; href=&quot;https://www.ieee.org/me
 mbership_services/membership/women/women_logo.html&quot; rel=&quot;nofollow&quot; data-no
 load=&quot;&quot; data-ved=&quot;0CAcQjRxqFQoTCMqpgei86sYCFQkxiAodZ3oELQ&quot;&gt;&lt;img class=&quot;irc
 _mi&quot; src=&quot;https://www.ieee.org/membership_services/membership/women/ieee_w
 ie_purple.gif&quot; alt=&quot;&quot; width=&quot;133&quot; height=&quot;87&quot; /&gt;&lt;/a&gt;&amp;nbsp\;&amp;nbsp\;&lt;a class
 =&quot;irc_mil&quot; href=&quot;http://hubcars.net/loyola-marymount-university-college-of
 -business&quot; rel=&quot;nofollow&quot; data-noload=&quot;&quot; data-ved=&quot;0CAcQjRxqFQoTCLy875m66s
 YCFQIsiAodOBADbw&quot;&gt;&lt;img class=&quot;irc_mi&quot; src=&quot;https://s.evbuc.com/https_proxy
 ?url=http%3A%2F%2Fwww.lmu.edu%2FAssets%2FWEBADMIN%2BONLY%2B-%2BLMUHOME%2FC
 entral%2BImages%2BDirectory%2Fcbs_vt_rg_pc.th.jpg.jpg&amp;amp\;sig=ADR2i79o95o
 n9BJ2sl6kWTniL-8NFjgRJQ&quot; alt=&quot;&quot; width=&quot;127&quot; height=&quot;71&quot; /&gt;&lt;/a&gt;&amp;nbsp\; &amp;nbs
 p\;&amp;nbsp\;&amp;nbsp\;&lt;img src=&quot;http://laedc.org/wp-content/uploads/2014/04/SOC
 ALAerospaceCouncil-logo_FINAL_lg.jpg&quot; alt=&quot;Image result for SoCal Aerospac
 e Council logo&quot; width=&quot;209&quot; height=&quot;76&quot; /&gt;&amp;nbsp\; &amp;nbsp\;&amp;nbsp\;&lt;/p&gt;&lt;br /&gt;
 &lt;br /&gt;Agenda: &lt;br /&gt;&lt;p&gt;&lt;span style=&quot;font-size: 12pt\;&quot;&gt;&lt;strong&gt;&lt;em&gt;Please 
 Join us for The Fourth Annual Cybersecurity Summit hosted at Loyola Marymo
 unt University in honor of the National Month of Cybersecurity Awareness.&lt;
 /em&gt;&lt;/strong&gt;&lt;/span&gt;&lt;/p&gt;\n&lt;p&gt;&lt;span style=&quot;font-size: 12pt\;&quot;&gt;&amp;nbsp\;&amp;nbsp\
 ;&lt;/span&gt;&lt;/p&gt;\n&lt;p&gt;&lt;span style=&quot;font-size: 12pt\;&quot;&gt;&lt;strong&gt;Registration\, Ne
 tworking\, Vendors Setup 8:30 am 9:30 am&lt;/strong&gt;&lt;/span&gt;&lt;/p&gt;\n&lt;p&gt;&lt;span sty
 le=&quot;font-size: 12pt\;&quot;&gt;&amp;nbsp\;&lt;/span&gt;&lt;/p&gt;\n&lt;p&gt;&lt;span style=&quot;font-size: 12pt
 \;&quot;&gt;&lt;strong&gt;Opening Ceremony&lt;/strong&gt;&lt;/span&gt;&lt;/p&gt;\n&lt;p&gt;&lt;span style=&quot;font-siz
 e: 12pt\;&quot;&gt;&lt;strong&gt;Welcome Keynote Message Time: 9:30 am&lt;/strong&gt;&lt;/span&gt;&lt;/
 p&gt;\n&lt;p&gt;&lt;span style=&quot;font-size: 12pt\;&quot;&gt;&lt;strong&gt;&amp;nbsp\;&lt;/strong&gt;&lt;strong&gt;Dr.
  Mehrdad S. Sharbaf\,&lt;/strong&gt;&amp;nbsp\;&lt;strong&gt;IEEE Coastal Los Angeles Comp
 uter Society- Chair\,&lt;/strong&gt;&amp;nbsp\;&amp;nbsp\;&lt;strong&gt;Adjunct Professor LMU&lt;
 /strong&gt;&lt;/span&gt;&lt;/p&gt;\n&lt;p&gt;&lt;img src=&quot;http://www.csun.edu/sites/default/files/
 styles/person_teaser_thumb/public/field_image/person/mehrdad.sharbaf.jpg?i
 tok=0W6vfa4J&quot; alt=&quot;Mehrdad Sharbaf&quot; width=&quot;150&quot; height=&quot;200&quot; /&gt;&amp;nbsp\;&lt;/p&gt;
 \n&lt;p&gt;&amp;nbsp\;&lt;/p&gt;\n&lt;p&gt;&amp;nbsp\;&lt;/p&gt;\n&lt;p&gt;&lt;span style=&quot;font-size: 12pt\;&quot;&gt;&lt;stro
 ng&gt;&lt;strong&gt;Distinguished Guest Speaker &amp;nbsp\;State Keith Tresh&lt;/strong&gt;&amp;n
 bsp\;Commander California Cyber Security Integration Center-California Gov
 ernor&amp;rsquo\;s Office of Emergency Services-&lt;/strong&gt;&amp;nbsp\;&lt;strong&gt;Time 9
 :45 am&lt;/strong&gt;&lt;/span&gt;&lt;/p&gt;\n&lt;p&gt;&amp;nbsp\;&lt;/p&gt;\n&lt;p&gt;&lt;strong&gt;&lt;img src=&quot;http://ww
 w.techleader.tv/wp-content/uploads/2012/03/Keith-Tresh-Office-of-Informati
 on-Security.jpg&quot; alt=&quot;Image result for keith tresh&quot; width=&quot;151&quot; height=&quot;22
 1&quot; /&gt;&lt;/strong&gt;&lt;/p&gt;\n&lt;p&gt;&amp;nbsp\;&lt;/p&gt;\n&lt;p&gt;&amp;nbsp\;&lt;/p&gt;\n&lt;p&gt;&lt;span style=&quot;font-s
 ize: 12pt\;&quot;&gt;&lt;strong&gt;Distinguished Guest Speaker Mark Weatherford&amp;nbsp\;SV
 P &amp;amp\; Chief Cybersecurity Strategist at vArmour Time: 10:15 am&lt;/strong&gt;
 &lt;/span&gt;&lt;/p&gt;\n&lt;p&gt;&lt;img src=&quot;https://media.licdn.com/mpr/mpr/shrinknp_200_200
 /AAEAAQAAAAAAAAa5AAAAJDZmYTM4ZjA3LTM4OTctNDMzNy1iMTZhLWFkMWRjOGYwZTQyNA.jp
 g&quot; alt=&quot;Image result&quot; width=&quot;163&quot; height=&quot;163&quot; /&gt;&lt;/p&gt;\n&lt;p&gt;&amp;nbsp\;&lt;/p&gt;\n&lt;p&gt;
 &lt;span style=&quot;font-size: 12pt\;&quot;&gt;&lt;strong&gt;&lt;strong&gt;&lt;strong&gt;Distinguished Gues
 t Speaker Reuben Wilson Director of Law &amp;amp\; Policy Mayor Eric Garcetti 
 Office of Public Safety&amp;nbsp\;&lt;/strong&gt;Time: 10:45 am&lt;/strong&gt;&lt;/strong&gt;&lt;/s
 pan&gt;&lt;/p&gt;\n&lt;p&gt;&amp;nbsp\;&lt;/p&gt;\n&lt;p&gt;&lt;img src=&quot;http://resconnola.com/wp-content/up
 loads/2017/01/Reuben-Wilson.jpg&quot; alt=&quot;Image result for reuben wilson law p
 olicy&quot; width=&quot;177&quot; height=&quot;185&quot; /&gt;&lt;/p&gt;\n&lt;p&gt;&amp;nbsp\;&lt;/p&gt;\n&lt;p&gt;&amp;nbsp\;&lt;/p&gt;\n&lt;p
 &gt;&amp;nbsp\;&lt;/p&gt;\n&lt;p&gt;&lt;span style=&quot;font-size: 12pt\;&quot;&gt;&lt;strong&gt;&lt;strong&gt;&lt;strong&gt;&lt;
 strong&gt;&lt;strong&gt;&lt;strong&gt;Distinguished Guest Speaker David Rusting System Wi
 de Chief Information Security Officer University of California\, Office of
  the President\, Time 11:15 pm&lt;/strong&gt;&lt;/strong&gt;&lt;/strong&gt;&lt;/strong&gt;&lt;/strong
 &gt;&lt;/strong&gt;&lt;/span&gt;&lt;/p&gt;\n&lt;div&gt;&lt;span style=&quot;font-size: 12pt\;&quot;&gt;&amp;nbsp\;&lt;/span&gt;
 &lt;/div&gt;\n&lt;p&gt;&amp;nbsp\;&lt;img src=&quot;http://link.ucop.edu/wp-content/uploads/2014/0
 2/rusting_portrait.jpg&quot; alt=&quot;Image result for david rusting&quot; width=&quot;155&quot; h
 eight=&quot;207&quot; /&gt;&lt;/p&gt;\n&lt;p&gt;&amp;nbsp\;&lt;/p&gt;\n&lt;p&gt;&lt;span style=&quot;font-size: 10pt\;&quot;&gt;&lt;st
 rong&gt;Break\, Lunch\, Refreshment\, Vendors\, and Networking Time: 11:45 am
  -1:00 pm&lt;/strong&gt;&lt;/span&gt;&lt;/p&gt;\n&lt;p&gt;&lt;span style=&quot;font-size: 10pt\;&quot;&gt;&amp;nbsp\;&lt;
 /span&gt;&lt;/p&gt;\n&lt;p&gt;&lt;strong&gt;&lt;strong&gt;&lt;strong&gt;&lt;strong&gt;&lt;strong&gt;&lt;strong&gt;&lt;span style
 =&quot;font-size: 12pt\;&quot;&gt;Distinguished Guest Speaker William Perry System Wide
  Chief Information Security Officer California State University\, Office o
 f the Chancellor\, Time 1:00 pm&lt;/span&gt;&lt;/strong&gt;&lt;/strong&gt;&lt;/strong&gt;&lt;/strong&gt;
 &lt;/strong&gt;&lt;/strong&gt;&lt;/p&gt;\n&lt;p&gt;&lt;strong&gt;&lt;strong&gt;&lt;strong&gt;&lt;strong&gt;&lt;strong&gt;&lt;strong
 &gt;&lt;span style=&quot;font-size: 12pt\;&quot;&gt;&lt;a class=&quot;irc_mil i3597 iEDHICeAJCzM-zixy
 DjKkw5M&quot; tabindex=&quot;0&quot; href=&quot;https://www.linkedin.com/in/william-perry-6a00
 bb7&quot; target=&quot;_blank&quot; rel=&quot;noopener&quot; data-noload=&quot;&quot; data-ved=&quot;0ahUKEwjC3LvK
 yrTWAhUVS2MKHYJdDDkQjRwIBw&quot;&gt;&lt;img class=&quot;irc_mi&quot; src=&quot;https://media.licdn.c
 om/mpr/mpr/shrinknp_200_200/p/6/000/26f/00e/1eb8b29.jpg&quot; alt=&quot;Image result
  for williamperry ciso&quot; width=&quot;166&quot; height=&quot;166&quot; /&gt;&lt;/a&gt;&lt;/span&gt;&lt;/strong&gt;&lt;/s
 trong&gt;&lt;/strong&gt;&lt;/strong&gt;&lt;/strong&gt;&lt;/strong&gt;&lt;/p&gt;\n&lt;p&gt;&amp;nbsp\;&lt;/p&gt;\n&lt;p&gt;&lt;strong
 &gt;&amp;nbsp\;&lt;span style=&quot;font-size: 10pt\;&quot;&gt;Panel Discussion In Cyber Security
  Topic with distinguish guest speakers(Q &amp;amp\; A) Time: 1:30 pm-3:00 pm&lt;/
 span&gt;&lt;/strong&gt;&lt;/p&gt;\n&lt;p&gt;&lt;span style=&quot;font-size: 10pt\;&quot;&gt;&lt;strong&gt;Moderator: 
 Dr. Mehrdad Sharbaf&lt;/strong&gt;&lt;/span&gt;&lt;/p&gt;\n&lt;p&gt;&lt;span style=&quot;font-size: 10pt\;
 &quot;&gt;&lt;strong&gt;&amp;nbsp\;Adjourned Ceremony Time: 3:00 pm&lt;/strong&gt;&lt;/span&gt;&lt;/p&gt;\n&lt;p&gt;
 &lt;span style=&quot;font-size: 10pt\;&quot;&gt;&amp;nbsp\;&lt;/span&gt;&lt;/p&gt;\n&lt;p&gt;&lt;span style=&quot;font-s
 ize: 10pt\;&quot;&gt;&lt;strong&gt;Resources for Cyber Security Awareness:&lt;/strong&gt;&lt;/spa
 n&gt;&lt;/p&gt;\n&lt;p&gt;&amp;nbsp\;&lt;/p&gt;\n&lt;p&gt;&lt;strong&gt;&lt;a href=&quot;https://www.dhs.gov/topic/cybe
 rsecurity&quot; target=&quot;_blank&quot; rel=&quot;noopener&quot; data-val=&quot;https://www.dhs.gov/to
 pic/cybersecurity&quot; data-urltype=&quot;/view&quot; data-linktype=&quot;external&quot;&gt;- Departm
 ent of Homeland Security&amp;rsquo\;s cyber security tips&lt;/a&gt;&lt;/strong&gt;&lt;/p&gt;\n&lt;p
 &gt;&amp;nbsp\;&lt;/p&gt;\n&lt;p&gt;&lt;strong&gt;&lt;a href=&quot;https://www.us-cert.gov/ncas/tips&quot; targe
 t=&quot;_blank&quot; rel=&quot;noopener&quot; data-val=&quot;https://www.us-cert.gov/ncas/tips&quot; dat
 a-urltype=&quot;/view&quot; data-linktype=&quot;external&quot;&gt;- U.S. Computer Emergency Readi
 ness Team&lt;/a&gt;&lt;/strong&gt;&lt;/p&gt;\n&lt;p&gt;&amp;nbsp\;&lt;/p&gt;\n&lt;p&gt;&lt;strong&gt;&lt;a href=&quot;https://st
 aysafeonline.org/&quot; target=&quot;_blank&quot; rel=&quot;noopener&quot; data-val=&quot;https://staysa
 feonline.org/&quot; data-urltype=&quot;/view&quot; data-linktype=&quot;external&quot;&gt;- Stay Safe O
 nline website&lt;/a&gt;&lt;/strong&gt;&lt;/p&gt;\n&lt;p&gt;&amp;nbsp\;&lt;/p&gt;\n&lt;p&gt;&lt;strong&gt;&lt;a href=&quot;https:
 //www.dhs.gov/national-cyber-security-awareness-month&quot; target=&quot;_blank&quot; rel
 =&quot;noopener&quot; data-val=&quot;https://www.dhs.gov/national-cyber-security-awarenes
 s-month&quot; data-urltype=&quot;/view&quot; data-linktype=&quot;external&quot;&gt;- More on National 
 Cyber Security Awareness Month&amp;nbsp\;&lt;/a&gt;&lt;/strong&gt;&lt;/p&gt;\n&lt;p&gt;&amp;nbsp\;&lt;/p&gt;\n&lt;p
 &gt;&lt;strong&gt;-&amp;nbsp\;&lt;a href=&quot;http://www.afcea.org/site/sites/default/files/fi
 les/AFC_WhitePaper2015_R3_SPREADS_lowres.pdf&quot;&gt;driving cybersecurity awaren
 ess home! - AFCEA International&lt;/a&gt;&lt;/strong&gt;&lt;/p&gt;\n&lt;p&gt;&amp;nbsp\;&lt;/p&gt;\n&lt;p&gt;&amp;nbsp
 \;&lt;/p&gt;\n&lt;p&gt;&lt;strong&gt;&amp;nbsp\;&lt;/strong&gt;&lt;/p&gt;\n&lt;p&gt;&lt;strong&gt;&amp;nbsp\;&lt;/strong&gt;&lt;/p&gt;\n
 &lt;p&gt;&lt;strong&gt;&amp;nbsp\;&lt;/strong&gt;&lt;/p&gt;\n&lt;p&gt;&amp;nbsp\;&lt;/p&gt;\n&lt;p&gt;&amp;nbsp\;&lt;/p&gt;
END:VEVENT
END:VCALENDAR

