BEGIN:VCALENDAR
VERSION:2.0
PRODID:IEEE vTools.Events//EN
CALSCALE:GREGORIAN
BEGIN:VTIMEZONE
TZID:Asia/Kolkata
BEGIN:STANDARD
DTSTART:19451014T230000
TZOFFSETFROM:+0630
TZOFFSETTO:+0530
TZNAME:IST
END:STANDARD
END:VTIMEZONE
BEGIN:VEVENT
DTSTAMP:20250129T093002Z
UID:B77B4E21-A8A5-42F1-8F3F-EEB93656C52D
DTSTART;TZID=Asia/Kolkata:20250308T080000
DTEND;TZID=Asia/Kolkata:20250308T170000
DESCRIPTION:- To introduce students to designing\, building\, and programmi
 ng simple robots while\nfostering creativity\, problem-solving\, and teamw
 ork.\n- To teach students fundamental electrical concepts through hands-on
  circuit building\nusing basic components.\n- To improve problem solving w
 ith math puzzles\, sudoku and math relays to engage\nstudents.\n\nAgenda: 
 \nActivities:\n- Robotics workshop : 8th and 9th std\n- Electric circuits 
 basics : 6th and 7th std\n- Math puzzles\, sudoku\, math relay.\n\nMKSSS A
 nudanit Adivasi Ashram Shala\, Kamshet\, Pune\, Maharashtra\, India\, 4104
 05
LOCATION:MKSSS Anudanit Adivasi Ashram Shala\, Kamshet\, Pune\, Maharashtra
 \, India\, 410405
ORGANIZER:kuhu.kelkar@cumminscollege.in
SEQUENCE:16
SUMMARY:Adivasi Ashram Shala Visit
URL;VALUE=URI:https://events.vtools.ieee.org/m/464407
X-ALT-DESC:Description: &lt;br /&gt;&lt;p&gt;- To introduce students to designing\, bui
 lding\, and programming simple robots while&lt;br&gt;fostering creativity\, prob
 lem-solving\, and teamwork.&lt;br&gt;- To teach students fundamental electrical 
 concepts through hands-on circuit building&lt;br&gt;using basic components.&lt;br&gt;-
  To improve problem solving with math puzzles\, sudoku and math relays to 
 engage&lt;br&gt;students.&lt;/p&gt;&lt;br /&gt;&lt;br /&gt;Agenda: &lt;br /&gt;&lt;p&gt;Activities:&lt;br&gt;- Robot
 ics workshop : 8th and 9th std&lt;br&gt;- Electric circuits basics : 6th and 7th
  std&lt;br&gt;- Math puzzles\, sudoku\, math relay.&lt;/p&gt;
END:VEVENT
END:VCALENDAR

