BEGIN:VCALENDAR
VERSION:2.0
PRODID:IEEE vTools.Events//EN
CALSCALE:GREGORIAN
BEGIN:VTIMEZONE
TZID:Asia/Kolkata
BEGIN:STANDARD
DTSTART:19451014T230000
TZOFFSETFROM:+0630
TZOFFSETTO:+0530
TZNAME:IST
END:STANDARD
END:VTIMEZONE
BEGIN:VEVENT
DTSTAMP:20260222T060849Z
UID:CA80BAE8-033B-41EA-86B5-37A42C40D144
DTSTART;TZID=Asia/Kolkata:20260123T091400
DTEND;TZID=Asia/Kolkata:20260124T211600
DESCRIPTION:Yearly flagship event of IT department\n\nPimpri Chinchwad Coll
 ege of Engineering\, Pune\, Maharashtra\, India
LOCATION:Pimpri Chinchwad College of Engineering\, Pune\, Maharashtra\, Ind
 ia
ORGANIZER:ishantoraskar07@gmail.com
SEQUENCE:6
SUMMARY:Praxis
URL;VALUE=URI:https://events.vtools.ieee.org/m/464506
X-ALT-DESC:Description: &lt;br /&gt;&lt;p&gt;Yearly flagship event of IT department&lt;/p&gt;
END:VEVENT
END:VCALENDAR

