BEGIN:VCALENDAR
VERSION:2.0
PRODID:IEEE vTools.Events//EN
CALSCALE:GREGORIAN
BEGIN:VTIMEZONE
TZID:America/Denver
BEGIN:DAYLIGHT
DTSTART:20250309T030000
TZOFFSETFROM:-0700
TZOFFSETTO:-0600
RRULE:FREQ=YEARLY;BYDAY=2SU;BYMONTH=3
TZNAME:MDT
END:DAYLIGHT
BEGIN:STANDARD
DTSTART:20241103T010000
TZOFFSETFROM:-0600
TZOFFSETTO:-0700
RRULE:FREQ=YEARLY;BYDAY=1SU;BYMONTH=11
TZNAME:MST
END:STANDARD
END:VTIMEZONE
BEGIN:VEVENT
DTSTAMP:20250214T232540Z
UID:4867FC48-80D5-4845-974F-EFF287098945
DTSTART;TZID=America/Denver:20250212T160000
DTEND;TZID=America/Denver:20250212T180000
DESCRIPTION:IEEE Denver Computer\, Information Theory &amp; Robotics Society\, 
 Computational Intelligence Society\, and Colorado School of Mines – Join
 t Technical Meeting (triple event).\n\nFebruary 12\, 2024\, 4:00 PM – 5:
 00 PM (MDT)\n\nThong Quoc (Bill) Huynh\n\nPresentation: Reduced Dimensiona
 lity of State Space: Faster Motion Planning and Infeasibility Proofs.\n\nJ
 onathan Diller\n\nPresentation: Path-Finding for Energy-Sharing Drone-UGV 
 Teams.\n\nDr. Frankie Zhu\n\nPresentation: Autonomous Robots Traversing Sp
 ace Environments.\n\nLocation: Colorado School of Mines Marquez Hall\, roo
 m 126\n\nParking: Free street parking along Washington Ave and parts of 16
 th\, 17th\, and Arapahoe streets (look for City of Golden signs\, parking 
 on campus streets requires a permit). Paid parking is available at 940 18t
 h St\, Golden\, CO 80401.\n\nInvited: Colorado School of Mines and IEEE CI
 R &amp; CIS society members.\n\nCost: Free\n\nSpeaker(s): \, \, \n\nRoom: 126\
 , Bldg: Marquez Hall\, 1600 Arapahoe St\, Golden\, CO 80401\, Colorado\, U
 nited States\, 80401
LOCATION:Room: 126\, Bldg: Marquez Hall\, 1600 Arapahoe St\, Golden\, CO 80
 401\, Colorado\, United States\, 80401
ORGANIZER:gowansj@ieee.org
SEQUENCE:6
SUMMARY:CIR &amp; CIS Joint Technical Meeting (triple robotics event)
URL;VALUE=URI:https://events.vtools.ieee.org/m/464599
X-ALT-DESC:Description: &lt;br /&gt;&lt;h3&gt;&lt;strong&gt;IEEE Denver Computer\, Informatio
 n Theory &amp;amp\; Robotics Society\, Computational Intelligence Society\, an
 d Colorado School of Mines &amp;ndash\; Joint Technical Meeting (triple event)
 .&lt;/strong&gt;&lt;/h3&gt;\n&lt;h2&gt;February 12\, 2024\, 4:00 PM &amp;ndash\; 5:00 PM (MDT)&lt;/
 h2&gt;\n&lt;p&gt;&amp;nbsp\;&lt;/p&gt;\n&lt;h3&gt;&lt;strong&gt;Thong Quoc (Bill) Huynh&lt;/strong&gt;&lt;/h3&gt;\n&lt;d
 iv&gt;&amp;nbsp\;&lt;/div&gt;\n&lt;div class=&quot;presentation-title&quot;&gt;&lt;strong&gt;Presentation: Re
 duced Dimensionality of State Space: Faster Motion Planning and Infeasibil
 ity Proofs.&lt;/strong&gt;&lt;/div&gt;\n&lt;p&gt;&amp;nbsp\;&lt;/p&gt;\n&lt;h3&gt;&lt;strong&gt;Jonathan Diller&lt;/s
 trong&gt;&lt;/h3&gt;\n&lt;div&gt;&amp;nbsp\;&lt;/div&gt;\n&lt;div class=&quot;presentation-title&quot;&gt;&lt;strong&gt;P
 resentation: Path-Finding for Energy-Sharing Drone-UGV Teams.&lt;br&gt;&lt;/strong&gt;
 &lt;/div&gt;\n&lt;p&gt;&amp;nbsp\;&lt;/p&gt;\n&lt;h3&gt;&lt;strong&gt;Dr. Frankie Zhu&lt;/strong&gt;&lt;/h3&gt;\n&lt;div&gt;&amp;n
 bsp\;&lt;/div&gt;\n&lt;div class=&quot;presentation-title&quot;&gt;&lt;strong&gt;Presentation: Autonom
 ous Robots Traversing Space Environments.&lt;br&gt;&lt;/strong&gt;&lt;/div&gt;\n&lt;p&gt;&amp;nbsp\;&lt;/
 p&gt;\n&lt;p style=&quot;margin-left: 20px\; padding-left: 10px\;&quot;&gt;&lt;strong&gt;Location:&lt;
 /strong&gt; Colorado School of Mines Marquez Hall\, room 126&lt;/p&gt;\n&lt;p style=&quot;m
 argin-left: 20px\; padding-left: 10px\;&quot;&gt;&lt;strong&gt;Parking:&lt;/strong&gt; Free st
 reet parking along Washington Ave and parts of 16th\, 17th\, and Arapahoe 
 streets (look for City of Golden signs\, parking on campus streets require
 s a permit). Paid parking is available at 940 18th St\, Golden\, CO 80401.
 &lt;/p&gt;\n&lt;p style=&quot;margin-left: 20px\; padding-left: 10px\;&quot;&gt;&lt;strong&gt;Invited:
 &lt;/strong&gt; Colorado School of Mines and IEEE CIR &amp;amp\; CIS society members
 .&lt;/p&gt;\n&lt;p style=&quot;margin-left: 20px\; padding-left: 10px\;&quot;&gt;&lt;strong&gt;Cost:&lt;/
 strong&gt; Free&lt;/p&gt;
END:VEVENT
END:VCALENDAR

