BEGIN:VCALENDAR
VERSION:2.0
PRODID:IEEE vTools.Events//EN
CALSCALE:GREGORIAN
BEGIN:VTIMEZONE
TZID:US/Pacific
BEGIN:DAYLIGHT
DTSTART:20250309T030000
TZOFFSETFROM:-0800
TZOFFSETTO:-0700
RRULE:FREQ=YEARLY;BYDAY=2SU;BYMONTH=3
TZNAME:PDT
END:DAYLIGHT
BEGIN:STANDARD
DTSTART:20241103T010000
TZOFFSETFROM:-0700
TZOFFSETTO:-0800
RRULE:FREQ=YEARLY;BYDAY=1SU;BYMONTH=11
TZNAME:PST
END:STANDARD
END:VTIMEZONE
BEGIN:VEVENT
DTSTAMP:20250223T072101Z
UID:2F5B046F-A314-4249-810B-12755156CD3B
DTSTART;TZID=US/Pacific:20250219T173000
DTEND;TZID=US/Pacific:20250219T200000
DESCRIPTION:SDIEEE EXCOM Meeting\n\nExecutive Committee meeting to discuss 
 all San Diego IEEE activities. All IEEE members welcome to attend. Please 
 RSVP.\n\n- 5:30 pm - 6:15 pm\, Introducing New Officers\, Networking and f
 ood!\n- 6:15 pm - 8:00 pm\, meeting (in person and/or remote)\n\nTo add to
  the agenda\, please email upalmahbub@yahoo.com.\n\nAgenda: \n- Approve pr
 ior meeting minutes (Minutes to be approved will be in the media section o
 f this vTools event)\n- Student branch reports\n-\n\nFrom Mustahsin Zarif\
 , 2024-2025 Chair of IEEE Student Branch at UCSD:\n\nAsking funds for year
  around events\, and attending conferences.\n\nLink for the proposed budge
 t for the year 2025: [link](https://docs.google.com/spreadsheets/d/1K4p6Bp
 7U1XnmcX7f8FrxJWK8fXQHwWbXFR-3mcuX7fQ/edit?usp=sharing)\n\n- From Shipra G
 udekar\, Vice chair of UCSD student branch: Student/Leadership Training Re
 treat: $965\n-\nFrom Vitatlity Lomakin 2025 IEEE San Diego Magnetics Chapt
 er at UCSD: Running the 2025 IEEE Magnetics Society Summer School on the c
 ampus of UCSD. The school will host around 100 graduate students and instr
 uctors\, and it will bring industrial participants. The main sponsors are 
 IEEE Magnetics Society (direct funding for the school)\, NSF\, and industr
 ial sponsors. Expect a $1\,800 allocation from the IEEE Magnetics Society 
 for our Magnetics Chapter in the next couple of months. I also hope to rec
 eive extra $1\,800 in Fall. Additionally\, in the last years we received m
 ultiple $2\,500 transfers from the IEEE Magnetics Society\, I think we hav
 e not spent it all. Accounting for these transfers and hoping the IEEE Sec
 tion can provide a little bit of extra support\, I would like to ask for a
  $5\,000 allocation. I will attend the meeting today to present the case. 
 I am also attaching some of the material about the school.\n\nThe school f
 lier and our original proposal attached.\n\n- Section Officers Reports\n- 
 Election Committee update on VTools assignment\n- Consultant&#39;s Network: Di
 scussion about IEEE&#39;s involvement in Del Mar Electronics and Manufacturing
  Show (Michael Bryant).\n- Speaker suggestion from CS chapter: Dispatch Te
 ch\, CopperMountainTech\n\n- Section Website Update and Maintenance\n\n- 2
 025 Budget presentation\, discussion\, and approval.\n\nRoom: Training\, B
 ldg: ATEC\, 10401 Roselle St\, San Diego\, California\, United States\, 92
 121\, Virtual: https://events.vtools.ieee.org/m/464724
LOCATION:Room: Training\, Bldg: ATEC\, 10401 Roselle St\, San Diego\, Calif
 ornia\, United States\, 92121\, Virtual: https://events.vtools.ieee.org/m/
 464724
ORGANIZER:mountain.michelle@gmail.com
SEQUENCE:80
SUMMARY:2025 Monthly San Diego IEEE EXCOM - February Meeting
URL;VALUE=URI:https://events.vtools.ieee.org/m/464724
X-ALT-DESC:Description: &lt;br /&gt;&lt;table style=&quot;height: 283px\;&quot; width=&quot;979&quot;&gt;\n
 &lt;tbody&gt;\n&lt;tr&gt;\n&lt;td&gt;\n&lt;p&gt;&amp;nbsp\;&lt;strong&gt;SDIEEE EXCOM Meeting&lt;/strong&gt;&lt;/p&gt;\n
 &lt;/td&gt;\n&lt;/tr&gt;\n&lt;tr&gt;\n&lt;td&gt;\n&lt;p&gt;Executive Committee meeting to discuss all Sa
 n Diego IEEE activities.&amp;nbsp\; All IEEE members welcome to attend.&amp;nbsp\;
 Please RSVP.&amp;nbsp\;&lt;/p&gt;\n&lt;div&gt;\n&lt;ul&gt;\n&lt;li&gt;5:30 pm - 6:15 pm\,&amp;nbsp\; &amp;nbsp
 \; Introducing New Officers\, Networking and food!&lt;/li&gt;\n&lt;li&gt;6:15 pm - 8:0
 0 pm\,&amp;nbsp\; &amp;nbsp\; meeting (in person and/or remote)&amp;nbsp\;&lt;/li&gt;\n&lt;/ul&gt;
 \n&lt;/div&gt;\n&lt;/td&gt;\n&lt;/tr&gt;\n&lt;tr&gt;\n&lt;td&gt;\n&lt;p&gt;&amp;nbsp\;To add to the agenda\, pleas
 e email upalmahbub@yahoo.com.&amp;nbsp\; &amp;nbsp\;&lt;/p&gt;\n&lt;/td&gt;\n&lt;/tr&gt;\n&lt;/tbody&gt;\n
 &lt;/table&gt;\n&lt;p&gt;&amp;nbsp\;&lt;/p&gt;&lt;br /&gt;&lt;br /&gt;Agenda: &lt;br /&gt;&lt;ul&gt;\n&lt;li&gt;Approve prior 
 meeting minutes (Minutes to be approved will be in the media section of th
 is vTools event)&lt;/li&gt;\n&lt;li&gt;Student branch reports\n&lt;ul&gt;\n&lt;li&gt;\n&lt;div&gt;\n&lt;p d
 ir=&quot;ltr&quot;&gt;From &lt;strong&gt;Mustahsin Zarif&lt;/strong&gt;\,&amp;nbsp\;2024-2025 Chair of 
 &lt;em&gt;IEEE Student Branch at UCSD:&lt;/em&gt;&lt;/p&gt;\n&lt;/div&gt;\n&lt;p dir=&quot;ltr&quot;&gt;Asking fun
 ds for year around events\, and attending conferences.&amp;nbsp\;&lt;/p&gt;\n&lt;p dir=
 &quot;ltr&quot;&gt;Link for the proposed budget for the year 2025:&amp;nbsp\;&lt;a href=&quot;https
 ://docs.google.com/spreadsheets/d/1K4p6Bp7U1XnmcX7f8FrxJWK8fXQHwWbXFR-3mcu
 X7fQ/edit?usp=sharing&quot; target=&quot;_blank&quot; rel=&quot;noopener noreferrer&quot; shape=&quot;re
 ct&quot;&gt;link&lt;/a&gt;&lt;/p&gt;\n&lt;/li&gt;\n&lt;li&gt;From Shipra Gudekar\, Vice chair of UCSD stud
 ent branch: Student/Leadership Training Retreat: $965&lt;/li&gt;\n&lt;li&gt;\n&lt;div&gt;&lt;st
 rong&gt;From Vitatlity Lomakin &lt;/strong&gt;2025 IEEE San Diego Magnetics Chapter
  at UCSD: Running the 2025 IEEE Magnetics Society Summer School on the cam
 pus of UCSD. The school will host around 100 graduate students and instruc
 tors\, and it will bring industrial participants. The main sponsors are IE
 EE Magnetics Society (direct funding for the school)\, NSF\, and industria
 l sponsors. Expect a $1\,800 allocation from the IEEE Magnetics Society fo
 r our Magnetics Chapter in the next couple of months. I also hope to recei
 ve extra $1\,800 in Fall. Additionally\, in the last years we received mul
 tiple $2\,500 transfers from the IEEE Magnetics Society\, I think we have 
 not spent it all. Accounting for these transfers and hoping the IEEE Secti
 on can provide a little bit of extra support\, &lt;strong&gt;I would like to ask
  for a $5\,000 allocation. &lt;/strong&gt;I will attend the meeting today to pre
 sent the case. I am also attaching some of the material about the school.&lt;
 /div&gt;\n&lt;div&gt;&amp;nbsp\;&lt;/div&gt;\n&lt;div&gt;The school flier and our original proposal
  attached.&amp;nbsp\;&lt;/div&gt;\n&lt;/li&gt;\n&lt;/ul&gt;\n&lt;/li&gt;\n&lt;li&gt;Section Officers Reports
 \n&lt;ul&gt;\n&lt;li&gt;Election Committee update on VTools assignment&lt;/li&gt;\n&lt;li&gt;&lt;stro
 ng&gt;Consultant&#39;s Network: &lt;/strong&gt;Discussion about IEEE&#39;s involvement in D
 el Mar Electronics and Manufacturing Show (Michael Bryant).\n&lt;ul&gt;\n&lt;li&gt;Spe
 aker suggestion from CS chapter: Dispatch Tech\, CopperMountainTech&lt;/li&gt;\n
 &lt;/ul&gt;\n&lt;/li&gt;\n&lt;li&gt;Section Website Update and Maintenance&amp;nbsp\;&lt;/li&gt;\n&lt;/ul
 &gt;\n&lt;/li&gt;\n&lt;li&gt;2025 Budget presentation\, discussion\, and approval.&lt;/li&gt;\n
 &lt;/ul&gt;\n&lt;p&gt;&amp;nbsp\;&lt;/p&gt;
END:VEVENT
END:VCALENDAR

