BEGIN:VCALENDAR
VERSION:2.0
PRODID:IEEE vTools.Events//EN
CALSCALE:GREGORIAN
BEGIN:VTIMEZONE
TZID:US/Eastern
BEGIN:DAYLIGHT
DTSTART:20170312T030000
TZOFFSETFROM:-0500
TZOFFSETTO:-0400
RRULE:FREQ=YEARLY;BYDAY=2SU;BYMONTH=3
TZNAME:EDT
END:DAYLIGHT
BEGIN:STANDARD
DTSTART:20171105T010000
TZOFFSETFROM:-0400
TZOFFSETTO:-0500
RRULE:FREQ=YEARLY;BYDAY=1SU;BYMONTH=11
TZNAME:EST
END:STANDARD
END:VTIMEZONE
BEGIN:VEVENT
DTSTAMP:20170808T070232Z
UID:32F6F1AA-7C05-11E7-8752-0050568D2FB3
DTSTART;TZID=US/Eastern:20170819T083000
DTEND;TZID=US/Eastern:20170819T164500
DESCRIPTION:The Wash DC metro area COMSOC Chapters cordially invite you to 
 attend the 5G summit scheduled on Saturday August 19\, 2017 at the Sprint 
 Corp located in Reston\, VA. The free event commences at 8:30 AM and will 
 finish at 4:45 PM. Participating attendees are eligible to receive continu
 e education credit.\n\nCo-sponsored by: EMBS\n\nSpeaker(s): Dr. Sushil Jaj
 odia \, Dr. John Baras\, Dr. Sushil Jajodia \, Dr. John Baras\, Dr. Sushil
  Jajodia \, Dr. John Baras\, Dr. Sushil Jajodia \, Dr. John Baras\, Dr. Su
 shil Jajodia \, Dr. John Baras\, Dr. Sushil Jajodia \, Dr. John Baras\, Dr
 . Sushil Jajodia \, Dr. John Baras\, Dr. Sushil Jajodia \, Dr. John Baras\
 , Dr. Sushil Jajodia \, Dr. John Baras\, Dr. Sushil Jajodia \, Dr. John Ba
 ras\n\nAgenda: \nSyllabus/Agenda:\n\n8:30 AM – 09:15 AM Registration\, C
 offee\, Continental Breakfast\n\n09:15 AM – 09:30 AM Opening and Introdu
 ction -- 5G Summit Organizing Committee\n\n09:30 AM – 10:30 AM Session 1
 : Adversarial and Uncertain Reasoning for Adaptive Cyber Defense: Building
  the Scientific Foundation -- Dr. Sushil Jajodia\n\n10:45 PM – 11:45 PM 
 Session 2: IOT and 5G as enablers for networked human-cyber-physical syste
 ms\n\n-- Dr. John S. Baras\, Dr. Chrysa Papagianni\n\n12:00 AM – 01:00 P
 M Session 3: Internet of Things and Smart Cities -- Dr. Sokwoo Rhee\n\n01:
 00 PM – 01:30 PM Lunch Break\n\n01:30 PM – 02:30 PM Session 4: 4G/5G I
 oT: Some Keys/Obstacles to Achieving Performance -- Dr. Marty Meyers 02:45
  PM – 03:45 PM Session 5: Phased Array Innovations for 5G mm Wave Beamfo
 rming -- Dr. Alberto Valdes-Garcia\n\n04:00 PM – 04:30 PM Session 6: Pan
 el -- All Speakers\n\n04:30 PM – 04:45 PM Conclusions and Final Remarks 
 -- 5G Summit Organizing Committee\n\n12524 Sunrise Valley Drive \, Reston\
 , Virginia\, United States\, 20196
LOCATION:12524 Sunrise Valley Drive \, Reston\, Virginia\, United States\, 
 20196
ORGANIZER:Siering@ieee.org
SEQUENCE:2
SUMMARY:5G Network Summit Reston\, VA
URL;VALUE=URI:https://events.vtools.ieee.org/m/46503
X-ALT-DESC:Description: &lt;br /&gt;&lt;p&gt;&lt;span style=&quot;margin: 0px\; font-family: &#39;T
 imes New Roman&#39;\,serif\; font-size: 10pt\;&quot;&gt;The Wash DC metro area COMSOC 
 Chapters cordially invite you to attend the 5G summit scheduled on Saturda
 y August 19\, 2017 at the Sprint Corp located in Reston\, VA. The free eve
 nt commences at 8:30 AM and will finish at 4:45 PM. Participating attendee
 s are eligible to receive continue education credit.&lt;/span&gt;&lt;/p&gt;&lt;br /&gt;&lt;br /
 &gt;Agenda: &lt;br /&gt;&lt;p&gt;&lt;strong&gt;&lt;span style=&quot;margin: 0px\; font-family: &#39;Times N
 ew Roman&#39;\,serif\; font-size: 10pt\;&quot;&gt;Syllabus/Agenda:&lt;/span&gt;&lt;/strong&gt;&lt;/p&gt;
 \n&lt;p&gt;&lt;span lang=&quot;EN&quot; style=&quot;margin: 0px\; font-family: &#39;Times New Roman&#39;\,
 serif\; font-size: 10pt\;&quot;&gt;8:30 AM &amp;ndash\; 09:15 AM Registration\, Coffee
 \, Continental Breakfast &lt;/span&gt;&lt;/p&gt;\n&lt;p&gt;&lt;span lang=&quot;EN&quot; style=&quot;margin: 0p
 x\; font-family: &#39;Times New Roman&#39;\,serif\; font-size: 10pt\;&quot;&gt;09:15 AM &amp;n
 dash\; 09:30 AM Opening and Introduction -- 5G Summit Organizing Committee
 &lt;/span&gt;&lt;/p&gt;\n&lt;p&gt;&lt;span lang=&quot;EN&quot; style=&quot;margin: 0px\; font-family: &#39;Times N
 ew Roman&#39;\,serif\; font-size: 10pt\;&quot;&gt;09:30 AM &amp;ndash\; 10:30 AM Session 1
 : Adversarial and Uncertain Reasoning for Adaptive Cyber Defense: Building
  the Scientific Foundation -- Dr. Sushil Jajodia&lt;/span&gt;&lt;/p&gt;\n&lt;p&gt;&lt;span lang
 =&quot;EN&quot; style=&quot;margin: 0px\; font-family: &#39;Times New Roman&#39;\,serif\; font-si
 ze: 10pt\;&quot;&gt;10:45 PM &amp;ndash\; 11:45 PM Session 2: IOT and 5G as enablers f
 or networked human-cyber-physical systems &lt;/span&gt;&lt;/p&gt;\n&lt;p&gt;&lt;span lang=&quot;EN&quot; 
 style=&quot;margin: 0px\; font-family: &#39;Times New Roman&#39;\,serif\; font-size: 10
 pt\;&quot;&gt;-- Dr. John S. Baras\, Dr. Chrysa Papagianni &lt;/span&gt;&lt;/p&gt;\n&lt;p&gt;&lt;span l
 ang=&quot;EN&quot; style=&quot;margin: 0px\; font-family: &#39;Times New Roman&#39;\,serif\; font
 -size: 10pt\;&quot;&gt;12:00 AM &amp;ndash\; 01:00 PM Session 3: Internet of Things an
 d Smart Cities -- Dr. Sokwoo Rhee&lt;/span&gt;&lt;/p&gt;\n&lt;p&gt;&lt;span lang=&quot;EN&quot; style=&quot;ma
 rgin: 0px\; font-family: &#39;Times New Roman&#39;\,serif\; font-size: 10pt\;&quot;&gt;01:
 00 PM &amp;ndash\; 01:30 PM Lunch Break &lt;/span&gt;&lt;/p&gt;\n&lt;p&gt;&lt;span lang=&quot;EN&quot; style=
 &quot;margin: 0px\; font-family: &#39;Times New Roman&#39;\,serif\; font-size: 10pt\;&quot;&gt;
 01:30 PM &amp;ndash\; 02:30 PM Session 4: 4G/5G IoT: Some Keys/Obstacles to Ac
 hieving Performance -- Dr. Marty Meyers 02:45 PM &amp;ndash\; 03:45 PM Session
  5: Phased Array Innovations for 5G mm Wave Beamforming -- Dr. Alberto Val
 des-Garcia &lt;/span&gt;&lt;/p&gt;\n&lt;p&gt;&lt;span lang=&quot;EN&quot; style=&quot;margin: 0px\; font-famil
 y: &#39;Times New Roman&#39;\,serif\; font-size: 10pt\;&quot;&gt;04:00 PM &amp;ndash\; 04:30 P
 M Session 6: Panel -- All Speakers&lt;/span&gt;&lt;/p&gt;\n&lt;p&gt;&lt;span lang=&quot;EN&quot; style=&quot;m
 argin: 0px\; line-height: 107%\; font-family: &#39;Times New Roman&#39;\,serif\; f
 ont-size: 10pt\;&quot;&gt;04:30 PM &amp;ndash\; 04:45 PM Conclusions and Final Remarks
  -- 5G Summit Organizing Committee&lt;/span&gt;&lt;/p&gt;
END:VEVENT
END:VCALENDAR

