BEGIN:VCALENDAR
VERSION:2.0
PRODID:IEEE vTools.Events//EN
CALSCALE:GREGORIAN
BEGIN:VTIMEZONE
TZID:Europe/Athens
BEGIN:DAYLIGHT
DTSTART:20240331T040000
TZOFFSETFROM:+0200
TZOFFSETTO:+0300
RRULE:FREQ=YEARLY;BYDAY=-1SU;BYMONTH=3
TZNAME:EEST
END:DAYLIGHT
BEGIN:STANDARD
DTSTART:20241027T030000
TZOFFSETFROM:+0300
TZOFFSETTO:+0200
RRULE:FREQ=YEARLY;BYDAY=-1SU;BYMONTH=10
TZNAME:EET
END:STANDARD
END:VTIMEZONE
BEGIN:VEVENT
DTSTAMP:20250130T190124Z
UID:E3EDA4FB-A78E-48C3-8B99-4BDB97DF73DC
DTSTART;TZID=Europe/Athens:20240927T160000
DTEND;TZID=Europe/Athens:20240927T220000
DESCRIPTION:During Researcher&#39;s Night 2024\, members of our team organized 
 a series of educational activities designed to introduce students aged 6-1
 8 to fundamental Computer Science concepts. These activities included crea
 ting personalized bracelets using the binary representation of the first l
 etter of each student&#39;s name and an interactive game simulating a binary s
 earch tree. Engaging and hands-on\, these activities attracted over 80 stu
 dents.\n\nAthens\, Attiki\, Greece
LOCATION:Athens\, Attiki\, Greece
ORGANIZER:cs.ntua@gmail.com
SEQUENCE:20
SUMMARY:Educational Presentation at Researcher&#39;s Night 2024
URL;VALUE=URI:https://events.vtools.ieee.org/m/465038
X-ALT-DESC:Description: &lt;br /&gt;&lt;p&gt;During Researcher&#39;s Night 2024\, members o
 f our team organized a series of educational activities designed to introd
 uce students aged 6-18 to fundamental Computer Science concepts. These act
 ivities included creating personalized bracelets using the &lt;strong&gt;binary 
 representation&lt;/strong&gt; of the first letter of each student&#39;s name and an 
 &lt;strong&gt;interactive game simulating a binary search tree&lt;/strong&gt;. Engagin
 g and hands-on\, these activities attracted over 80 students.&lt;/p&gt;
END:VEVENT
END:VCALENDAR

