BEGIN:VCALENDAR
VERSION:2.0
PRODID:IEEE vTools.Events//EN
CALSCALE:GREGORIAN
BEGIN:VTIMEZONE
TZID:Asia/Kolkata
BEGIN:STANDARD
DTSTART:19451014T230000
TZOFFSETFROM:+0630
TZOFFSETTO:+0530
TZNAME:IST
END:STANDARD
END:VTIMEZONE
BEGIN:VEVENT
DTSTAMP:20250131T104818Z
UID:F3E21E2D-62E8-4A7E-AFC2-7462F2662B07
DTSTART;TZID=Asia/Kolkata:20240306T101500
DTEND;TZID=Asia/Kolkata:20240306T131500
DESCRIPTION:This Seminar provided insights into writing Research Papers for
  IEEE Publications and utilizing IEEE xPlore efficiently.\n\nLearn best pr
 actices and submission guidelines from experts.\n\nSpeaker(s): Dhanukumar\
 , \n\nRoom: Seminar Hall\, Bldg: SAKEC\, 4th Floor\, Mumbai\, Maharashtra\
 , India\, 400088
LOCATION:Room: Seminar Hall\, Bldg: SAKEC\, 4th Floor\, Mumbai\, Maharashtr
 a\, India\, 400088
ORGANIZER:vinit_kotak@yahoo.com
SEQUENCE:28
SUMMARY:Seminar on &quot;Authoring IEEE Publications&quot;
URL;VALUE=URI:https://events.vtools.ieee.org/m/465392
X-ALT-DESC:Description: &lt;br /&gt;&lt;p&gt;This Seminar provided insights into writin
 g Research Papers for IEEE Publications and utilizing IEEE xPlore efficien
 tly.&amp;nbsp\;&lt;/p&gt;\n&lt;p&gt;Learn best practices and submission guidelines from ex
 perts.&lt;/p&gt;
END:VEVENT
END:VCALENDAR

